| Back to Multiple platform build/check report for BioC 3.9 |
|
This page was generated on 2019-04-09 12:01:22 -0400 (Tue, 09 Apr 2019).
| Package 788/1703 | Hostname | OS / Arch | INSTALL | BUILD | CHECK | BUILD BIN | ||||||
| illuminaio 0.25.0 Kasper Daniel Hansen
| malbec2 | Linux (Ubuntu 18.04.2 LTS) / x86_64 | OK | OK | OK | |||||||
| tokay2 | Windows Server 2012 R2 Standard / x64 | OK | OK | OK | [ OK ] | |||||||
| celaya2 | OS X 10.11.6 El Capitan / x86_64 | OK | OK | OK | OK | |||||||
| merida2 | OS X 10.11.6 El Capitan / x86_64 | OK | OK | OK | OK |
| Package: illuminaio |
| Version: 0.25.0 |
| Command: rm -rf illuminaio.buildbin-libdir && mkdir illuminaio.buildbin-libdir && C:\Users\biocbuild\bbs-3.9-bioc\R\bin\R.exe CMD INSTALL --merge-multiarch --build --library=illuminaio.buildbin-libdir illuminaio_0.25.0.tar.gz |
| StartedAt: 2019-04-09 08:16:23 -0400 (Tue, 09 Apr 2019) |
| EndedAt: 2019-04-09 08:17:18 -0400 (Tue, 09 Apr 2019) |
| EllapsedTime: 54.5 seconds |
| RetCode: 0 |
| Status: OK |
| PackageFile: illuminaio_0.25.0.zip |
| PackageFileSize: 311.2 KiB |
##############################################################################
##############################################################################
###
### Running command:
###
### rm -rf illuminaio.buildbin-libdir && mkdir illuminaio.buildbin-libdir && C:\Users\biocbuild\bbs-3.9-bioc\R\bin\R.exe CMD INSTALL --merge-multiarch --build --library=illuminaio.buildbin-libdir illuminaio_0.25.0.tar.gz
###
##############################################################################
##############################################################################
install for i386
* installing *source* package 'illuminaio' ...
** libs
C:/Rtools/mingw_32/bin/gcc -I"C:/Users/BIOCBU˜1/BBS-3˜1.9-B/R/include" -DNDEBUG -I"C:/extsoft/include" -O3 -Wall -std=gnu99 -mtune=generic -c 000.init.c -o 000.init.o
C:/Rtools/mingw_32/bin/gcc -I"C:/Users/BIOCBU˜1/BBS-3˜1.9-B/R/include" -DNDEBUG -I"C:/extsoft/include" -O3 -Wall -std=gnu99 -mtune=generic -c des.c -o des.o
C:/Rtools/mingw_32/bin/gcc -I"C:/Users/BIOCBU˜1/BBS-3˜1.9-B/R/include" -DNDEBUG -I"C:/extsoft/include" -O3 -Wall -std=gnu99 -mtune=generic -c local_des.c -o local_des.o
C:/Rtools/mingw_32/bin/gcc -shared -s -static-libgcc -o illuminaio.dll tmp.def 000.init.o des.o local_des.o -LC:/extsoft/lib/i386 -LC:/extsoft/lib -LC:/Users/BIOCBU˜1/BBS-3˜1.9-B/R/bin/i386 -lR
installing to C:/Users/biocbuild/bbs-3.9-bioc/meat/illuminaio.buildbin-libdir/00LOCK-illuminaio/00new/illuminaio/libs/i386
** R
** inst
** byte-compile and prepare package for lazy loading
** help
*** installing help indices
converting help for package 'illuminaio'
finding HTML links ... done
readBGX html
readBPM html
readIDAT html
** building package indices
** installing vignettes
** testing if installed package can be loaded from temporary location
** testing if installed package can be loaded from final location
** testing if installed package keeps a record of temporary installation path
install for x64
* installing *source* package 'illuminaio' ...
** libs
C:/Rtools/mingw_64/bin/gcc -I"C:/Users/BIOCBU˜1/BBS-3˜1.9-B/R/include" -DNDEBUG -I"C:/extsoft/include" -O2 -Wall -std=gnu99 -mtune=generic -c 000.init.c -o 000.init.o
C:/Rtools/mingw_64/bin/gcc -I"C:/Users/BIOCBU˜1/BBS-3˜1.9-B/R/include" -DNDEBUG -I"C:/extsoft/include" -O2 -Wall -std=gnu99 -mtune=generic -c des.c -o des.o
C:/Rtools/mingw_64/bin/gcc -I"C:/Users/BIOCBU˜1/BBS-3˜1.9-B/R/include" -DNDEBUG -I"C:/extsoft/include" -O2 -Wall -std=gnu99 -mtune=generic -c local_des.c -o local_des.o
C:/Rtools/mingw_64/bin/gcc -shared -s -static-libgcc -o illuminaio.dll tmp.def 000.init.o des.o local_des.o -LC:/extsoft/lib/x64 -LC:/extsoft/lib -LC:/Users/BIOCBU˜1/BBS-3˜1.9-B/R/bin/x64 -lR
installing to C:/Users/biocbuild/bbs-3.9-bioc/meat/illuminaio.buildbin-libdir/illuminaio/libs/x64
** testing if installed package can be loaded
* MD5 sums
packaged installation of 'illuminaio' as illuminaio_0.25.0.zip
* DONE (illuminaio)