| Back to Multiple platform build/check report for BioC 3.9 |
|
This page was generated on 2019-04-09 11:58:33 -0400 (Tue, 09 Apr 2019).
| Package 819/1703 | Hostname | OS / Arch | INSTALL | BUILD | CHECK | BUILD BIN | ||||||
| iSeq 1.35.0 Qianxing Mo
| malbec2 | Linux (Ubuntu 18.04.2 LTS) / x86_64 | OK | OK | OK | |||||||
| tokay2 | Windows Server 2012 R2 Standard / x64 | [ OK ] | OK | OK | OK | |||||||
| celaya2 | OS X 10.11.6 El Capitan / x86_64 | OK | OK | OK | OK | |||||||
| merida2 | OS X 10.11.6 El Capitan / x86_64 | OK | OK | OK | OK |
| Package: iSeq |
| Version: 1.35.0 |
| Command: C:\cygwin\bin\curl.exe -O https://malbec2.bioconductor.org/BBS/3.9/bioc/src/contrib/iSeq_1.35.0.tar.gz && rm -rf iSeq.buildbin-libdir && mkdir iSeq.buildbin-libdir && C:\Users\biocbuild\bbs-3.9-bioc\R\bin\R.exe CMD INSTALL --merge-multiarch --build --library=iSeq.buildbin-libdir iSeq_1.35.0.tar.gz && C:\Users\biocbuild\bbs-3.9-bioc\R\bin\R.exe CMD INSTALL iSeq_1.35.0.zip && rm iSeq_1.35.0.tar.gz iSeq_1.35.0.zip |
| StartedAt: 2019-04-08 18:22:40 -0400 (Mon, 08 Apr 2019) |
| EndedAt: 2019-04-08 18:25:06 -0400 (Mon, 08 Apr 2019) |
| EllapsedTime: 146.3 seconds |
| RetCode: 0 |
| Status: OK |
##############################################################################
##############################################################################
###
### Running command:
###
### C:\cygwin\bin\curl.exe -O https://malbec2.bioconductor.org/BBS/3.9/bioc/src/contrib/iSeq_1.35.0.tar.gz && rm -rf iSeq.buildbin-libdir && mkdir iSeq.buildbin-libdir && C:\Users\biocbuild\bbs-3.9-bioc\R\bin\R.exe CMD INSTALL --merge-multiarch --build --library=iSeq.buildbin-libdir iSeq_1.35.0.tar.gz && C:\Users\biocbuild\bbs-3.9-bioc\R\bin\R.exe CMD INSTALL iSeq_1.35.0.zip && rm iSeq_1.35.0.tar.gz iSeq_1.35.0.zip
###
##############################################################################
##############################################################################
% Total % Received % Xferd Average Speed Time Time Time Current
Dload Upload Total Spent Left Speed
0 0 0 0 0 0 0 0 --:--:-- --:--:-- --:--:-- 0
48 1251k 48 608k 0 0 871k 0 0:00:01 --:--:-- 0:00:01 883k
100 1251k 100 1251k 0 0 1251k 0 --:--:-- --:--:-- --:--:-- 1263k
install for i386
* installing *source* package 'iSeq' ...
** libs
C:/Rtools/mingw_32/bin/gcc -I"C:/Users/BIOCBU˜1/BBS-3˜1.9-B/R/include" -DNDEBUG -I"C:/extsoft/include" -O3 -Wall -std=gnu99 -mtune=generic -c iSeq.c -o iSeq.o
C:/Rtools/mingw_32/bin/gcc -shared -s -static-libgcc -o iSeq.dll tmp.def iSeq.o -LC:/extsoft/lib/i386 -LC:/extsoft/lib -LC:/Users/BIOCBU˜1/BBS-3˜1.9-B/R/bin/i386 -lR
installing to C:/Users/biocbuild/bbs-3.9-bioc/meat/iSeq.buildbin-libdir/00LOCK-iSeq/00new/iSeq/libs/i386
** R
** data
*** moving datasets to lazyload DB
** demo
** byte-compile and prepare package for lazy loading
** help
*** installing help indices
converting help for package 'iSeq'
finding HTML links ... done
iSeq1 html
iSeq2 html
mergetag html
nrsf html
peakreg html
plotreg html
** building package indices
** installing vignettes
** testing if installed package can be loaded from temporary location
** testing if installed package can be loaded from final location
** testing if installed package keeps a record of temporary installation path
install for x64
* installing *source* package 'iSeq' ...
** libs
C:/Rtools/mingw_64/bin/gcc -I"C:/Users/BIOCBU˜1/BBS-3˜1.9-B/R/include" -DNDEBUG -I"C:/extsoft/include" -O2 -Wall -std=gnu99 -mtune=generic -c iSeq.c -o iSeq.o
C:/Rtools/mingw_64/bin/gcc -shared -s -static-libgcc -o iSeq.dll tmp.def iSeq.o -LC:/extsoft/lib/x64 -LC:/extsoft/lib -LC:/Users/BIOCBU˜1/BBS-3˜1.9-B/R/bin/x64 -lR
installing to C:/Users/biocbuild/bbs-3.9-bioc/meat/iSeq.buildbin-libdir/iSeq/libs/x64
** testing if installed package can be loaded
* MD5 sums
packaged installation of 'iSeq' as iSeq_1.35.0.zip
* DONE (iSeq)
* installing to library 'C:/Users/biocbuild/bbs-3.9-bioc/R/library'
package 'iSeq' successfully unpacked and MD5 sums checked