| Back to Multiple platform build/check report for BioC 3.9 |
|
This page was generated on 2019-04-09 11:50:34 -0400 (Tue, 09 Apr 2019).
| Package 749/1703 | Hostname | OS / Arch | INSTALL | BUILD | CHECK | BUILD BIN | ||||||
| hipathia 1.5.0 Marta R. Hidalgo
| malbec2 | Linux (Ubuntu 18.04.2 LTS) / x86_64 | OK | OK | [ OK ] | |||||||
| tokay2 | Windows Server 2012 R2 Standard / x64 | OK | OK | OK | OK | |||||||
| celaya2 | OS X 10.11.6 El Capitan / x86_64 | OK | ERROR | skipped | skipped | |||||||
| merida2 | OS X 10.11.6 El Capitan / x86_64 | OK | OK | OK | OK |
| Package: hipathia |
| Version: 1.5.0 |
| Command: /home/biocbuild/bbs-3.9-bioc/R/bin/R CMD check --install=check:hipathia.install-out.txt --library=/home/biocbuild/bbs-3.9-bioc/R/library --no-vignettes --timings hipathia_1.5.0.tar.gz |
| StartedAt: 2019-04-09 01:14:17 -0400 (Tue, 09 Apr 2019) |
| EndedAt: 2019-04-09 01:24:08 -0400 (Tue, 09 Apr 2019) |
| EllapsedTime: 590.8 seconds |
| RetCode: 0 |
| Status: OK |
| CheckDir: hipathia.Rcheck |
| Warnings: 0 |
##############################################################################
##############################################################################
###
### Running command:
###
### /home/biocbuild/bbs-3.9-bioc/R/bin/R CMD check --install=check:hipathia.install-out.txt --library=/home/biocbuild/bbs-3.9-bioc/R/library --no-vignettes --timings hipathia_1.5.0.tar.gz
###
##############################################################################
##############################################################################
* using log directory ‘/home/biocbuild/bbs-3.9-bioc/meat/hipathia.Rcheck’
* using R Under development (unstable) (2019-03-18 r76245)
* using platform: x86_64-pc-linux-gnu (64-bit)
* using session charset: UTF-8
* using option ‘--no-vignettes’
* checking for file ‘hipathia/DESCRIPTION’ ... OK
* this is package ‘hipathia’ version ‘1.5.0’
* package encoding: UTF-8
* checking package namespace information ... OK
* checking package dependencies ... OK
* checking if this is a source package ... OK
* checking if there is a namespace ... OK
* checking for hidden files and directories ... OK
* checking for portable file names ... OK
* checking for sufficient/correct file permissions ... OK
* checking whether package ‘hipathia’ can be installed ... OK
* checking installed package size ... NOTE
installed size is 8.5Mb
sub-directories of 1Mb or more:
data 3.8Mb
extdata 4.3Mb
* checking package directory ... OK
* checking ‘build’ directory ... OK
* checking DESCRIPTION meta-information ... OK
* checking top-level files ... OK
* checking for left-over files ... OK
* checking index information ... OK
* checking package subdirectories ... OK
* checking R files for non-ASCII characters ... OK
* checking R files for syntax errors ... OK
* checking whether the package can be loaded ... OK
* checking whether the package can be loaded with stated dependencies ... OK
* checking whether the package can be unloaded cleanly ... OK
* checking whether the namespace can be loaded with stated dependencies ... OK
* checking whether the namespace can be unloaded cleanly ... OK
* checking dependencies in R code ... NOTE
There are ::: calls to the package's namespace in its code. A package
almost never needs to use ::: for its own objects:
‘load_entrez_hgnc’
* checking S3 generic/method consistency ... OK
* checking replacement functions ... OK
* checking foreign function calls ... OK
* checking R code for possible problems ... NOTE
heatmap_plot: no visible binding for global variable ‘var’
Undefined global functions or variables:
var
Consider adding
importFrom("stats", "var")
to your NAMESPACE file.
* checking Rd files ... OK
* checking Rd metadata ... OK
* checking Rd cross-references ... OK
* checking for missing documentation entries ... OK
* checking for code/documentation mismatches ... OK
* checking Rd \usage sections ... OK
* checking Rd contents ... OK
* checking for unstated dependencies in examples ... OK
* checking contents of ‘data’ directory ... OK
* checking data for non-ASCII characters ... OK
* checking data for ASCII and uncompressed saves ... OK
* checking files in ‘vignettes’ ... OK
* checking examples ... OK
Examples with CPU or elapsed time > 5s
user system elapsed
create_report 28.927 0.602 33.272
visualize_report 21.364 0.179 22.148
quantify_terms 15.307 0.148 16.146
hipathia 14.847 0.060 15.182
pathway_comparison_plot 14.626 0.063 15.021
get_pathways_list 13.962 0.103 14.341
get_pathways_annotations 13.823 0.159 14.473
node_color_per_de 13.478 0.080 13.845
load_pathways 13.381 0.080 14.019
get_pathways_summary 13.125 0.072 13.411
get_path_names 12.945 0.108 13.335
save_results 12.754 0.056 12.968
normalize_paths 11.830 0.064 12.142
normalize_data 11.266 0.072 11.661
translate_data 10.219 0.049 10.483
* checking for unstated dependencies in ‘tests’ ... OK
* checking tests ...
Running ‘testthat.R’
OK
* checking for unstated dependencies in vignettes ... OK
* checking package vignettes in ‘inst/doc’ ... OK
* checking running R code from vignettes ... SKIPPED
* checking re-building of vignette outputs ... SKIPPED
* checking PDF version of manual ... OK
* DONE
Status: 3 NOTEs
See
‘/home/biocbuild/bbs-3.9-bioc/meat/hipathia.Rcheck/00check.log’
for details.
hipathia.Rcheck/00install.out
############################################################################## ############################################################################## ### ### Running command: ### ### /home/biocbuild/bbs-3.9-bioc/R/bin/R CMD INSTALL hipathia ### ############################################################################## ############################################################################## * installing to library ‘/home/biocbuild/bbs-3.9-bioc/R/library’ * installing *source* package ‘hipathia’ ... ** using staged installation ** R ** data *** moving datasets to lazyload DB ** inst ** byte-compile and prepare package for lazy loading ** help *** installing help indices ** building package indices ** installing vignettes ** testing if installed package can be loaded from temporary location ** testing if installed package can be loaded from final location ** testing if installed package keeps a record of temporary installation path * DONE (hipathia)
hipathia.Rcheck/tests/testthat.Rout
R Under development (unstable) (2019-03-18 r76245) -- "Unsuffered Consequences"
Copyright (C) 2019 The R Foundation for Statistical Computing
Platform: x86_64-pc-linux-gnu (64-bit)
R is free software and comes with ABSOLUTELY NO WARRANTY.
You are welcome to redistribute it under certain conditions.
Type 'license()' or 'licence()' for distribution details.
R is a collaborative project with many contributors.
Type 'contributors()' for more information and
'citation()' on how to cite R or R packages in publications.
Type 'demo()' for some demos, 'help()' for on-line help, or
'help.start()' for an HTML browser interface to help.
Type 'q()' to quit R.
> library(testthat)
> library(hipathia)
Loading required package: igraph
Attaching package: 'igraph'
The following object is masked from 'package:testthat':
compare
The following objects are masked from 'package:stats':
decompose, spectrum
The following object is masked from 'package:base':
union
Loading required package: AnnotationHub
Loading required package: BiocGenerics
Loading required package: parallel
Attaching package: 'BiocGenerics'
The following objects are masked from 'package:parallel':
clusterApply, clusterApplyLB, clusterCall, clusterEvalQ,
clusterExport, clusterMap, parApply, parCapply, parLapply,
parLapplyLB, parRapply, parSapply, parSapplyLB
The following objects are masked from 'package:igraph':
normalize, path, union
The following objects are masked from 'package:stats':
IQR, mad, sd, var, xtabs
The following objects are masked from 'package:base':
Filter, Find, Map, Position, Reduce, anyDuplicated, append,
as.data.frame, basename, cbind, colMeans, colSums, colnames,
dirname, do.call, duplicated, eval, evalq, get, grep, grepl,
intersect, is.unsorted, lapply, mapply, match, mget, order, paste,
pmax, pmax.int, pmin, pmin.int, rank, rbind, rowMeans, rowSums,
rownames, sapply, setdiff, sort, table, tapply, union, unique,
unsplit, which, which.max, which.min
Loading required package: BiocFileCache
Loading required package: dbplyr
Loading required package: MultiAssayExperiment
Loading required package: SummarizedExperiment
Loading required package: GenomicRanges
Loading required package: stats4
Loading required package: S4Vectors
Attaching package: 'S4Vectors'
The following object is masked from 'package:base':
expand.grid
Loading required package: IRanges
Loading required package: GenomeInfoDb
Loading required package: Biobase
Welcome to Bioconductor
Vignettes contain introductory material; view with
'browseVignettes()'. To cite Bioconductor, see
'citation("Biobase")', and for packages 'citation("pkgname")'.
Attaching package: 'Biobase'
The following object is masked from 'package:AnnotationHub':
cache
Loading required package: DelayedArray
Loading required package: matrixStats
Attaching package: 'matrixStats'
The following objects are masked from 'package:Biobase':
anyMissing, rowMedians
Loading required package: BiocParallel
Attaching package: 'DelayedArray'
The following objects are masked from 'package:matrixStats':
colMaxs, colMins, colRanges, rowMaxs, rowMins, rowRanges
The following object is masked from 'package:igraph':
simplify
The following objects are masked from 'package:base':
aperm, apply, rowsum
>
> test_check("hipathia")
HiPathia processing...
hsa03320 - PPAR signaling pathway
hsa04012 - ErbB signaling pathway
HiPathia processing...
hsa03320 - PPAR signaling pathway
hsa04012 - ErbB signaling pathway
translated ids = 3184 (1)
untranslated ids = 3 (0.00094)
multihit ids = 0 (0)
══ testthat results ═══════════════════════════════════════════════════════════
OK: 118 SKIPPED: 0 FAILED: 0
>
> proc.time()
user system elapsed
157.073 1.778 163.133
hipathia.Rcheck/hipathia-Ex.timings
| name | user | system | elapsed | |
| create_report | 28.927 | 0.602 | 33.272 | |
| do_pca | 0.008 | 0.000 | 0.008 | |
| do_wilcoxon | 0.096 | 0.000 | 0.096 | |
| get_path_names | 12.945 | 0.108 | 13.335 | |
| get_paths_data | 0.011 | 0.000 | 0.011 | |
| get_pathways_annotations | 13.823 | 0.159 | 14.473 | |
| get_pathways_list | 13.962 | 0.103 | 14.341 | |
| get_pathways_summary | 13.125 | 0.072 | 13.411 | |
| heatmap_plot | 0.258 | 0.004 | 0.265 | |
| hhead | 0.001 | 0.000 | 0.002 | |
| hipathia | 14.847 | 0.060 | 15.182 | |
| load_pathways | 13.381 | 0.080 | 14.019 | |
| multiple_pca_plot | 0.02 | 0.00 | 0.02 | |
| node_color_per_de | 13.478 | 0.080 | 13.845 | |
| normalize_data | 11.266 | 0.072 | 11.661 | |
| normalize_paths | 11.830 | 0.064 | 12.142 | |
| paths_to_go_ancestor | 0.204 | 0.000 | 0.204 | |
| pathway_comparison_plot | 14.626 | 0.063 | 15.021 | |
| pca_plot | 0.009 | 0.000 | 0.009 | |
| quantify_terms | 15.307 | 0.148 | 16.146 | |
| save_results | 12.754 | 0.056 | 12.968 | |
| top_pathways | 0.009 | 0.004 | 0.013 | |
| translate_data | 10.219 | 0.049 | 10.483 | |
| visualize_report | 21.364 | 0.179 | 22.148 | |