| Back to Multiple platform build/check report for BioC 3.9 |
|
This page was generated on 2019-04-09 12:28:21 -0400 (Tue, 09 Apr 2019).
| Package 599/1703 | Hostname | OS / Arch | INSTALL | BUILD | CHECK | BUILD BIN | ||||||
| gcapc 1.7.0 Mingxiang Teng
| malbec2 | Linux (Ubuntu 18.04.2 LTS) / x86_64 | OK | OK | OK | |||||||
| tokay2 | Windows Server 2012 R2 Standard / x64 | [ OK ] | OK | WARNINGS | OK | |||||||
| celaya2 | OS X 10.11.6 El Capitan / x86_64 | OK | OK | OK | OK | |||||||
| merida2 | OS X 10.11.6 El Capitan / x86_64 | OK | OK | OK | OK |
| Package: gcapc |
| Version: 1.7.0 |
| Command: C:\cygwin\bin\curl.exe -O https://malbec2.bioconductor.org/BBS/3.9/bioc/src/contrib/gcapc_1.7.0.tar.gz && rm -rf gcapc.buildbin-libdir && mkdir gcapc.buildbin-libdir && C:\Users\biocbuild\bbs-3.9-bioc\R\bin\R.exe CMD INSTALL --merge-multiarch --build --library=gcapc.buildbin-libdir gcapc_1.7.0.tar.gz && C:\Users\biocbuild\bbs-3.9-bioc\R\bin\R.exe CMD INSTALL gcapc_1.7.0.zip && rm gcapc_1.7.0.tar.gz gcapc_1.7.0.zip |
| StartedAt: 2019-04-08 20:18:08 -0400 (Mon, 08 Apr 2019) |
| EndedAt: 2019-04-08 20:19:02 -0400 (Mon, 08 Apr 2019) |
| EllapsedTime: 54.1 seconds |
| RetCode: 0 |
| Status: OK |
##############################################################################
##############################################################################
###
### Running command:
###
### C:\cygwin\bin\curl.exe -O https://malbec2.bioconductor.org/BBS/3.9/bioc/src/contrib/gcapc_1.7.0.tar.gz && rm -rf gcapc.buildbin-libdir && mkdir gcapc.buildbin-libdir && C:\Users\biocbuild\bbs-3.9-bioc\R\bin\R.exe CMD INSTALL --merge-multiarch --build --library=gcapc.buildbin-libdir gcapc_1.7.0.tar.gz && C:\Users\biocbuild\bbs-3.9-bioc\R\bin\R.exe CMD INSTALL gcapc_1.7.0.zip && rm gcapc_1.7.0.tar.gz gcapc_1.7.0.zip
###
##############################################################################
##############################################################################
% Total % Received % Xferd Average Speed Time Time Time Current
Dload Upload Total Spent Left Speed
0 0 0 0 0 0 0 0 --:--:-- --:--:-- --:--:-- 0
100 3420k 100 3420k 0 0 37.3M 0 --:--:-- --:--:-- --:--:-- 40.2M
install for i386
* installing *source* package 'gcapc' ...
** R
** inst
** byte-compile and prepare package for lazy loading
** help
*** installing help indices
converting help for package 'gcapc'
finding HTML links ... done
bindWidth html
gcEffects html
Rd warning: C:/Users/biocbuild/bbs-3.9-bioc/tmpdir/RtmpcrvJlD/R.INSTALL222c69da4e31/gcapc/man/gcEffects.Rd:92: file link 'BSgenome' in package 'BSgenome' does not exist and so has been treated as a topic
Rd warning: C:/Users/biocbuild/bbs-3.9-bioc/tmpdir/RtmpcrvJlD/R.INSTALL222c69da4e31/gcapc/man/gcEffects.Rd:95: file link 'getBSgenome' in package 'BSgenome' does not exist and so has been treated as a topic
Rd warning: C:/Users/biocbuild/bbs-3.9-bioc/tmpdir/RtmpcrvJlD/R.INSTALL222c69da4e31/gcapc/man/gcEffects.Rd:97: file link 'getBSgenome' in package 'BSgenome' does not exist and so has been treated as a topic
gcapcPeaks html
Rd warning: C:/Users/biocbuild/bbs-3.9-bioc/tmpdir/RtmpcrvJlD/R.INSTALL222c69da4e31/gcapc/man/gcapcPeaks.Rd:47: file link 'BSgenome' in package 'BSgenome' does not exist and so has been treated as a topic
Rd warning: C:/Users/biocbuild/bbs-3.9-bioc/tmpdir/RtmpcrvJlD/R.INSTALL222c69da4e31/gcapc/man/gcapcPeaks.Rd:50: file link 'getBSgenome' in package 'BSgenome' does not exist and so has been treated as a topic
Rd warning: C:/Users/biocbuild/bbs-3.9-bioc/tmpdir/RtmpcrvJlD/R.INSTALL222c69da4e31/gcapc/man/gcapcPeaks.Rd:52: file link 'getBSgenome' in package 'BSgenome' does not exist and so has been treated as a topic
peaksCAT html
read5endCoverage html
refinePeaks html
Rd warning: C:/Users/biocbuild/bbs-3.9-bioc/tmpdir/RtmpcrvJlD/R.INSTALL222c69da4e31/gcapc/man/refinePeaks.Rd:42: file link 'BSgenome' in package 'BSgenome' does not exist and so has been treated as a topic
Rd warning: C:/Users/biocbuild/bbs-3.9-bioc/tmpdir/RtmpcrvJlD/R.INSTALL222c69da4e31/gcapc/man/refinePeaks.Rd:45: file link 'getBSgenome' in package 'BSgenome' does not exist and so has been treated as a topic
Rd warning: C:/Users/biocbuild/bbs-3.9-bioc/tmpdir/RtmpcrvJlD/R.INSTALL222c69da4e31/gcapc/man/refinePeaks.Rd:47: file link 'getBSgenome' in package 'BSgenome' does not exist and so has been treated as a topic
refineSites html
Rd warning: C:/Users/biocbuild/bbs-3.9-bioc/tmpdir/RtmpcrvJlD/R.INSTALL222c69da4e31/gcapc/man/refineSites.Rd:93: file link 'BSgenome' in package 'BSgenome' does not exist and so has been treated as a topic
Rd warning: C:/Users/biocbuild/bbs-3.9-bioc/tmpdir/RtmpcrvJlD/R.INSTALL222c69da4e31/gcapc/man/refineSites.Rd:96: file link 'getBSgenome' in package 'BSgenome' does not exist and so has been treated as a topic
Rd warning: C:/Users/biocbuild/bbs-3.9-bioc/tmpdir/RtmpcrvJlD/R.INSTALL222c69da4e31/gcapc/man/refineSites.Rd:98: file link 'getBSgenome' in package 'BSgenome' does not exist and so has been treated as a topic
** building package indices
** installing vignettes
** testing if installed package can be loaded from temporary location
** testing if installed package can be loaded from final location
** testing if installed package keeps a record of temporary installation path
install for x64
* installing *source* package 'gcapc' ...
** testing if installed package can be loaded
* MD5 sums
packaged installation of 'gcapc' as gcapc_1.7.0.zip
* DONE (gcapc)
* installing to library 'C:/Users/biocbuild/bbs-3.9-bioc/R/library'
package 'gcapc' successfully unpacked and MD5 sums checked