| Back to Multiple platform build/check report for BioC 3.9 |
|
This page was generated on 2019-04-09 12:25:46 -0400 (Tue, 09 Apr 2019).
| Package 596/1703 | Hostname | OS / Arch | INSTALL | BUILD | CHECK | BUILD BIN | ||||||
| garfield 1.11.0 Valentina Iotchkova
| malbec2 | Linux (Ubuntu 18.04.2 LTS) / x86_64 | OK | OK | OK | |||||||
| tokay2 | Windows Server 2012 R2 Standard / x64 | [ OK ] | OK | OK | OK | |||||||
| celaya2 | OS X 10.11.6 El Capitan / x86_64 | OK | OK | OK | OK | |||||||
| merida2 | OS X 10.11.6 El Capitan / x86_64 | OK | OK | OK | OK |
| Package: garfield |
| Version: 1.11.0 |
| Command: C:\cygwin\bin\curl.exe -O https://malbec2.bioconductor.org/BBS/3.9/bioc/src/contrib/garfield_1.11.0.tar.gz && rm -rf garfield.buildbin-libdir && mkdir garfield.buildbin-libdir && C:\Users\biocbuild\bbs-3.9-bioc\R\bin\R.exe CMD INSTALL --merge-multiarch --build --library=garfield.buildbin-libdir garfield_1.11.0.tar.gz && C:\Users\biocbuild\bbs-3.9-bioc\R\bin\R.exe CMD INSTALL garfield_1.11.0.zip && rm garfield_1.11.0.tar.gz garfield_1.11.0.zip |
| StartedAt: 2019-04-08 18:24:00 -0400 (Mon, 08 Apr 2019) |
| EndedAt: 2019-04-08 18:25:00 -0400 (Mon, 08 Apr 2019) |
| EllapsedTime: 59.7 seconds |
| RetCode: 0 |
| Status: OK |
##############################################################################
##############################################################################
###
### Running command:
###
### C:\cygwin\bin\curl.exe -O https://malbec2.bioconductor.org/BBS/3.9/bioc/src/contrib/garfield_1.11.0.tar.gz && rm -rf garfield.buildbin-libdir && mkdir garfield.buildbin-libdir && C:\Users\biocbuild\bbs-3.9-bioc\R\bin\R.exe CMD INSTALL --merge-multiarch --build --library=garfield.buildbin-libdir garfield_1.11.0.tar.gz && C:\Users\biocbuild\bbs-3.9-bioc\R\bin\R.exe CMD INSTALL garfield_1.11.0.zip && rm garfield_1.11.0.tar.gz garfield_1.11.0.zip
###
##############################################################################
##############################################################################
% Total % Received % Xferd Average Speed Time Time Time Current
Dload Upload Total Spent Left Speed
0 0 0 0 0 0 0 0 --:--:-- --:--:-- --:--:-- 0
100 223k 100 223k 0 0 3914k 0 --:--:-- --:--:-- --:--:-- 4470k
install for i386
* installing *source* package 'garfield' ...
** libs
C:/Rtools/mingw_32/bin/gcc -I"C:/Users/BIOCBU˜1/BBS-3˜1.9-B/R/include" -DNDEBUG -I"C:/extsoft/include" -O3 -Wall -std=gnu99 -mtune=generic -c garfield_init.c -o garfield_init.o
C:/Rtools/mingw_32/bin/g++ -I"C:/Users/BIOCBU˜1/BBS-3˜1.9-B/R/include" -DNDEBUG -I"C:/extsoft/include" -O2 -Wall -mtune=generic -c garfield_perm.cpp -o garfield_perm.o
C:/Rtools/mingw_32/bin/g++ -I"C:/Users/BIOCBU˜1/BBS-3˜1.9-B/R/include" -DNDEBUG -I"C:/extsoft/include" -O2 -Wall -mtune=generic -c garfield_prep.cpp -o garfield_prep.o
C:/Rtools/mingw_32/bin/g++ -shared -s -static-libgcc -o garfield.dll tmp.def garfield_init.o garfield_perm.o garfield_prep.o -LC:/extsoft/lib/i386 -LC:/extsoft/lib -LC:/Users/BIOCBU˜1/BBS-3˜1.9-B/R/bin/i386 -lR
installing to C:/Users/biocbuild/bbs-3.9-bioc/meat/garfield.buildbin-libdir/00LOCK-garfield/00new/garfield/libs/i386
** R
** inst
** byte-compile and prepare package for lazy loading
** help
*** installing help indices
converting help for package 'garfield'
finding HTML links ... done
garfield-package html
garfield.plot html
garfield.plot.fnx html
garfield.run html
** building package indices
** installing vignettes
** testing if installed package can be loaded from temporary location
** testing if installed package can be loaded from final location
** testing if installed package keeps a record of temporary installation path
install for x64
* installing *source* package 'garfield' ...
** libs
C:/Rtools/mingw_64/bin/gcc -I"C:/Users/BIOCBU˜1/BBS-3˜1.9-B/R/include" -DNDEBUG -I"C:/extsoft/include" -O2 -Wall -std=gnu99 -mtune=generic -c garfield_init.c -o garfield_init.o
C:/Rtools/mingw_64/bin/g++ -I"C:/Users/BIOCBU˜1/BBS-3˜1.9-B/R/include" -DNDEBUG -I"C:/extsoft/include" -O2 -Wall -mtune=generic -c garfield_perm.cpp -o garfield_perm.o
C:/Rtools/mingw_64/bin/g++ -I"C:/Users/BIOCBU˜1/BBS-3˜1.9-B/R/include" -DNDEBUG -I"C:/extsoft/include" -O2 -Wall -mtune=generic -c garfield_prep.cpp -o garfield_prep.o
C:/Rtools/mingw_64/bin/g++ -shared -s -static-libgcc -o garfield.dll tmp.def garfield_init.o garfield_perm.o garfield_prep.o -LC:/extsoft/lib/x64 -LC:/extsoft/lib -LC:/Users/BIOCBU˜1/BBS-3˜1.9-B/R/bin/x64 -lR
installing to C:/Users/biocbuild/bbs-3.9-bioc/meat/garfield.buildbin-libdir/garfield/libs/x64
** testing if installed package can be loaded
* MD5 sums
packaged installation of 'garfield' as garfield_1.11.0.zip
* DONE (garfield)
* installing to library 'C:/Users/biocbuild/bbs-3.9-bioc/R/library'
package 'garfield' successfully unpacked and MD5 sums checked