| Back to Multiple platform build/check report for BioC 3.9 |
|
This page was generated on 2019-04-09 11:40:42 -0400 (Tue, 09 Apr 2019).
| Package 699/1703 | Hostname | OS / Arch | INSTALL | BUILD | CHECK | BUILD BIN | ||||||
| gQTLstats 1.15.1 VJ Carey
| malbec2 | Linux (Ubuntu 18.04.2 LTS) / x86_64 | OK | OK | [ OK ] | |||||||
| tokay2 | Windows Server 2012 R2 Standard / x64 | OK | ERROR | skipped | skipped | |||||||
| celaya2 | OS X 10.11.6 El Capitan / x86_64 | OK | OK | OK | OK | |||||||
| merida2 | OS X 10.11.6 El Capitan / x86_64 | OK | OK | OK | OK |
| Package: gQTLstats |
| Version: 1.15.1 |
| Command: /home/biocbuild/bbs-3.9-bioc/R/bin/R CMD check --install=check:gQTLstats.install-out.txt --library=/home/biocbuild/bbs-3.9-bioc/R/library --no-vignettes --timings gQTLstats_1.15.1.tar.gz |
| StartedAt: 2019-04-09 01:01:12 -0400 (Tue, 09 Apr 2019) |
| EndedAt: 2019-04-09 01:18:06 -0400 (Tue, 09 Apr 2019) |
| EllapsedTime: 1014.0 seconds |
| RetCode: 0 |
| Status: OK |
| CheckDir: gQTLstats.Rcheck |
| Warnings: 0 |
##############################################################################
##############################################################################
###
### Running command:
###
### /home/biocbuild/bbs-3.9-bioc/R/bin/R CMD check --install=check:gQTLstats.install-out.txt --library=/home/biocbuild/bbs-3.9-bioc/R/library --no-vignettes --timings gQTLstats_1.15.1.tar.gz
###
##############################################################################
##############################################################################
* using log directory ‘/home/biocbuild/bbs-3.9-bioc/meat/gQTLstats.Rcheck’
* using R Under development (unstable) (2019-03-18 r76245)
* using platform: x86_64-pc-linux-gnu (64-bit)
* using session charset: UTF-8
* using option ‘--no-vignettes’
* checking for file ‘gQTLstats/DESCRIPTION’ ... OK
* this is package ‘gQTLstats’ version ‘1.15.1’
* checking package namespace information ... OK
* checking package dependencies ... OK
* checking if this is a source package ... OK
* checking if there is a namespace ... OK
* checking for hidden files and directories ... OK
* checking for portable file names ... OK
* checking for sufficient/correct file permissions ... OK
* checking whether package ‘gQTLstats’ can be installed ... OK
* checking installed package size ... NOTE
installed size is 64.8Mb
sub-directories of 1Mb or more:
data 11.0Mb
registries 18.9Mb
vcf 33.8Mb
* checking package directory ... OK
* checking ‘build’ directory ... OK
* checking DESCRIPTION meta-information ... OK
* checking top-level files ... OK
* checking for left-over files ... OK
* checking index information ... OK
* checking package subdirectories ... OK
* checking R files for non-ASCII characters ... OK
* checking R files for syntax errors ... OK
* checking whether the package can be loaded ... OK
* checking whether the package can be loaded with stated dependencies ... OK
* checking whether the package can be unloaded cleanly ... OK
* checking whether the namespace can be loaded with stated dependencies ... OK
* checking whether the namespace can be unloaded cleanly ... OK
* checking dependencies in R code ... OK
* checking S3 generic/method consistency ... OK
* checking replacement functions ... OK
* checking foreign function calls ... OK
* checking R code for possible problems ... NOTE
TransStore: no visible binding for global variable ‘i’
TransStore : <anonymous>: no visible binding for global variable ‘i’
cisAssoc: no visible global function definition for ‘DNAStringSetList’
cisCount: no visible global function definition for ‘DNAStringSetList’
cisEsts: no visible global function definition for ‘DNAStringSetList’
eqBox4: no visible binding for global variable ‘gt’
eqBox4: no visible binding for global variable ‘ex’
eqBox4: no visible binding for global variable ‘id’
eqBox4: no visible global function definition for ‘geom_boxplot’
gQTLs: no visible binding for global variable ‘ch’
gmod2: no visible binding for global variable ‘exonsBy’
gmod2: no visible global function definition for ‘TxDb’
manhWngr: no visible binding for global variable ‘ml10fdr’
maxByFeature: no visible binding for global variable ‘snp’
maxByFeature: no visible binding for global variable ‘chisq’
maxByFeature: no visible binding for global variable ‘probeid’
maxByProbeOLD: no visible binding for global variable ‘snp’
maxByProbeOLD: no visible binding for global variable ‘probeid’
maxByProbeOLD: no visible binding for global variable ‘chisq’
maxByProbeOLD: no visible binding for global variable ‘permScore_1’
maxByProbeOLD: no visible binding for global variable ‘permScore_2’
maxByProbeOLD: no visible binding for global variable ‘permScore_3’
plot.senstab: no visible binding for global variable ‘MAF’
plot.senstab: no visible binding for global variable ‘value’
plot.senstab: no visible binding for global variable ‘criterion’
plot.table.sensobj: no visible binding for global variable ‘maf’
plot.table.sensobj: no visible binding for global variable ‘calls’
prep.cisAssocNB: no visible global function definition for
‘DNAStringSetList’
setFDRfunc: no visible binding for global variable ‘assoc’
storeToHist: no visible binding for global variable ‘x’
storeToMaxAssocBySNP: no visible binding for global variable ‘snp’
storeToMaxAssocBySNP: no visible binding for global variable ‘chisq’
storeToMaxAssocBySNP: no visible binding for global variable
‘permScore_1’
storeToMaxAssocBySNP: no visible binding for global variable
‘permScore_2’
storeToMaxAssocBySNP: no visible binding for global variable
‘permScore_3’
storeToMaxAssocBySNP: no visible global function definition for ‘nth’
storeToMaxAssocBySNP: no visible binding for global variable ‘MAF’
storeToMaxAssocBySNP: no visible binding for global variable ‘probeid’
storeToMaxAssocBySNP: no visible binding for global variable ‘mindist’
tqbrowser: no visible global function definition for ‘experiments’
tqbrowser : server: no visible global function definition for
‘experiments’
tqbrowser : server: no visible global function definition for
‘TabixFile’
tqbrowser : server: no visible binding for global variable ‘assoc’
tqbrowser : server: no visible binding for global variable ‘stateid’
tqbrowser : server: no visible binding for global variable ‘state’
transTable: no visible binding for global variable ‘i’
tsByRank_sing: no visible binding for global variable ‘i’
tsByRank_sing : <anonymous>: no visible binding for global variable ‘i’
boxswarm,SnpToGeneQTL: no visible binding for global variable ‘g1’
Undefined global functions or variables:
DNAStringSetList MAF TabixFile TxDb assoc calls ch chisq criterion ex
exonsBy experiments g1 geom_boxplot gt i id maf mindist ml10fdr nth
permScore_1 permScore_2 permScore_3 probeid snp state stateid value x
* checking Rd files ... OK
* checking Rd metadata ... OK
* checking Rd cross-references ... OK
* checking for missing documentation entries ... OK
* checking for code/documentation mismatches ... OK
* checking Rd \usage sections ... OK
* checking Rd contents ... OK
* checking for unstated dependencies in examples ... OK
* checking contents of ‘data’ directory ... NOTE
Output for data("bigfiltFDR", package = "gQTLstats"):
<environment: 0x55a8c3b33d80>
assoc
FDRmodel
[1]
[2]
[3]
[4]
[1]
[2]
[3]
[4]
[5]
[6]
[7]
[8]
[9]
[10]
[11]
[5]
[6]
[7]
[8]
[9]
[10]
[11]
[12]
[13]
[14]
[15]
[16]
[17]
[18]
[19]
[20]
[21]
[22]
[23]
[24]
[25]
[1]
[2]
[3]
[4]
[5]
[6]
[7]
[26]
[27]
[28]
[29]
[30]
[31]
[32]
[1]
[33]
[34]
[1]
[35]
[36]
[1]
[2]
[37]
[1]
[2]
[3]
[4]
[5]
[6]
[7]
[8]
[9]
[10]
[11]
[12]
[13]
[14]
[15]
[16]
[38]
[39]
[40]
[41]
[42]
[43]
[44]
[45]
[46]
formula
data
subset
names
class
theCall
store
xprobs
filter
sessinfo
[1]
[1]
[2]
[3]
[4]
[5]
[6]
[7]
[8]
[9]
[10]
[11]
[12]
[13]
[14]
[2]
[3]
[4]
[5]
[1]
[2]
[3]
[4]
[5]
[6]
[7]
[8]
[9]
[10]
[11]
[12]
[13]
[14]
[6]
[1]
[2]
[3]
[4]
[5]
[6]
[7]
[8]
[9]
[10]
[11]
[12]
[13]
[14]
[15]
[16]
[17]
[18]
[19]
[20]
[21]
[22]
[23]
[24]
[25]
[26]
[27]
[28]
[29]
[30]
[31]
[32]
[33]
[34]
[35]
[36]
[37]
[38]
[39]
[40]
[41]
[42]
[43]
[44]
[45]
[46]
[47]
[48]
[49]
[50]
[51]
[52]
[53]
[54]
[55]
[56]
[57]
[58]
[59]
[60]
[61]
[62]
[63]
[64]
[65]
[66]
[67]
[68]
[69]
[70]
[71]
[72]
[73]
[74]
[75]
[76]
[77]
[78]
[79]
[80]
[81]
names
class
filterUsed
<environment: R_GlobalEnv>
x
class
package
Output for data("bigrawFDR", package = "gQTLstats"):
<environment: 0x557b041d0d80>
assoc
FDRmodel
[1]
[2]
[3]
[4]
[1]
[2]
[3]
[4]
[5]
[6]
[7]
[8]
[9]
[10]
[11]
[5]
[6]
[7]
[8]
[9]
[10]
[11]
[12]
[13]
[14]
[15]
[16]
[17]
[18]
[19]
[20]
[21]
[22]
[23]
[24]
[25]
[1]
[2]
[3]
[4]
[5]
[6]
[7]
[26]
[27]
[28]
[29]
[30]
[31]
[32]
[1]
[33]
[34]
[1]
[35]
[36]
[1]
[2]
[37]
[1]
[2]
[3]
[4]
[5]
[6]
[7]
[8]
[9]
[10]
[11]
[12]
[13]
[14]
[15]
[16]
[38]
[39]
[40]
[41]
[42]
[43]
[44]
[45]
[46]
formula
data
subset
names
class
theCall
store
xprobs
sessinfo
[1]
[1]
[2]
[3]
[4]
[5]
[6]
[7]
[8]
[9]
[10]
[11]
[12]
[13]
[14]
[2]
[3]
[4]
[5]
[1]
[2]
[3]
[4]
[5]
[6]
[7]
[8]
[9]
[10]
[11]
[12]
[13]
[14]
[6]
[1]
[2]
[3]
[4]
[5]
[6]
[7]
[8]
[9]
[10]
[11]
[12]
[13]
[14]
[15]
[16]
[17]
[18]
[19]
[20]
[21]
[22]
[23]
[24]
[25]
[26]
[27]
[28]
[29]
[30]
[31]
[32]
[33]
[34]
[35]
[36]
[37]
[38]
[39]
[40]
[41]
[42]
[43]
[44]
[45]
[46]
[47]
[48]
[49]
[50]
[51]
[52]
[53]
[54]
[55]
[56]
[57]
[58]
[59]
[60]
[61]
[62]
[63]
[64]
[65]
[66]
[67]
[68]
[69]
[70]
[71]
[72]
[73]
[74]
[75]
[76]
[77]
[78]
[79]
[80]
[81]
names
class
filterUsed
<environment: namespace:base>
x
class
package
Output for data("filtFDR", package = "gQTLstats"):
<environment: 0x55c081513aa8>
assoc
FDRmodel
[1]
[2]
[3]
[4]
[1]
[2]
[3]
[4]
[5]
[6]
[7]
[8]
[9]
[10]
[11]
[5]
[6]
[7]
[8]
[9]
[10]
[11]
[12]
[13]
[14]
[15]
[16]
[17]
[18]
[19]
[20]
[21]
[22]
[23]
[24]
[25]
[1]
[2]
[3]
[4]
[5]
[6]
[7]
[26]
[27]
[28]
[29]
[30]
[31]
[32]
[1]
[33]
[34]
[1]
[35]
[36]
[1]
[2]
[37]
[1]
[2]
[3]
[4]
[5]
[6]
[7]
[8]
[9]
[10]
[11]
[12]
[13]
[14]
[15]
[16]
[38]
[39]
[40]
[41]
[42]
[43]
[44]
[45]
[46]
formula
data
subset
names
class
theCall
store
xprobs
filter
sessinfo
[1]
[1]
[2]
[3]
[4]
[5]
[6]
[7]
[8]
[9]
[10]
[11]
[12]
[13]
[14]
[2]
[3]
[4]
[5]
[1]
[2]
[3]
[4]
[5]
[6]
[7]
[8]
[9]
[10]
[11]
[12]
[13]
[14]
[15]
[16]
[17]
[6]
[1]
[2]
[3]
[4]
[5]
[6]
[7]
[8]
[9]
[10]
[11]
[12]
[13]
[14]
[15]
[16]
[17]
[18]
[19]
[20]
[21]
[22]
[23]
[24]
[25]
[26]
[27]
[28]
[29]
[30]
[31]
[32]
[33]
[34]
[35]
[36]
[37]
[38]
[39]
[40]
[41]
[42]
names
class
filterUsed
srcref
<environment: 0x55c0985e20b0>
x
class
package
Output for data("rawFDR", package = "gQTLstats"):
<environment: 0x563823ca3aa8>
assoc
FDRmodel
[1]
[2]
[3]
[4]
[1]
[2]
[3]
[4]
[5]
[6]
[7]
[8]
[9]
[10]
[11]
[5]
[6]
[7]
[8]
[9]
[10]
[11]
[12]
[13]
[14]
[15]
[16]
[17]
[18]
[19]
[20]
[21]
[22]
[23]
[24]
[25]
[1]
[2]
[3]
[4]
[5]
[6]
[7]
[26]
[27]
[28]
[29]
[30]
[31]
[32]
[1]
[33]
[34]
[1]
[35]
[36]
[1]
[2]
[37]
[1]
[2]
[3]
[4]
[5]
[6]
[7]
[8]
[9]
[10]
[11]
[12]
[13]
[14]
[15]
[16]
[38]
[39]
[40]
[41]
[42]
[43]
[44]
[45]
[46]
formula
data
subset
names
class
theCall
store
xprobs
sessinfo
[1]
[1]
[2]
[3]
[4]
[5]
[6]
[7]
[8]
[9]
[10]
[11]
[12]
[13]
[14]
[2]
[3]
[4]
[5]
[6]
[1]
[2]
[3]
[4]
[5]
[6]
[7]
[8]
[9]
[10]
[11]
[12]
[13]
[14]
[15]
[16]
[17]
[18]
[19]
[20]
[21]
[22]
[23]
[24]
[25]
[26]
[7]
[1]
[2]
[3]
[4]
[5]
[6]
[7]
[8]
[9]
[10]
[11]
[12]
[13]
[14]
[15]
[16]
[17]
[18]
[19]
[20]
[21]
[22]
[23]
[24]
[25]
[26]
[27]
[28]
[29]
[30]
[31]
[32]
[33]
[34]
[35]
[36]
[37]
[38]
[39]
[40]
[41]
[42]
[43]
[44]
[45]
[46]
[47]
[48]
[49]
[50]
[51]
[52]
[53]
names
class
filterUsed
<environment: namespace:base>
x
class
package
Output for data("sensByProbe", package = "gQTLstats"):
<environment: 0x555d4fe3ed80>
assoc
FDRmodel
[1]
[1]
[2]
[3]
[4]
[5]
[6]
[7]
[8]
[9]
[1]
[2]
[3]
[4]
[5]
[10]
[11]
[12]
[13]
[14]
[15]
[16]
[17]
[1]
[2]
[3]
[4]
[5]
[6]
[7]
[8]
[9]
[10]
[11]
[18]
[19]
[20]
[21]
[22]
[23]
[24]
[25]
[26]
formula
data
[27]
[28]
[29]
[1]
[2]
[3]
[4]
[30]
[31]
[1]
[2]
[3]
[4]
[5]
[32]
[33]
[34]
names
class
theCall
dfr
xprobs
xfield
filter
sessinfo
[1]
[1]
[2]
[3]
[4]
[5]
[6]
[7]
[8]
[9]
[10]
[11]
[12]
[13]
[14]
[2]
[3]
[4]
[5]
[1]
[2]
[3]
[4]
[5]
[6]
[6]
[1]
[2]
[3]
[4]
[5]
[6]
[7]
[8]
[9]
[10]
[11]
[12]
[13]
[14]
[15]
[16]
[17]
[18]
[19]
[20]
[21]
[22]
[23]
[24]
[25]
[26]
[27]
[28]
[29]
[30]
[31]
[32]
[33]
[34]
[35]
[36]
[37]
[38]
[39]
[40]
[41]
[42]
[43]
[44]
[45]
[46]
[47]
[48]
[49]
[50]
[51]
[52]
[53]
[54]
[55]
[56]
[57]
[58]
[59]
names
class
filterUsed
<environment: namespace:base>
x
class
package
[2]
[1]
[2]
names
out.attrs
[1]
[2]
[1]
[2]
names
row.names
class
names
[2]
[1]
tab
[1]
[2]
[3]
[4]
names
row.names
class
FDRfunc
<environment: 0x555d67571470>
assoc
FDRmodel
[1]
[1]
[2]
[3]
[4]
[5]
[6]
[7]
[8]
[9]
[1]
[2]
[3]
[4]
[5]
[10]
[11]
[12]
[13]
[14]
[15]
[16]
[17]
[1]
[2]
[3]
[4]
[5]
[6]
[7]
[8]
[9]
[10]
[11]
[18]
[19]
[20]
[21]
[22]
[23]
[24]
[25]
[26]
formula
data
[27]
[28]
[29]
[1]
[2]
[3]
[4]
[30]
[31]
[1]
[2]
[3]
[4]
[5]
[32]
[33]
[34]
names
class
theCall
dfr
xprobs
xfield
filter
sessinfo
[1]
[1]
[2]
[3]
[4]
[5]
[6]
[7]
[8]
[9]
[10]
[11]
[12]
[13]
[14]
[2]
[3]
[4]
[5]
[1]
[2]
[3]
[4]
[5]
[6]
[6]
[1]
[2]
[3]
[4]
[5]
[6]
[7]
[8]
[9]
[10]
[11]
[12]
[13]
[14]
[15]
[16]
[17]
[18]
[19]
[20]
[21]
[22]
[23]
[24]
[25]
[26]
[27]
[28]
[29]
[30]
[31]
[32]
[33]
[34]
[35]
[36]
[37]
[38]
[39]
[40]
[41]
[42]
[43]
[44]
[45]
[46]
[47]
[48]
[49]
[50]
[51]
[52]
[53]
[54]
[55]
[56]
[57]
[58]
[59]
names
class
filterUsed
<environment: namespace:base>
x
class
package
[2]
[1]
[2]
names
out.attrs
[1]
[2]
[1]
[2]
names
row.names
class
names
[3]
[1]
tab
[1]
[2]
[3]
[4]
names
row.names
class
FDRfunc
<environment: 0x555d674d2558>
assoc
FDRmodel
[1]
[1]
[2]
[3]
[4]
[5]
[6]
[7]
[8]
[9]
[1]
[2]
[3]
[4]
[5]
[10]
[11]
[12]
[13]
[14]
[15]
[16]
[17]
[1]
[2]
[3]
[4]
[5]
[6]
[7]
[8]
[9]
[10]
[11]
[18]
[19]
[20]
[21]
[22]
[23]
[24]
[25]
[26]
formula
data
[27]
[28]
[29]
[1]
[2]
[3]
[4]
[30]
[31]
[1]
[2]
[3]
[4]
[5]
[32]
[33]
[34]
names
class
theCall
dfr
xprobs
xfield
filter
sessinfo
[1]
[1]
[2]
[3]
[4]
[5]
[6]
[7]
[8]
[9]
[10]
[11]
[12]
[13]
[14]
[2]
[3]
[4]
[5]
[1]
[2]
[3]
[4]
[5]
[6]
[6]
[1]
[2]
[3]
[4]
[5]
[6]
[7]
[8]
[9]
[10]
[11]
[12]
[13]
[14]
[15]
[16]
[17]
[18]
[19]
[20]
[21]
[22]
[23]
[24]
[25]
[26]
[27]
[28]
[29]
[30]
[31]
[32]
[33]
[34]
[35]
[36]
[37]
[38]
[39]
[40]
[41]
[42]
[43]
[44]
[45]
[46]
[47]
[48]
[49]
[50]
[51]
[52]
[53]
[54]
[55]
[56]
[57]
[58]
[59]
names
class
filterUsed
<environment: namespace:base>
x
class
package
[2]
[1]
[2]
names
out.attrs
[1]
[2]
[1]
[2]
names
row.names
class
names
[4]
[1]
tab
[1]
[2]
[3]
[4]
names
row.names
class
FDRfunc
<environment: 0x555d68420ce8>
assoc
FDRmodel
[1]
[1]
[2]
[3]
[4]
[5]
[6]
[7]
[8]
[9]
[1]
[2]
[3]
[4]
[5]
[10]
[11]
[12]
[13]
[14]
[15]
[16]
[17]
[1]
[2]
[3]
[4]
[5]
[6]
[7]
[8]
[9]
[10]
[11]
[18]
[19]
[20]
[21]
[22]
[23]
[24]
[25]
[26]
formula
data
[27]
[28]
[29]
[1]
[2]
[3]
[4]
[30]
[31]
[1]
[2]
[3]
[4]
[5]
[32]
[33]
[34]
names
class
theCall
dfr
xprobs
xfield
filter
sessinfo
[1]
[1]
[2]
[3]
[4]
[5]
[6]
[7]
[8]
[9]
[10]
[11]
[12]
[13]
[14]
[2]
[3]
[4]
[5]
[1]
[2]
[3]
[4]
[5]
[6]
[6]
[1]
[2]
[3]
[4]
[5]
[6]
[7]
[8]
[9]
[10]
[11]
[12]
[13]
[14]
[15]
[16]
[17]
[18]
[19]
[20]
[21]
[22]
[23]
[24]
[25]
[26]
[27]
[28]
[29]
[30]
[31]
[32]
[33]
[34]
[35]
[36]
[37]
[38]
[39]
[40]
[41]
[42]
[43]
[44]
[45]
[46]
[47]
[48]
[49]
[50]
[51]
[52]
[53]
[54]
[55]
[56]
[57]
[58]
[59]
names
class
filterUsed
<environment: namespace:base>
x
class
package
[2]
[1]
[2]
names
out.attrs
[1]
[2]
[1]
[2]
names
row.names
class
names
[5]
[1]
tab
[1]
[2]
[3]
[4]
names
row.names
class
FDRfunc
<environment: 0x555d68428350>
assoc
FDRmodel
[1]
[1]
[2]
[3]
[4]
[5]
[6]
[7]
[8]
[9]
[1]
[2]
[3]
[4]
[5]
[10]
[11]
[12]
[13]
[14]
[15]
[16]
[17]
[1]
[2]
[3]
[4]
[5]
[6]
[7]
[8]
[9]
[10]
[11]
[18]
[19]
[20]
[21]
[22]
[23]
[24]
[25]
[26]
formula
data
[27]
[28]
[29]
[1]
[2]
[3]
[4]
[30]
[31]
[1]
[2]
[3]
[4]
[5]
[32]
[33]
[34]
names
class
theCall
dfr
xprobs
xfield
filter
sessinfo
[1]
[1]
[2]
[3]
[4]
[5]
[6]
[7]
[8]
[9]
[10]
[11]
[12]
[13]
[14]
[2]
[3]
[4]
[5]
[1]
[2]
[3]
[4]
[5]
[6]
[6]
[1]
[2]
[3]
[4]
[5]
[6]
[7]
[8]
[9]
[10]
[11]
[12]
[13]
[14]
[15]
[16]
[17]
[18]
[19]
[20]
[21]
[22]
[23]
[24]
[25]
[26]
[27]
[28]
[29]
[30]
[31]
[32]
[33]
[34]
[35]
[36]
[37]
[38]
[39]
[40]
[41]
[42]
[43]
[44]
[45]
[46]
[47]
[48]
[49]
[50]
[51]
[52]
[53]
[54]
[55]
[56]
[57]
[58]
[59]
names
class
filterUsed
<environment: namespace:base>
x
class
package
[2]
[1]
[2]
names
out.attrs
[1]
[2]
[1]
[2]
names
row.names
class
names
[6]
[1]
tab
[1]
[2]
[3]
[4]
names
row.names
class
FDRfunc
<environment: 0x555d684047e8>
assoc
FDRmodel
[1]
[1]
[2]
[3]
[4]
[5]
[6]
[7]
[8]
[9]
[1]
[2]
[3]
[4]
[5]
[10]
[11]
[12]
[13]
[14]
[15]
[16]
[17]
[1]
[2]
[3]
[4]
[5]
[6]
[7]
[8]
[9]
[10]
[11]
[18]
[19]
[20]
[21]
[22]
[23]
[24]
[25]
[26]
formula
data
[27]
[28]
[29]
[1]
[2]
[3]
[4]
[30]
[31]
[1]
[2]
[3]
[4]
[5]
[32]
[33]
[34]
names
class
theCall
dfr
xprobs
xfield
filter
sessinfo
[1]
[1]
[2]
[3]
[4]
[5]
[6]
[7]
[8]
[9]
[10]
[11]
[12]
[13]
[14]
[2]
[3]
[4]
[5]
[1]
[2]
[3]
[4]
[5]
[6]
[6]
[1]
[2]
[3]
[4]
[5]
[6]
[7]
[8]
[9]
[10]
[11]
[12]
[13]
[14]
[15]
[16]
[17]
[18]
[19]
[20]
[21]
[22]
[23]
[24]
[25]
[26]
[27]
[28]
[29]
[30]
[31]
[32]
[33]
[34]
[35]
[36]
[37]
[38]
[39]
[40]
[41]
[42]
[43]
[44]
[45]
[46]
[47]
[48]
[49]
[50]
[51]
[52]
[53]
[54]
[55]
[56]
[57]
[58]
[59]
names
class
filterUsed
<environment: namespace:base>
x
class
package
[2]
[1]
[2]
names
out.attrs
[1]
[2]
[1]
[2]
names
row.names
class
names
[7]
[1]
tab
[1]
[2]
[3]
[4]
names
row.names
class
FDRfunc
<environment: 0x555d679ffbd8>
assoc
FDRmodel
[1]
[1]
[2]
[3]
[4]
[5]
[6]
[7]
[8]
[9]
[1]
[2]
[3]
[4]
[5]
[10]
[11]
[12]
[13]
[14]
[15]
[16]
[17]
[1]
[2]
[3]
[4]
[5]
[6]
[7]
[8]
[9]
[10]
[11]
[18]
[19]
[20]
[21]
[22]
[23]
[24]
[25]
[26]
formula
data
[27]
[28]
[29]
[1]
[2]
[3]
[4]
[30]
[31]
[1]
[2]
[3]
[4]
[5]
[32]
[33]
[34]
names
class
theCall
dfr
xprobs
xfield
filter
sessinfo
[1]
[1]
[2]
[3]
[4]
[5]
[6]
[7]
[8]
[9]
[10]
[11]
[12]
[13]
[14]
[2]
[3]
[4]
[5]
[1]
[2]
[3]
[4]
[5]
[6]
[6]
[1]
[2]
[3]
[4]
[5]
[6]
[7]
[8]
[9]
[10]
[11]
[12]
[13]
[14]
[15]
[16]
[17]
[18]
[19]
[20]
[21]
[22]
[23]
[24]
[25]
[26]
[27]
[28]
[29]
[30]
[31]
[32]
[33]
[34]
[35]
[36]
[37]
[38]
[39]
[40]
[41]
[42]
[43]
[44]
[45]
[46]
[47]
[48]
[49]
[50]
[51]
[52]
[53]
[54]
[55]
[56]
[57]
[58]
[59]
names
class
filterUsed
<environment: namespace:base>
x
class
package
[2]
[1]
[2]
names
out.attrs
[1]
[2]
[1]
[2]
names
row.names
class
names
[8]
[1]
tab
[1]
[2]
[3]
[4]
names
row.names
class
FDRfunc
<environment: 0x555d628017d8>
assoc
FDRmodel
[1]
[1]
[2]
[3]
[4]
[5]
[6]
[7]
[8]
[9]
[1]
[2]
[3]
[4]
[5]
[10]
[11]
[12]
[13]
[14]
[15]
[16]
[17]
[1]
[2]
[3]
[4]
[5]
[6]
[7]
[8]
[9]
[10]
[11]
[18]
[19]
[20]
[21]
[22]
[23]
[24]
[25]
[26]
formula
data
[27]
[28]
[29]
[1]
[2]
[3]
[4]
[30]
[31]
[1]
[2]
[3]
[4]
[5]
[32]
[33]
[34]
names
class
theCall
dfr
xprobs
xfield
filter
sessinfo
[1]
[1]
[2]
[3]
[4]
[5]
[6]
[7]
[8]
[9]
[10]
[11]
[12]
[13]
[14]
[2]
[3]
[4]
[5]
[1]
[2]
[3]
[4]
[5]
[6]
[6]
[1]
[2]
[3]
[4]
[5]
[6]
[7]
[8]
[9]
[10]
[11]
[12]
[13]
[14]
[15]
[16]
[17]
[18]
[19]
[20]
[21]
[22]
[23]
[24]
[25]
[26]
[27]
[28]
[29]
[30]
[31]
[32]
[33]
[34]
[35]
[36]
[37]
[38]
[39]
[40]
[41]
[42]
[43]
[44]
[45]
[46]
[47]
[48]
[49]
[50]
[51]
[52]
[53]
[54]
[55]
[56]
[57]
[58]
[59]
names
class
filterUsed
<environment: namespace:base>
x
class
package
[2]
[1]
[2]
names
out.attrs
[1]
[2]
[1]
[2]
names
row.names
class
names
[9]
[1]
tab
[1]
[2]
[3]
[4]
names
row.names
class
FDRfunc
<environment: 0x555d62fec9d8>
assoc
FDRmodel
[1]
[1]
[2]
[3]
[4]
[5]
[6]
[7]
[8]
[9]
[1]
[2]
[3]
[4]
[5]
[10]
[11]
[12]
[13]
[14]
[15]
[16]
[17]
[1]
[2]
[3]
[4]
[5]
[6]
[7]
[8]
[9]
[10]
[11]
[18]
[19]
[20]
[21]
[22]
[23]
[24]
[25]
[26]
formula
data
[27]
[28]
[29]
[1]
[2]
[3]
[4]
[30]
[31]
[1]
[2]
[3]
[4]
[5]
[32]
[33]
[34]
names
class
theCall
dfr
xprobs
xfield
filter
sessinfo
[1]
[1]
[2]
[3]
[4]
[5]
[6]
[7]
[8]
[9]
[10]
[11]
[12]
[13]
[14]
[2]
[3]
[4]
[5]
[1]
[2]
[3]
[4]
[5]
[6]
[6]
[1]
[2]
[3]
[4]
[5]
[6]
[7]
[8]
[9]
[10]
[11]
[12]
[13]
[14]
[15]
[16]
[17]
[18]
[19]
[20]
[21]
[22]
[23]
[24]
[25]
[26]
[27]
[28]
[29]
[30]
[31]
[32]
[33]
[34]
[35]
[36]
[37]
[38]
[39]
[40]
[41]
[42]
[43]
[44]
[45]
[46]
[47]
[48]
[49]
[50]
[51]
[52]
[53]
[54]
[55]
[56]
[57]
[58]
[59]
names
class
filterUsed
<environment: namespace:base>
x
class
package
[2]
[1]
[2]
names
out.attrs
[1]
[2]
[1]
[2]
names
row.names
class
names
[10]
[1]
tab
[1]
[2]
[3]
[4]
names
row.names
class
FDRfunc
<environment: 0x555d626c0bd0>
assoc
FDRmodel
[1]
[1]
[2]
[3]
[4]
[5]
[6]
[7]
[8]
[9]
[1]
[2]
[3]
[4]
[5]
[10]
[11]
[12]
[13]
[14]
[15]
[16]
[17]
[1]
[2]
[3]
[4]
[5]
[6]
[7]
[8]
[9]
[10]
[11]
[18]
[19]
[20]
[21]
[22]
[23]
[24]
[25]
[26]
formula
data
[27]
[28]
[29]
[1]
[2]
[3]
[4]
[30]
[31]
[1]
[2]
[3]
[4]
[5]
[32]
[33]
[34]
names
class
theCall
dfr
xprobs
xfield
filter
sessinfo
[1]
[1]
[2]
[3]
[4]
[5]
[6]
[7]
[8]
[9]
[10]
[11]
[12]
[13]
[14]
[2]
[3]
[4]
[5]
[1]
[2]
[3]
[4]
[5]
[6]
[6]
[1]
[2]
[3]
[4]
[5]
[6]
[7]
[8]
[9]
[10]
[11]
[12]
[13]
[14]
[15]
[16]
[17]
[18]
[19]
[20]
[21]
[22]
[23]
[24]
[25]
[26]
[27]
[28]
[29]
[30]
[31]
[32]
[33]
[34]
[35]
[36]
[37]
[38]
[39]
[40]
[41]
[42]
[43]
[44]
[45]
[46]
[47]
[48]
[49]
[50]
[51]
[52]
[53]
[54]
[55]
[56]
[57]
[58]
[59]
names
class
filterUsed
<environment: namespace:base>
x
class
package
[2]
[1]
[2]
names
out.attrs
[1]
[2]
[1]
[2]
names
row.names
class
names
[11]
[1]
tab
[1]
[2]
[3]
[4]
names
row.names
class
FDRfunc
<environment: 0x555d69520280>
assoc
FDRmodel
[1]
[1]
[2]
[3]
[4]
[5]
[6]
[7]
[8]
[9]
[1]
[2]
[3]
[4]
[5]
[10]
[11]
[12]
[13]
[14]
[15]
[16]
[17]
[1]
[2]
[3]
[4]
[5]
[6]
[7]
[8]
[9]
[10]
[11]
[18]
[19]
[20]
[21]
[22]
[23]
[24]
[25]
[26]
formula
data
[27]
[28]
[29]
[1]
[2]
[3]
[4]
[30]
[31]
[1]
[2]
[3]
[4]
[5]
[32]
[33]
[34]
names
class
theCall
dfr
xprobs
xfield
filter
sessinfo
[1]
[1]
[2]
[3]
[4]
[5]
[6]
[7]
[8]
[9]
[10]
[11]
[12]
[13]
[14]
[2]
[3]
[4]
[5]
[1]
[2]
[3]
[4]
[5]
[6]
[6]
[1]
[2]
[3]
[4]
[5]
[6]
[7]
[8]
[9]
[10]
[11]
[12]
[13]
[14]
[15]
[16]
[17]
[18]
[19]
[20]
[21]
[22]
[23]
[24]
[25]
[26]
[27]
[28]
[29]
[30]
[31]
[32]
[33]
[34]
[35]
[36]
[37]
[38]
[39]
[40]
[41]
[42]
[43]
[44]
[45]
[46]
[47]
[48]
[49]
[50]
[51]
[52]
[53]
[54]
[55]
[56]
[57]
[58]
[59]
names
class
filterUsed
<environment: namespace:base>
x
class
package
[2]
[1]
[2]
names
out.attrs
[1]
[2]
[1]
[2]
names
row.names
class
names
[12]
[1]
tab
[1]
[2]
[3]
[4]
names
row.names
class
FDRfunc
<environment: 0x555d68d52c38>
assoc
FDRmodel
[1]
[1]
[2]
[3]
[4]
[5]
[6]
[7]
[8]
[9]
[1]
[2]
[3]
[4]
[5]
[10]
[11]
[12]
[13]
[14]
[15]
[16]
[17]
[1]
[2]
[3]
[4]
[5]
[6]
[7]
[8]
[9]
[10]
[11]
[18]
[19]
[20]
[21]
[22]
[23]
[24]
[25]
[26]
formula
data
[27]
[28]
[29]
[1]
[2]
[3]
[4]
[30]
[31]
[1]
[2]
[3]
[4]
[5]
[32]
[33]
[34]
names
class
theCall
dfr
xprobs
xfield
filter
sessinfo
[1]
[1]
[2]
[3]
[4]
[5]
[6]
[7]
[8]
[9]
[10]
[11]
[12]
[13]
[14]
[2]
[3]
[4]
[5]
[1]
[2]
[3]
[4]
[5]
[6]
[6]
[1]
[2]
[3]
[4]
[5]
[6]
[7]
[8]
[9]
[10]
[11]
[12]
[13]
[14]
[15]
[16]
[17]
[18]
[19]
[20]
[21]
[22]
[23]
[24]
[25]
[26]
[27]
[28]
[29]
[30]
[31]
[32]
[33]
[34]
[35]
[36]
[37]
[38]
[39]
[40]
[41]
[42]
[43]
[44]
[45]
[46]
[47]
[48]
[49]
[50]
[51]
[52]
[53]
[54]
[55]
[56]
[57]
[58]
[59]
names
class
filterUsed
<environment: namespace:base>
x
class
package
[2]
[1]
[2]
names
out.attrs
[1]
[2]
[1]
[2]
names
row.names
class
names
[13]
[1]
tab
[1]
[2]
[3]
[4]
names
row.names
class
FDRfunc
<environment: 0x555d627cb038>
assoc
FDRmodel
[1]
[1]
[2]
[3]
[4]
[5]
[6]
[7]
[8]
[9]
[1]
[2]
[3]
[4]
[5]
[10]
[11]
[12]
[13]
[14]
[15]
[16]
[17]
[1]
[2]
[3]
[4]
[5]
[6]
[7]
[8]
[9]
[10]
[11]
[18]
[19]
[20]
[21]
[22]
[23]
[24]
[25]
[26]
formula
data
[27]
[28]
[29]
[1]
[2]
[3]
[4]
[30]
[31]
[1]
[2]
[3]
[4]
[5]
[32]
[33]
[34]
names
class
theCall
dfr
xprobs
xfield
filter
sessinfo
[1]
[1]
[2]
[3]
[4]
[5]
[6]
[7]
[8]
[9]
[10]
[11]
[12]
[13]
[14]
[2]
[3]
[4]
[5]
[1]
[2]
[3]
[4]
[5]
[6]
[6]
[1]
[2]
[3]
[4]
[5]
[6]
[7]
[8]
[9]
[10]
[11]
[12]
[13]
[14]
[15]
[16]
[17]
[18]
[19]
[20]
[21]
[22]
[23]
[24]
[25]
[26]
[27]
[28]
[29]
[30]
[31]
[32]
[33]
[34]
[35]
[36]
[37]
[38]
[39]
[40]
[41]
[42]
[43]
[44]
[45]
[46]
[47]
[48]
[49]
[50]
[51]
[52]
[53]
[54]
[55]
[56]
[57]
[58]
[59]
names
class
filterUsed
<environment: namespace:base>
x
class
package
[2]
[1]
[2]
names
out.attrs
[1]
[2]
[1]
[2]
names
row.names
class
names
[14]
[1]
tab
[1]
[2]
[3]
[4]
names
row.names
class
FDRfunc
<environment: 0x555d6751d7d8>
assoc
FDRmodel
[1]
[1]
[2]
[3]
[4]
[5]
[6]
[7]
[8]
[9]
[1]
[2]
[3]
[4]
[5]
[10]
[11]
[12]
[13]
[14]
[15]
[16]
[17]
[1]
[2]
[3]
[4]
[5]
[6]
[7]
[8]
[9]
[10]
[11]
[18]
[19]
[20]
[21]
[22]
[23]
[24]
[25]
[26]
formula
data
[27]
[28]
[29]
[1]
[2]
[3]
[4]
[30]
[31]
[1]
[2]
[3]
[4]
[5]
[32]
[33]
[34]
names
class
theCall
dfr
xprobs
xfield
filter
sessinfo
[1]
[1]
[2]
[3]
[4]
[5]
[6]
[7]
[8]
[9]
[10]
[11]
[12]
[13]
[14]
[2]
[3]
[4]
[5]
[1]
[2]
[3]
[4]
[5]
[6]
[6]
[1]
[2]
[3]
[4]
[5]
[6]
[7]
[8]
[9]
[10]
[11]
[12]
[13]
[14]
[15]
[16]
[17]
[18]
[19]
[20]
[21]
[22]
[23]
[24]
[25]
[26]
[27]
[28]
[29]
[30]
[31]
[32]
[33]
[34]
[35]
[36]
[37]
[38]
[39]
[40]
[41]
[42]
[43]
[44]
[45]
[46]
[47]
[48]
[49]
[50]
[51]
[52]
[53]
[54]
[55]
[56]
[57]
[58]
[59]
names
class
filterUsed
<environment: namespace:base>
x
class
package
[2]
[1]
[2]
names
out.attrs
[1]
[2]
[1]
[2]
names
row.names
class
names
[15]
[1]
tab
[1]
[2]
[3]
[4]
names
row.names
class
FDRfunc
<environment: 0x555d68247468>
assoc
FDRmodel
[1]
[1]
[2]
[3]
[4]
[5]
[6]
[7]
[8]
[9]
[1]
[2]
[3]
[4]
[5]
[10]
[11]
[12]
[13]
[14]
[15]
[16]
[17]
[1]
[2]
[3]
[4]
[5]
[6]
[7]
[8]
[9]
[10]
[11]
[18]
[19]
[20]
[21]
[22]
[23]
[24]
[25]
[26]
formula
data
[27]
[28]
[29]
[1]
[2]
[3]
[4]
[30]
[31]
[1]
[2]
[3]
[4]
[5]
[32]
[33]
[34]
names
class
theCall
dfr
xprobs
xfield
filter
sessinfo
[1]
[1]
[2]
[3]
[4]
[5]
[6]
[7]
[8]
[9]
[10]
[11]
[12]
[13]
[14]
[2]
[3]
[4]
[5]
[1]
[2]
[3]
[4]
[5]
[6]
[6]
[1]
[2]
[3]
[4]
[5]
[6]
[7]
[8]
[9]
[10]
[11]
[12]
[13]
[14]
[15]
[16]
[17]
[18]
[19]
[20]
[21]
[22]
[23]
[24]
[25]
[26]
[27]
[28]
[29]
[30]
[31]
[32]
[33]
[34]
[35]
[36]
[37]
[38]
[39]
[40]
[41]
[42]
[43]
[44]
[45]
[46]
[47]
[48]
[49]
[50]
[51]
[52]
[53]
[54]
[55]
[56]
[57]
[58]
[59]
names
class
filterUsed
<environment: namespace:base>
x
class
package
[2]
[1]
[2]
names
out.attrs
[1]
[2]
[1]
[2]
names
row.names
class
names
[16]
[1]
tab
[1]
[2]
[3]
[4]
names
row.names
class
FDRfunc
<environment: 0x555d689914d8>
assoc
FDRmodel
[1]
[1]
[2]
[3]
[4]
[5]
[6]
[7]
[8]
[9]
[1]
[2]
[3]
[4]
[5]
[10]
[11]
[12]
[13]
[14]
[15]
[16]
[17]
[1]
[2]
[3]
[4]
[5]
[6]
[7]
[8]
[9]
[10]
[11]
[18]
[19]
[20]
[21]
[22]
[23]
[24]
[25]
[26]
formula
data
[27]
[28]
[29]
[1]
[2]
[3]
[4]
[30]
[31]
[1]
[2]
[3]
[4]
[5]
[32]
[33]
[34]
names
class
theCall
dfr
xprobs
xfield
filter
sessinfo
[1]
[1]
[2]
[3]
[4]
[5]
[6]
[7]
[8]
[9]
[10]
[11]
[12]
[13]
[14]
[2]
[3]
[4]
[5]
[1]
[2]
[3]
[4]
[5]
[6]
[6]
[1]
[2]
[3]
[4]
[5]
[6]
[7]
[8]
[9]
[10]
[11]
[12]
[13]
[14]
[15]
[16]
[17]
[18]
[19]
[20]
[21]
[22]
[23]
[24]
[25]
[26]
[27]
[28]
[29]
[30]
[31]
[32]
[33]
[34]
[35]
[36]
[37]
[38]
[39]
[40]
[41]
[42]
[43]
[44]
[45]
[46]
[47]
[48]
[49]
[50]
[51]
[52]
[53]
[54]
[55]
[56]
[57]
[58]
[59]
names
class
filterUsed
<environment: namespace:base>
x
class
package
[2]
[1]
[2]
names
out.attrs
[1]
[2]
[1]
[2]
names
row.names
class
names
[17]
[1]
tab
[1]
[2]
[3]
[4]
names
row.names
class
FDRfunc
<environment: 0x555d685448d8>
assoc
FDRmodel
[1]
[1]
[2]
[3]
[4]
[5]
[6]
[7]
[8]
[9]
[1]
[2]
[3]
[4]
[5]
[10]
[11]
[12]
[13]
[14]
[15]
[16]
[17]
[1]
[2]
[3]
[4]
[5]
[6]
[7]
[8]
[9]
[10]
[11]
[18]
[19]
[20]
[21]
[22]
[23]
[24]
[25]
[26]
formula
data
[27]
[28]
[29]
[1]
[2]
[3]
[4]
[30]
[31]
[1]
[2]
[3]
[4]
[5]
[32]
[33]
[34]
names
class
theCall
dfr
xprobs
xfield
filter
sessinfo
[1]
[1]
[2]
[3]
[4]
[5]
[6]
[7]
[8]
[9]
[10]
[11]
[12]
[13]
[14]
[2]
[3]
[4]
[5]
[1]
[2]
[3]
[4]
[5]
[6]
[6]
[1]
[2]
[3]
[4]
[5]
[6]
[7]
[8]
[9]
[10]
[11]
[12]
[13]
[14]
[15]
[16]
[17]
[18]
[19]
[20]
[21]
[22]
[23]
[24]
[25]
[26]
[27]
[28]
[29]
[30]
[31]
[32]
[33]
[34]
[35]
[36]
[37]
[38]
[39]
[40]
[41]
[42]
[43]
[44]
[45]
[46]
[47]
[48]
[49]
[50]
[51]
[52]
[53]
[54]
[55]
[56]
[57]
[58]
[59]
names
class
filterUsed
<environment: namespace:base>
x
class
package
[2]
[1]
[2]
names
out.attrs
[1]
[2]
[1]
[2]
names
row.names
class
names
[18]
[1]
tab
[1]
[2]
[3]
[4]
names
row.names
class
FDRfunc
<environment: 0x555d626aab10>
assoc
FDRmodel
[1]
[1]
[2]
[3]
[4]
[5]
[6]
[7]
[8]
[9]
[1]
[2]
[3]
[4]
[5]
[10]
[11]
[12]
[13]
[14]
[15]
[16]
[17]
[1]
[2]
[3]
[4]
[5]
[6]
[7]
[8]
[9]
[10]
[11]
[18]
[19]
[20]
[21]
[22]
[23]
[24]
[25]
[26]
formula
data
[27]
[28]
[29]
[1]
[2]
[3]
[4]
[30]
[31]
[1]
[2]
[3]
[4]
[5]
[32]
[33]
[34]
names
class
theCall
dfr
xprobs
xfield
filter
sessinfo
[1]
[1]
[2]
[3]
[4]
[5]
[6]
[7]
[8]
[9]
[10]
[11]
[12]
[13]
[14]
[2]
[3]
[4]
[5]
[1]
[2]
[3]
[4]
[5]
[6]
[6]
[1]
[2]
[3]
[4]
[5]
[6]
[7]
[8]
[9]
[10]
[11]
[12]
[13]
[14]
[15]
[16]
[17]
[18]
[19]
[20]
[21]
[22]
[23]
[24]
[25]
[26]
[27]
[28]
[29]
[30]
[31]
[32]
[33]
[34]
[35]
[36]
[37]
[38]
[39]
[40]
[41]
[42]
[43]
[44]
[45]
[46]
[47]
[48]
[49]
[50]
[51]
[52]
[53]
[54]
[55]
[56]
[57]
[58]
[59]
names
class
filterUsed
<environment: namespace:base>
x
class
package
[2]
[1]
[2]
names
out.attrs
[1]
[2]
[1]
[2]
names
row.names
class
names
[19]
[1]
tab
[1]
[2]
[3]
[4]
names
row.names
class
FDRfunc
<environment: 0x555d6a582e20>
assoc
FDRmodel
[1]
[1]
[2]
[3]
[4]
[5]
[6]
[7]
[8]
[9]
[1]
[2]
[3]
[4]
[5]
[10]
[11]
[12]
[13]
[14]
[15]
[16]
[17]
[1]
[2]
[3]
[4]
[5]
[6]
[7]
[8]
[9]
[10]
[11]
[18]
[19]
[20]
[21]
[22]
[23]
[24]
[25]
[26]
formula
data
[27]
[28]
[29]
[1]
[2]
[3]
[4]
[30]
[31]
[1]
[2]
[3]
[4]
[5]
[32]
[33]
[34]
names
class
theCall
dfr
xprobs
xfield
filter
sessinfo
[1]
[1]
[2]
[3]
[4]
[5]
[6]
[7]
[8]
[9]
[10]
[11]
[12]
[13]
[14]
[2]
[3]
[4]
[5]
[1]
[2]
[3]
[4]
[5]
[6]
[6]
[1]
[2]
[3]
[4]
[5]
[6]
[7]
[8]
[9]
[10]
[11]
[12]
[13]
[14]
[15]
[16]
[17]
[18]
[19]
[20]
[21]
[22]
[23]
[24]
[25]
[26]
[27]
[28]
[29]
[30]
[31]
[32]
[33]
[34]
[35]
[36]
[37]
[38]
[39]
[40]
[41]
[42]
[43]
[44]
[45]
[46]
[47]
[48]
[49]
[50]
[51]
[52]
[53]
[54]
[55]
[56]
[57]
[58]
[59]
names
class
filterUsed
<environment: namespace:base>
x
class
package
[2]
[1]
[2]
names
out.attrs
[1]
[2]
[1]
[2]
names
row.names
class
names
[20]
[1]
tab
[1]
[2]
[3]
[4]
names
row.names
class
FDRfunc
<environment: 0x555d6a53d2d8>
assoc
FDRmodel
[1]
[1]
[2]
[3]
[4]
[5]
[6]
[7]
[8]
[9]
[1]
[2]
[3]
[4]
[5]
[10]
[11]
[12]
[13]
[14]
[15]
[16]
[17]
[1]
[2]
[3]
[4]
[5]
[6]
[7]
[8]
[9]
[10]
[11]
[18]
[19]
[20]
[21]
[22]
[23]
[24]
[25]
[26]
formula
data
[27]
[28]
[29]
[1]
[2]
[3]
[4]
[30]
[31]
[1]
[2]
[3]
[4]
[5]
[32]
[33]
[34]
names
class
theCall
dfr
xprobs
xfield
filter
sessinfo
[1]
[1]
[2]
[3]
[4]
[5]
[6]
[7]
[8]
[9]
[10]
[11]
[12]
[13]
[14]
[2]
[3]
[4]
[5]
[1]
[2]
[3]
[4]
[5]
[6]
[6]
[1]
[2]
[3]
[4]
[5]
[6]
[7]
[8]
[9]
[10]
[11]
[12]
[13]
[14]
[15]
[16]
[17]
[18]
[19]
[20]
[21]
[22]
[23]
[24]
[25]
[26]
[27]
[28]
[29]
[30]
[31]
[32]
[33]
[34]
[35]
[36]
[37]
[38]
[39]
[40]
[41]
[42]
[43]
[44]
[45]
[46]
[47]
[48]
[49]
[50]
[51]
[52]
[53]
[54]
[55]
[56]
[57]
[58]
[59]
names
class
filterUsed
<environment: namespace:base>
x
class
package
[2]
[1]
[2]
names
out.attrs
[1]
[2]
[1]
[2]
names
row.names
class
names
[21]
[1]
tab
[1]
[2]
[3]
[4]
names
row.names
class
FDRfunc
<environment: 0x555d6a4df9f0>
assoc
FDRmodel
[1]
[1]
[2]
[3]
[4]
[5]
[6]
[7]
[8]
[9]
[1]
[2]
[3]
[4]
[5]
[10]
[11]
[12]
[13]
[14]
[15]
[16]
[17]
[1]
[2]
[3]
[4]
[5]
[6]
[7]
[8]
[9]
[10]
[11]
[18]
[19]
[20]
[21]
[22]
[23]
[24]
[25]
[26]
formula
data
[27]
[28]
[29]
[1]
[2]
[3]
[4]
[30]
[31]
[1]
[2]
[3]
[4]
[5]
[32]
[33]
[34]
names
class
theCall
dfr
xprobs
xfield
filter
sessinfo
[1]
[1]
[2]
[3]
[4]
[5]
[6]
[7]
[8]
[9]
[10]
[11]
[12]
[13]
[14]
[2]
[3]
[4]
[5]
[1]
[2]
[3]
[4]
[5]
[6]
[6]
[1]
[2]
[3]
[4]
[5]
[6]
[7]
[8]
[9]
[10]
[11]
[12]
[13]
[14]
[15]
[16]
[17]
[18]
[19]
[20]
[21]
[22]
[23]
[24]
[25]
[26]
[27]
[28]
[29]
[30]
[31]
[32]
[33]
[34]
[35]
[36]
[37]
[38]
[39]
[40]
[41]
[42]
[43]
[44]
[45]
[46]
[47]
[48]
[49]
[50]
[51]
[52]
[53]
[54]
[55]
[56]
[57]
[58]
[59]
names
class
filterUsed
<environment: namespace:base>
x
class
package
[2]
[1]
[2]
names
out.attrs
[1]
[2]
[1]
[2]
names
row.names
class
names
[22]
[1]
tab
[1]
[2]
[3]
[4]
names
row.names
class
FDRfunc
<environment: 0x555d6a454c10>
assoc
FDRmodel
[1]
[1]
[2]
[3]
[4]
[5]
[6]
[7]
[8]
[9]
[1]
[2]
[3]
[4]
[5]
[10]
[11]
[12]
[13]
[14]
[15]
[16]
[17]
[1]
[2]
[3]
[4]
[5]
[6]
[7]
[8]
[9]
[10]
[11]
[18]
[19]
[20]
[21]
[22]
[23]
[24]
[25]
[26]
formula
data
[27]
[28]
[29]
[1]
[2]
[3]
[4]
[30]
[31]
[1]
[2]
[3]
[4]
[5]
[32]
[33]
[34]
names
class
theCall
dfr
xprobs
xfield
filter
sessinfo
[1]
[1]
[2]
[3]
[4]
[5]
[6]
[7]
[8]
[9]
[10]
[11]
[12]
[13]
[14]
[2]
[3]
[4]
[5]
[1]
[2]
[3]
[4]
[5]
[6]
[6]
[1]
[2]
[3]
[4]
[5]
[6]
[7]
[8]
[9]
[10]
[11]
[12]
[13]
[14]
[15]
[16]
[17]
[18]
[19]
[20]
[21]
[22]
[23]
[24]
[25]
[26]
[27]
[28]
[29]
[30]
[31]
[32]
[33]
[34]
[35]
[36]
[37]
[38]
[39]
[40]
[41]
[42]
[43]
[44]
[45]
[46]
[47]
[48]
[49]
[50]
[51]
[52]
[53]
[54]
[55]
[56]
[57]
[58]
[59]
names
class
filterUsed
<environment: namespace:base>
x
class
package
[2]
[1]
[2]
names
out.attrs
[1]
[2]
[1]
[2]
names
row.names
class
names
[23]
[1]
tab
[1]
[2]
[3]
[4]
names
row.names
class
FDRfunc
<environment: 0x555d6a3f63e8>
assoc
FDRmodel
[1]
[1]
[2]
[3]
[4]
[5]
[6]
[7]
[8]
[9]
[1]
[2]
[3]
[4]
[5]
[10]
[11]
[12]
[13]
[14]
[15]
[16]
[17]
[1]
[2]
[3]
[4]
[5]
[6]
[7]
[8]
[9]
[10]
[11]
[18]
[19]
[20]
[21]
[22]
[23]
[24]
[25]
[26]
formula
data
[27]
[28]
[29]
[1]
[2]
[3]
[4]
[30]
[31]
[1]
[2]
[3]
[4]
[5]
[32]
[33]
[34]
names
class
theCall
dfr
xprobs
xfield
filter
sessinfo
[1]
[1]
[2]
[3]
[4]
[5]
[6]
[7]
[8]
[9]
[10]
[11]
[12]
[13]
[14]
[2]
[3]
[4]
[5]
[1]
[2]
[3]
[4]
[5]
[6]
[6]
[1]
[2]
[3]
[4]
[5]
[6]
[7]
[8]
[9]
[10]
[11]
[12]
[13]
[14]
[15]
[16]
[17]
[18]
[19]
[20]
[21]
[22]
[23]
[24]
[25]
[26]
[27]
[28]
[29]
[30]
[31]
[32]
[33]
[34]
[35]
[36]
[37]
[38]
[39]
[40]
[41]
[42]
[43]
[44]
[45]
[46]
[47]
[48]
[49]
[50]
[51]
[52]
[53]
[54]
[55]
[56]
[57]
[58]
[59]
names
class
filterUsed
<environment: namespace:base>
x
class
package
[2]
[1]
[2]
names
out.attrs
[1]
[2]
[1]
[2]
names
row.names
class
names
[24]
[1]
tab
[1]
[2]
[3]
[4]
names
row.names
class
FDRfunc
<environment: 0x555d6a34abe8>
assoc
FDRmodel
[1]
[1]
[2]
[3]
[4]
[5]
[6]
[7]
[8]
[9]
[1]
[2]
[3]
[4]
[5]
[10]
[11]
[12]
[13]
[14]
[15]
[16]
[17]
[1]
[2]
[3]
[4]
[5]
[6]
[7]
[8]
[9]
[10]
[11]
[18]
[19]
[20]
[21]
[22]
[23]
[24]
[25]
[26]
formula
data
[27]
[28]
[29]
[1]
[2]
[3]
[4]
[30]
[31]
[1]
[2]
[3]
[4]
[5]
[32]
[33]
[34]
names
class
theCall
dfr
xprobs
xfield
filter
sessinfo
[1]
[1]
[2]
[3]
[4]
[5]
[6]
[7]
[8]
[9]
[10]
[11]
[12]
[13]
[14]
[2]
[3]
[4]
[5]
[1]
[2]
[3]
[4]
[5]
[6]
[6]
[1]
[2]
[3]
[4]
[5]
[6]
[7]
[8]
[9]
[10]
[11]
[12]
[13]
[14]
[15]
[16]
[17]
[18]
[19]
[20]
[21]
[22]
[23]
[24]
[25]
[26]
[27]
[28]
[29]
[30]
[31]
[32]
[33]
[34]
[35]
[36]
[37]
[38]
[39]
[40]
[41]
[42]
[43]
[44]
[45]
[46]
[47]
[48]
[49]
[50]
[51]
[52]
[53]
[54]
[55]
[56]
[57]
[58]
[59]
names
class
filterUsed
<environment: namespace:base>
x
class
package
[2]
[1]
[2]
names
out.attrs
[1]
[2]
[1]
[2]
names
row.names
class
names
[25]
[1]
tab
[1]
[2]
[3]
[4]
names
row.names
class
FDRfunc
<environment: 0x555d6a2e98d0>
assoc
FDRmodel
[1]
[1]
[2]
[3]
[4]
[5]
[6]
[7]
[8]
[9]
[1]
[2]
[3]
[4]
[5]
[10]
[11]
[12]
[13]
[14]
[15]
[16]
[17]
[1]
[2]
[3]
[4]
[5]
[6]
[7]
[8]
[9]
[10]
[11]
[18]
[19]
[20]
[21]
[22]
[23]
[24]
[25]
[26]
formula
data
[27]
[28]
[29]
[1]
[2]
[3]
[4]
[30]
[31]
[1]
[2]
[3]
[4]
[5]
[32]
[33]
[34]
names
class
theCall
dfr
xprobs
xfield
filter
sessinfo
[1]
[1]
[2]
[3]
[4]
[5]
[6]
[7]
[8]
[9]
[10]
[11]
[12]
[13]
[14]
[2]
[3]
[4]
[5]
[1]
[2]
[3]
[4]
[5]
[6]
[6]
[1]
[2]
[3]
[4]
[5]
[6]
[7]
[8]
[9]
[10]
[11]
[12]
[13]
[14]
[15]
[16]
[17]
[18]
[19]
[20]
[21]
[22]
[23]
[24]
[25]
[26]
[27]
[28]
[29]
[30]
[31]
[32]
[33]
[34]
[35]
[36]
[37]
[38]
[39]
[40]
[41]
[42]
[43]
[44]
[45]
[46]
[47]
[48]
[49]
[50]
[51]
[52]
[53]
[54]
[55]
[56]
[57]
[58]
[59]
names
class
filterUsed
<environment: namespace:base>
x
class
package
[2]
[1]
[2]
names
out.attrs
[1]
[2]
[1]
[2]
names
row.names
class
names
[26]
[1]
tab
[1]
[2]
[3]
[4]
names
row.names
class
FDRfunc
<environment: 0x555d6a2854c0>
assoc
FDRmodel
[1]
[1]
[2]
[3]
[4]
[5]
[6]
[7]
[8]
[9]
[1]
[2]
[3]
[4]
[5]
[10]
[11]
[12]
[13]
[14]
[15]
[16]
[17]
[1]
[2]
[3]
[4]
[5]
[6]
[7]
[8]
[9]
[10]
[11]
[18]
[19]
[20]
[21]
[22]
[23]
[24]
[25]
[26]
formula
data
[27]
[28]
[29]
[1]
[2]
[3]
[4]
[30]
[31]
[1]
[2]
[3]
[4]
[5]
[32]
[33]
[34]
names
class
theCall
dfr
xprobs
xfield
filter
sessinfo
[1]
[1]
[2]
[3]
[4]
[5]
[6]
[7]
[8]
[9]
[10]
[11]
[12]
[13]
[14]
[2]
[3]
[4]
[5]
[1]
[2]
[3]
[4]
[5]
[6]
[6]
[1]
[2]
[3]
[4]
[5]
[6]
[7]
[8]
[9]
[10]
[11]
[12]
[13]
[14]
[15]
[16]
[17]
[18]
[19]
[20]
[21]
[22]
[23]
[24]
[25]
[26]
[27]
[28]
[29]
[30]
[31]
[32]
[33]
[34]
[35]
[36]
[37]
[38]
[39]
[40]
[41]
[42]
[43]
[44]
[45]
[46]
[47]
[48]
[49]
[50]
[51]
[52]
[53]
[54]
[55]
[56]
[57]
[58]
[59]
names
class
filterUsed
<environment: namespace:base>
x
class
package
[2]
[1]
[2]
names
out.attrs
[1]
[2]
[1]
[2]
names
row.names
class
names
[27]
[1]
tab
[1]
[2]
[3]
[4]
names
row.names
class
FDRfunc
<environment: 0x555d6a217670>
assoc
FDRmodel
[1]
[1]
[2]
[3]
[4]
[5]
[6]
[7]
[8]
[9]
[1]
[2]
[3]
[4]
[5]
[10]
[11]
[12]
[13]
[14]
[15]
[16]
[17]
[1]
[2]
[3]
[4]
[5]
[6]
[7]
[8]
[9]
[10]
[11]
[18]
[19]
[20]
[21]
[22]
[23]
[24]
[25]
[26]
formula
data
[27]
[28]
[29]
[1]
[2]
[3]
[4]
[30]
[31]
[1]
[2]
[3]
[4]
[5]
[32]
[33]
[34]
names
class
theCall
dfr
xprobs
xfield
filter
sessinfo
[1]
[1]
[2]
[3]
[4]
[5]
[6]
[7]
[8]
[9]
[10]
[11]
[12]
[13]
[14]
[2]
[3]
[4]
[5]
[1]
[2]
[3]
[4]
[5]
[6]
[6]
[1]
[2]
[3]
[4]
[5]
[6]
[7]
[8]
[9]
[10]
[11]
[12]
[13]
[14]
[15]
[16]
[17]
[18]
[19]
[20]
[21]
[22]
[23]
[24]
[25]
[26]
[27]
[28]
[29]
[30]
[31]
[32]
[33]
[34]
[35]
[36]
[37]
[38]
[39]
[40]
[41]
[42]
[43]
[44]
[45]
[46]
[47]
[48]
[49]
[50]
[51]
[52]
[53]
[54]
[55]
[56]
[57]
[58]
[59]
names
class
filterUsed
<environment: namespace:base>
x
class
package
[2]
[1]
[2]
names
out.attrs
[1]
[2]
[1]
[2]
names
row.names
class
names
[28]
[1]
tab
[1]
[2]
[3]
[4]
names
row.names
class
FDRfunc
<environment: 0x555d6a1d44d8>
assoc
FDRmodel
[1]
[1]
[2]
[3]
[4]
[5]
[6]
[7]
[8]
[9]
[1]
[2]
[3]
[4]
[5]
[10]
[11]
[12]
[13]
[14]
[15]
[16]
[17]
[1]
[2]
[3]
[4]
[5]
[6]
[7]
[8]
[9]
[10]
[11]
[18]
[19]
[20]
[21]
[22]
[23]
[24]
[25]
[26]
formula
data
[27]
[28]
[29]
[1]
[2]
[3]
[4]
[30]
[31]
[1]
[2]
[3]
[4]
[5]
[32]
[33]
[34]
names
class
theCall
dfr
xprobs
xfield
filter
sessinfo
[1]
[1]
[2]
[3]
[4]
[5]
[6]
[7]
[8]
[9]
[10]
[11]
[12]
[13]
[14]
[2]
[3]
[4]
[5]
[1]
[2]
[3]
[4]
[5]
[6]
[6]
[1]
[2]
[3]
[4]
[5]
[6]
[7]
[8]
[9]
[10]
[11]
[12]
[13]
[14]
[15]
[16]
[17]
[18]
[19]
[20]
[21]
[22]
[23]
[24]
[25]
[26]
[27]
[28]
[29]
[30]
[31]
[32]
[33]
[34]
[35]
[36]
[37]
[38]
[39]
[40]
[41]
[42]
[43]
[44]
[45]
[46]
[47]
[48]
[49]
[50]
[51]
[52]
[53]
[54]
[55]
[56]
[57]
[58]
[59]
names
class
filterUsed
<environment: namespace:base>
x
class
package
[2]
[1]
[2]
names
out.attrs
[1]
[2]
[1]
[2]
names
row.names
class
names
[29]
[1]
tab
[1]
[2]
[3]
[4]
names
row.names
class
FDRfunc
<environment: 0x555d6a1be8c8>
assoc
FDRmodel
[1]
[1]
[2]
[3]
[4]
[5]
[6]
[7]
[8]
[9]
[1]
[2]
[3]
[4]
[5]
[10]
[11]
[12]
[13]
[14]
[15]
[16]
[17]
[1]
[2]
[3]
[4]
[5]
[6]
[7]
[8]
[9]
[10]
[11]
[18]
[19]
[20]
[21]
[22]
[23]
[24]
[25]
[26]
formula
data
[27]
[28]
[29]
[1]
[2]
[3]
[4]
[30]
[31]
[1]
[2]
[3]
[4]
[5]
[32]
[33]
[34]
names
class
theCall
dfr
xprobs
xfield
filter
sessinfo
[1]
[1]
[2]
[3]
[4]
[5]
[6]
[7]
[8]
[9]
[10]
[11]
[12]
[13]
[14]
[2]
[3]
[4]
[5]
[1]
[2]
[3]
[4]
[5]
[6]
[6]
[1]
[2]
[3]
[4]
[5]
[6]
[7]
[8]
[9]
[10]
[11]
[12]
[13]
[14]
[15]
[16]
[17]
[18]
[19]
[20]
[21]
[22]
[23]
[24]
[25]
[26]
[27]
[28]
[29]
[30]
[31]
[32]
[33]
[34]
[35]
[36]
[37]
[38]
[39]
[40]
[41]
[42]
[43]
[44]
[45]
[46]
[47]
[48]
[49]
[50]
[51]
[52]
[53]
[54]
[55]
[56]
[57]
[58]
[59]
names
class
filterUsed
<environment: namespace:base>
x
class
package
[2]
[1]
[2]
names
out.attrs
[1]
[2]
[1]
[2]
names
row.names
class
names
[30]
[1]
tab
[1]
[2]
[3]
[4]
names
row.names
class
FDRfunc
<environment: 0x555d6a199f90>
assoc
FDRmodel
[1]
[1]
[2]
[3]
[4]
[5]
[6]
[7]
[8]
[9]
[1]
[2]
[3]
[4]
[5]
[10]
[11]
[12]
[13]
[14]
[15]
[16]
[17]
[1]
[2]
[3]
[4]
[5]
[6]
[7]
[8]
[9]
[10]
[11]
[18]
[19]
[20]
[21]
[22]
[23]
[24]
[25]
[26]
formula
data
[27]
[28]
[29]
[1]
[2]
[3]
[4]
[30]
[31]
[1]
[2]
[3]
[4]
[5]
[32]
[33]
[34]
names
class
theCall
dfr
xprobs
xfield
filter
sessinfo
[1]
[1]
[2]
[3]
[4]
[5]
[6]
[7]
[8]
[9]
[10]
[11]
[12]
[13]
[14]
[2]
[3]
[4]
[5]
[1]
[2]
[3]
[4]
[5]
[6]
[6]
[1]
[2]
[3]
[4]
[5]
[6]
[7]
[8]
[9]
[10]
[11]
[12]
[13]
[14]
[15]
[16]
[17]
[18]
[19]
[20]
[21]
[22]
[23]
[24]
[25]
[26]
[27]
[28]
[29]
[30]
[31]
[32]
[33]
[34]
[35]
[36]
[37]
[38]
[39]
[40]
[41]
[42]
[43]
[44]
[45]
[46]
[47]
[48]
[49]
[50]
[51]
[52]
[53]
[54]
[55]
[56]
[57]
[58]
[59]
names
class
filterUsed
<environment: namespace:base>
x
class
package
[2]
[1]
[2]
names
out.attrs
[1]
[2]
[1]
[2]
names
row.names
class
names
[31]
[1]
tab
[1]
[2]
[3]
[4]
names
row.names
class
FDRfunc
<environment: 0x555d6a184af0>
assoc
FDRmodel
[1]
[1]
[2]
[3]
[4]
[5]
[6]
[7]
[8]
[9]
[1]
[2]
[3]
[4]
[5]
[10]
[11]
[12]
[13]
[14]
[15]
[16]
[17]
[1]
[2]
[3]
[4]
[5]
[6]
[7]
[8]
[9]
[10]
[11]
[18]
[19]
[20]
[21]
[22]
[23]
[24]
[25]
[26]
formula
data
[27]
[28]
[29]
[1]
[2]
[3]
[4]
[30]
[31]
[1]
[2]
[3]
[4]
[5]
[32]
[33]
[34]
names
class
theCall
dfr
xprobs
xfield
filter
sessinfo
[1]
[1]
[2]
[3]
[4]
[5]
[6]
[7]
[8]
[9]
[10]
[11]
[12]
[13]
[14]
[2]
[3]
[4]
[5]
[1]
[2]
[3]
[4]
[5]
[6]
[6]
[1]
[2]
[3]
[4]
[5]
[6]
[7]
[8]
[9]
[10]
[11]
[12]
[13]
[14]
[15]
[16]
[17]
[18]
[19]
[20]
[21]
[22]
[23]
[24]
[25]
[26]
[27]
[28]
[29]
[30]
[31]
[32]
[33]
[34]
[35]
[36]
[37]
[38]
[39]
[40]
[41]
[42]
[43]
[44]
[45]
[46]
[47]
[48]
[49]
[50]
[51]
[52]
[53]
[54]
[55]
[56]
[57]
[58]
[59]
names
class
filterUsed
<environment: namespace:base>
x
class
package
[2]
[1]
[2]
names
out.attrs
[1]
[2]
[1]
[2]
names
row.names
class
names
[32]
[1]
tab
[1]
[2]
[3]
[4]
names
row.names
class
FDRfunc
<environment: 0x555d6a16ebd0>
assoc
FDRmodel
[1]
[1]
[2]
[3]
[4]
[5]
[6]
[7]
[8]
[9]
[1]
[2]
[3]
[4]
[5]
[10]
[11]
[12]
[13]
[14]
[15]
[16]
[17]
[1]
[2]
[3]
[4]
[5]
[6]
[7]
[8]
[9]
[10]
[11]
[18]
[19]
[20]
[21]
[22]
[23]
[24]
[25]
[26]
formula
data
[27]
[28]
[29]
[1]
[2]
[3]
[4]
[30]
[31]
[1]
[2]
[3]
[4]
[5]
[32]
[33]
[34]
names
class
theCall
dfr
xprobs
xfield
filter
sessinfo
[1]
[1]
[2]
[3]
[4]
[5]
[6]
[7]
[8]
[9]
[10]
[11]
[12]
[13]
[14]
[2]
[3]
[4]
[5]
[1]
[2]
[3]
[4]
[5]
[6]
[6]
[1]
[2]
[3]
[4]
[5]
[6]
[7]
[8]
[9]
[10]
[11]
[12]
[13]
[14]
[15]
[16]
[17]
[18]
[19]
[20]
[21]
[22]
[23]
[24]
[25]
[26]
[27]
[28]
[29]
[30]
[31]
[32]
[33]
[34]
[35]
[36]
[37]
[38]
[39]
[40]
[41]
[42]
[43]
[44]
[45]
[46]
[47]
[48]
[49]
[50]
[51]
[52]
[53]
[54]
[55]
[56]
[57]
[58]
[59]
names
class
filterUsed
<environment: namespace:base>
x
class
package
[2]
[1]
[2]
names
out.attrs
[1]
[2]
[1]
[2]
names
row.names
class
names
[33]
[1]
tab
[1]
[2]
[3]
[4]
names
row.names
class
FDRfunc
<environment: 0x555d6a158b60>
assoc
FDRmodel
[1]
[1]
[2]
[3]
[4]
[5]
[6]
[7]
[8]
[9]
[1]
[2]
[3]
[4]
[5]
[10]
[11]
[12]
[13]
[14]
[15]
[16]
[17]
[1]
[2]
[3]
[4]
[5]
[6]
[7]
[8]
[9]
[10]
[11]
[18]
[19]
[20]
[21]
[22]
[23]
[24]
[25]
[26]
formula
data
[27]
[28]
[29]
[1]
[2]
[3]
[4]
[30]
[31]
[1]
[2]
[3]
[4]
[5]
[32]
[33]
[34]
names
class
theCall
dfr
xprobs
xfield
filter
sessinfo
[1]
[1]
[2]
[3]
[4]
[5]
[6]
[7]
[8]
[9]
[10]
[11]
[12]
[13]
[14]
[2]
[3]
[4]
[5]
[1]
[2]
[3]
[4]
[5]
[6]
[6]
[1]
[2]
[3]
[4]
[5]
[6]
[7]
[8]
[9]
[10]
[11]
[12]
[13]
[14]
[15]
[16]
[17]
[18]
[19]
[20]
[21]
[22]
[23]
[24]
[25]
[26]
[27]
[28]
[29]
[30]
[31]
[32]
[33]
[34]
[35]
[36]
[37]
[38]
[39]
[40]
[41]
[42]
[43]
[44]
[45]
[46]
[47]
[48]
[49]
[50]
[51]
[52]
[53]
[54]
[55]
[56]
[57]
[58]
[59]
names
class
filterUsed
<environment: namespace:base>
x
class
package
[2]
[1]
[2]
names
out.attrs
[1]
[2]
[1]
[2]
names
row.names
class
names
[34]
[1]
tab
[1]
[2]
[3]
[4]
names
row.names
class
FDRfunc
<environment: 0x555d6a144f08>
assoc
FDRmodel
[1]
[1]
[2]
[3]
[4]
[5]
[6]
[7]
[8]
[9]
[1]
[2]
[3]
[4]
[5]
[10]
[11]
[12]
[13]
[14]
[15]
[16]
[17]
[1]
[2]
[3]
[4]
[5]
[6]
[7]
[8]
[9]
[10]
[11]
[18]
[19]
[20]
[21]
[22]
[23]
[24]
[25]
[26]
formula
data
[27]
[28]
[29]
[1]
[2]
[3]
[4]
[30]
[31]
[1]
[2]
[3]
[4]
[5]
[32]
[33]
[34]
names
class
theCall
dfr
xprobs
xfield
filter
sessinfo
[1]
[1]
[2]
[3]
[4]
[5]
[6]
[7]
[8]
[9]
[10]
[11]
[12]
[13]
[14]
[2]
[3]
[4]
[5]
[1]
[2]
[3]
[4]
[5]
[6]
[6]
[1]
[2]
[3]
[4]
[5]
[6]
[7]
[8]
[9]
[10]
[11]
[12]
[13]
[14]
[15]
[16]
[17]
[18]
[19]
[20]
[21]
[22]
[23]
[24]
[25]
[26]
[27]
[28]
[29]
[30]
[31]
[32]
[33]
[34]
[35]
[36]
[37]
[38]
[39]
[40]
[41]
[42]
[43]
[44]
[45]
[46]
[47]
[48]
[49]
[50]
[51]
[52]
[53]
[54]
[55]
[56]
[57]
[58]
[59]
names
class
filterUsed
<environment: namespace:base>
x
class
package
[2]
[1]
[2]
names
out.attrs
[1]
[2]
[1]
[2]
names
row.names
class
names
[35]
[1]
tab
[1]
[2]
[3]
[4]
names
row.names
class
FDRfunc
<environment: 0x555d6a127d90>
assoc
FDRmodel
[1]
[1]
[2]
[3]
[4]
[5]
[6]
[7]
[8]
[9]
[1]
[2]
[3]
[4]
[5]
[10]
[11]
[12]
[13]
[14]
[15]
[16]
[17]
[1]
[2]
[3]
[4]
[5]
[6]
[7]
[8]
[9]
[10]
[11]
[18]
[19]
[20]
[21]
[22]
[23]
[24]
[25]
[26]
formula
data
[27]
[28]
[29]
[1]
[2]
[3]
[4]
[30]
[31]
[1]
[2]
[3]
[4]
[5]
[32]
[33]
[34]
names
class
theCall
dfr
xprobs
xfield
filter
sessinfo
[1]
[1]
[2]
[3]
[4]
[5]
[6]
[7]
[8]
[9]
[10]
[11]
[12]
[13]
[14]
[2]
[3]
[4]
[5]
[1]
[2]
[3]
[4]
[5]
[6]
[6]
[1]
[2]
[3]
[4]
[5]
[6]
[7]
[8]
[9]
[10]
[11]
[12]
[13]
[14]
[15]
[16]
[17]
[18]
[19]
[20]
[21]
[22]
[23]
[24]
[25]
[26]
[27]
[28]
[29]
[30]
[31]
[32]
[33]
[34]
[35]
[36]
[37]
[38]
[39]
[40]
[41]
[42]
[43]
[44]
[45]
[46]
[47]
[48]
[49]
[50]
[51]
[52]
[53]
[54]
[55]
[56]
[57]
[58]
[59]
names
class
filterUsed
<environment: namespace:base>
x
class
package
[2]
[1]
[2]
names
out.attrs
[1]
[2]
[1]
[2]
names
row.names
class
names
[36]
[1]
tab
[1]
[2]
[3]
[4]
names
row.names
class
FDRfunc
<environment: 0x555d6a114238>
assoc
FDRmodel
[1]
[1]
[2]
[3]
[4]
[5]
[6]
[7]
[8]
[9]
[1]
[2]
[3]
[4]
[5]
[10]
[11]
[12]
[13]
[14]
[15]
[16]
[17]
[1]
[2]
[3]
[4]
[5]
[6]
[7]
[8]
[9]
[10]
[11]
[18]
[19]
[20]
[21]
[22]
[23]
[24]
[25]
[26]
formula
data
[27]
[28]
[29]
[1]
[2]
[3]
[4]
[30]
[31]
[1]
[2]
[3]
[4]
[5]
[32]
[33]
[34]
names
class
theCall
dfr
xprobs
xfield
filter
sessinfo
[1]
[1]
[2]
[3]
[4]
[5]
[6]
[7]
[8]
[9]
[10]
[11]
[12]
[13]
[14]
[2]
[3]
[4]
[5]
[1]
[2]
[3]
[4]
[5]
[6]
[6]
[1]
[2]
[3]
[4]
[5]
[6]
[7]
[8]
[9]
[10]
[11]
[12]
[13]
[14]
[15]
[16]
[17]
[18]
[19]
[20]
[21]
[22]
[23]
[24]
[25]
[26]
[27]
[28]
[29]
[30]
[31]
[32]
[33]
[34]
[35]
[36]
[37]
[38]
[39]
[40]
[41]
[42]
[43]
[44]
[45]
[46]
[47]
[48]
[49]
[50]
[51]
[52]
[53]
[54]
[55]
[56]
[57]
[58]
[59]
names
class
filterUsed
<environment: namespace:base>
x
class
package
[2]
[1]
[2]
names
out.attrs
[1]
[2]
[1]
[2]
names
row.names
class
names
[37]
[1]
tab
[1]
[2]
[3]
[4]
names
row.names
class
FDRfunc
<environment: 0x555d6a102640>
assoc
FDRmodel
[1]
[1]
[2]
[3]
[4]
[5]
[6]
[7]
[8]
[9]
[1]
[2]
[3]
[4]
[5]
[10]
[11]
[12]
[13]
[14]
[15]
[16]
[17]
[1]
[2]
[3]
[4]
[5]
[6]
[7]
[8]
[9]
[10]
[11]
[18]
[19]
[20]
[21]
[22]
[23]
[24]
[25]
[26]
formula
data
[27]
[28]
[29]
[1]
[2]
[3]
[4]
[30]
[31]
[1]
[2]
[3]
[4]
[5]
[32]
[33]
[34]
names
class
theCall
dfr
xprobs
xfield
filter
sessinfo
[1]
[1]
[2]
[3]
[4]
[5]
[6]
[7]
[8]
[9]
[10]
[11]
[12]
[13]
[14]
[2]
[3]
[4]
[5]
[1]
[2]
[3]
[4]
[5]
[6]
[6]
[1]
[2]
[3]
[4]
[5]
[6]
[7]
[8]
[9]
[10]
[11]
[12]
[13]
[14]
[15]
[16]
[17]
[18]
[19]
[20]
[21]
[22]
[23]
[24]
[25]
[26]
[27]
[28]
[29]
[30]
[31]
[32]
[33]
[34]
[35]
[36]
[37]
[38]
[39]
[40]
[41]
[42]
[43]
[44]
[45]
[46]
[47]
[48]
[49]
[50]
[51]
[52]
[53]
[54]
[55]
[56]
[57]
[58]
[59]
names
class
filterUsed
<environment: namespace:base>
x
class
package
[2]
[1]
[2]
names
out.attrs
[1]
[2]
[1]
[2]
names
row.names
class
names
[38]
[1]
tab
[1]
[2]
[3]
[4]
names
row.names
class
FDRfunc
<environment: 0x555d6a0eb180>
assoc
FDRmodel
[1]
[1]
[2]
[3]
[4]
[5]
[6]
[7]
[8]
[9]
[1]
[2]
[3]
[4]
[5]
[10]
[11]
[12]
[13]
[14]
[15]
[16]
[17]
[1]
[2]
[3]
[4]
[5]
[6]
[7]
[8]
[9]
[10]
[11]
[18]
[19]
[20]
[21]
[22]
[23]
[24]
[25]
[26]
formula
data
[27]
[28]
[29]
[1]
[2]
[3]
[4]
[30]
[31]
[1]
[2]
[3]
[4]
[5]
[32]
[33]
[34]
names
class
theCall
dfr
xprobs
xfield
filter
sessinfo
[1]
[1]
[2]
[3]
[4]
[5]
[6]
[7]
[8]
[9]
[10]
[11]
[12]
[13]
[14]
[2]
[3]
[4]
[5]
[1]
[2]
[3]
[4]
[5]
[6]
[6]
[1]
[2]
[3]
[4]
[5]
[6]
[7]
[8]
[9]
[10]
[11]
[12]
[13]
[14]
[15]
[16]
[17]
[18]
[19]
[20]
[21]
[22]
[23]
[24]
[25]
[26]
[27]
[28]
[29]
[30]
[31]
[32]
[33]
[34]
[35]
[36]
[37]
[38]
[39]
[40]
[41]
[42]
[43]
[44]
[45]
[46]
[47]
[48]
[49]
[50]
[51]
[52]
[53]
[54]
[55]
[56]
[57]
[58]
[59]
names
class
filterUsed
<environment: namespace:base>
x
class
package
[2]
[1]
[2]
names
out.attrs
[1]
[2]
[1]
[2]
names
row.names
class
names
[39]
[1]
tab
[1]
[2]
[3]
[4]
names
row.names
class
FDRfunc
<environment: 0x555d6a0da0a0>
assoc
FDRmodel
[1]
[1]
[2]
[3]
[4]
[5]
[6]
[7]
[8]
[9]
[1]
[2]
[3]
[4]
[5]
[10]
[11]
[12]
[13]
[14]
[15]
[16]
[17]
[1]
[2]
[3]
[4]
[5]
[6]
[7]
[8]
[9]
[10]
[11]
[18]
[19]
[20]
[21]
[22]
[23]
[24]
[25]
[26]
formula
data
[27]
[28]
[29]
[1]
[2]
[3]
[4]
[30]
[31]
[1]
[2]
[3]
[4]
[5]
[32]
[33]
[34]
names
class
theCall
dfr
xprobs
xfield
filter
sessinfo
[1]
[1]
[2]
[3]
[4]
[5]
[6]
[7]
[8]
[9]
[10]
[11]
[12]
[13]
[14]
[2]
[3]
[4]
[5]
[1]
[2]
[3]
[4]
[5]
[6]
[6]
[1]
[2]
[3]
[4]
[5]
[6]
[7]
[8]
[9]
[10]
[11]
[12]
[13]
[14]
[15]
[16]
[17]
[18]
[19]
[20]
[21]
[22]
[23]
[24]
[25]
[26]
[27]
[28]
[29]
[30]
[31]
[32]
[33]
[34]
[35]
[36]
[37]
[38]
[39]
[40]
[41]
[42]
[43]
[44]
[45]
[46]
[47]
[48]
[49]
[50]
[51]
[52]
[53]
[54]
[55]
[56]
[57]
[58]
[59]
names
class
filterUsed
<environment: namespace:base>
x
class
package
[2]
[1]
[2]
names
out.attrs
[1]
[2]
[1]
[2]
names
row.names
class
names
[40]
[1]
tab
[1]
[2]
[3]
[4]
names
row.names
class
FDRfunc
<environment: 0x555d6a0c2df8>
assoc
FDRmodel
[1]
[1]
[2]
[3]
[4]
[5]
[6]
[7]
[8]
[9]
[1]
[2]
[3]
[4]
[5]
[10]
[11]
[12]
[13]
[14]
[15]
[16]
[17]
[1]
[2]
[3]
[4]
[5]
[6]
[7]
[8]
[9]
[10]
[11]
[18]
[19]
[20]
[21]
[22]
[23]
[24]
[25]
[26]
formula
data
[27]
[28]
[29]
[1]
[2]
[3]
[4]
[30]
[31]
[1]
[2]
[3]
[4]
[5]
[32]
[33]
[34]
names
class
theCall
dfr
xprobs
xfield
filter
sessinfo
[1]
[1]
[2]
[3]
[4]
[5]
[6]
[7]
[8]
[9]
[10]
[11]
[12]
[13]
[14]
[2]
[3]
[4]
[5]
[1]
[2]
[3]
[4]
[5]
[6]
[6]
[1]
[2]
[3]
[4]
[5]
[6]
[7]
[8]
[9]
[10]
[11]
[12]
[13]
[14]
[15]
[16]
[17]
[18]
[19]
[20]
[21]
[22]
[23]
[24]
[25]
[26]
[27]
[28]
[29]
[30]
[31]
[32]
[33]
[34]
[35]
[36]
[37]
[38]
[39]
[40]
[41]
[42]
[43]
[44]
[45]
[46]
[47]
[48]
[49]
[50]
[51]
[52]
[53]
[54]
[55]
[56]
[57]
[58]
[59]
names
class
filterUsed
<environment: namespace:base>
x
class
package
[2]
[1]
[2]
names
out.attrs
[1]
[2]
[1]
[2]
names
row.names
class
names
[41]
[1]
tab
[1]
[2]
[3]
[4]
names
row.names
class
FDRfunc
<environment: 0x555d6a0b0c88>
assoc
FDRmodel
[1]
[1]
[2]
[3]
[4]
[5]
[6]
[7]
[8]
[9]
[1]
[2]
[3]
[4]
[5]
[10]
[11]
[12]
[13]
[14]
[15]
[16]
[17]
[1]
[2]
[3]
[4]
[5]
[6]
[7]
[8]
[9]
[10]
[11]
[18]
[19]
[20]
[21]
[22]
[23]
[24]
[25]
[26]
formula
data
[27]
[28]
[29]
[1]
[2]
[3]
[4]
[30]
[31]
[1]
[2]
[3]
[4]
[5]
[32]
[33]
[34]
names
class
theCall
dfr
xprobs
xfield
filter
sessinfo
[1]
[1]
[2]
[3]
[4]
[5]
[6]
[7]
[8]
[9]
[10]
[11]
[12]
[13]
[14]
[2]
[3]
[4]
[5]
[1]
[2]
[3]
[4]
[5]
[6]
[6]
[1]
[2]
[3]
[4]
[5]
[6]
[7]
[8]
[9]
[10]
[11]
[12]
[13]
[14]
[15]
[16]
[17]
[18]
[19]
[20]
[21]
[22]
[23]
[24]
[25]
[26]
[27]
[28]
[29]
[30]
[31]
[32]
[33]
[34]
[35]
[36]
[37]
[38]
[39]
[40]
[41]
[42]
[43]
[44]
[45]
[46]
[47]
[48]
[49]
[50]
[51]
[52]
[53]
[54]
[55]
[56]
[57]
[58]
[59]
names
class
filterUsed
<environment: namespace:base>
x
class
package
[2]
[1]
[2]
names
out.attrs
[1]
[2]
[1]
[2]
names
row.names
class
names
[42]
[1]
tab
[1]
[2]
[3]
[4]
names
row.names
class
FDRfunc
<environment: 0x555d6a0999d8>
assoc
FDRmodel
[1]
[1]
[2]
[3]
[4]
[5]
[6]
[7]
[8]
[9]
[1]
[2]
[3]
[4]
[5]
[10]
[11]
[12]
[13]
[14]
[15]
[16]
[17]
[1]
[2]
[3]
[4]
[5]
[6]
[7]
[8]
[9]
[10]
[11]
[18]
[19]
[20]
[21]
[22]
[23]
[24]
[25]
[26]
formula
data
[27]
[28]
[29]
[1]
[2]
[3]
[4]
[30]
[31]
[1]
[2]
[3]
[4]
[5]
[32]
[33]
[34]
names
class
theCall
dfr
xprobs
xfield
filter
sessinfo
[1]
[1]
[2]
[3]
[4]
[5]
[6]
[7]
[8]
[9]
[10]
[11]
[12]
[13]
[14]
[2]
[3]
[4]
[5]
[1]
[2]
[3]
[4]
[5]
[6]
[6]
[1]
[2]
[3]
[4]
[5]
[6]
[7]
[8]
[9]
[10]
[11]
[12]
[13]
[14]
[15]
[16]
[17]
[18]
[19]
[20]
[21]
[22]
[23]
[24]
[25]
[26]
[27]
[28]
[29]
[30]
[31]
[32]
[33]
[34]
[35]
[36]
[37]
[38]
[39]
[40]
[41]
[42]
[43]
[44]
[45]
[46]
[47]
[48]
[49]
[50]
[51]
[52]
[53]
[54]
[55]
[56]
[57]
[58]
[59]
names
class
filterUsed
<environment: namespace:base>
x
class
package
[2]
[1]
[2]
names
out.attrs
[1]
[2]
[1]
[2]
names
row.names
class
names
[43]
[1]
tab
[1]
[2]
[3]
[4]
names
row.names
class
FDRfunc
<environment: 0x555d6a0858b8>
assoc
FDRmodel
[1]
[1]
[2]
[3]
[4]
[5]
[6]
[7]
[8]
[9]
[1]
[2]
[3]
[4]
[5]
[10]
[11]
[12]
[13]
[14]
[15]
[16]
[17]
[1]
[2]
[3]
[4]
[5]
[6]
[7]
[8]
[9]
[10]
[11]
[18]
[19]
[20]
[21]
[22]
[23]
[24]
[25]
[26]
formula
data
[27]
[28]
[29]
[1]
[2]
[3]
[4]
[30]
[31]
[1]
[2]
[3]
[4]
[5]
[32]
[33]
[34]
names
class
theCall
dfr
xprobs
xfield
filter
sessinfo
[1]
[1]
[2]
[3]
[4]
[5]
[6]
[7]
[8]
[9]
[10]
[11]
[12]
[13]
[14]
[2]
[3]
[4]
[5]
[1]
[2]
[3]
[4]
[5]
[6]
[6]
[1]
[2]
[3]
[4]
[5]
[6]
[7]
[8]
[9]
[10]
[11]
[12]
[13]
[14]
[15]
[16]
[17]
[18]
[19]
[20]
[21]
[22]
[23]
[24]
[25]
[26]
[27]
[28]
[29]
[30]
[31]
[32]
[33]
[34]
[35]
[36]
[37]
[38]
[39]
[40]
[41]
[42]
[43]
[44]
[45]
[46]
[47]
[48]
[49]
[50]
[51]
[52]
[53]
[54]
[55]
[56]
[57]
[58]
[59]
names
class
filterUsed
<environment: namespace:base>
x
class
package
[2]
[1]
[2]
names
out.attrs
[1]
[2]
[1]
[2]
names
row.names
class
names
[44]
[1]
tab
[1]
[2]
[3]
[4]
names
row.names
class
FDRfunc
<environment: 0x555d6a06d7c0>
assoc
FDRmodel
[1]
[1]
[2]
[3]
[4]
[5]
[6]
[7]
[8]
[9]
[1]
[2]
[3]
[4]
[5]
[10]
[11]
[12]
[13]
[14]
[15]
[16]
[17]
[1]
[2]
[3]
[4]
[5]
[6]
[7]
[8]
[9]
[10]
[11]
[18]
[19]
[20]
[21]
[22]
[23]
[24]
[25]
[26]
formula
data
[27]
[28]
[29]
[1]
[2]
[3]
[4]
[30]
[31]
[1]
[2]
[3]
[4]
[5]
[32]
[33]
[34]
names
class
theCall
dfr
xprobs
xfield
filter
sessinfo
[1]
[1]
[2]
[3]
[4]
[5]
[6]
[7]
[8]
[9]
[10]
[11]
[12]
[13]
[14]
[2]
[3]
[4]
[5]
[1]
[2]
[3]
[4]
[5]
[6]
[6]
[1]
[2]
[3]
[4]
[5]
[6]
[7]
[8]
[9]
[10]
[11]
[12]
[13]
[14]
[15]
[16]
[17]
[18]
[19]
[20]
[21]
[22]
[23]
[24]
[25]
[26]
[27]
[28]
[29]
[30]
[31]
[32]
[33]
[34]
[35]
[36]
[37]
[38]
[39]
[40]
[41]
[42]
[43]
[44]
[45]
[46]
[47]
[48]
[49]
[50]
[51]
[52]
[53]
[54]
[55]
[56]
[57]
[58]
[59]
names
class
filterUsed
<environment: namespace:base>
x
class
package
[2]
[1]
[2]
names
out.attrs
[1]
[2]
[1]
[2]
names
row.names
class
names
[45]
[1]
tab
[1]
[2]
[3]
[4]
names
row.names
class
FDRfunc
<environment: 0x555d6a0559e0>
assoc
FDRmodel
[1]
[1]
[2]
[3]
[4]
[5]
[6]
[7]
[8]
[9]
[1]
[2]
[3]
[4]
[5]
[10]
[11]
[12]
[13]
[14]
[15]
[16]
[17]
[1]
[2]
[3]
[4]
[5]
[6]
[7]
[8]
[9]
[10]
[11]
[18]
[19]
[20]
[21]
[22]
[23]
[24]
[25]
[26]
formula
data
[27]
[28]
[29]
[1]
[2]
[3]
[4]
[30]
[31]
[1]
[2]
[3]
[4]
[5]
[32]
[33]
[34]
names
class
theCall
dfr
xprobs
xfield
filter
sessinfo
[1]
[1]
[2]
[3]
[4]
[5]
[6]
[7]
[8]
[9]
[10]
[11]
[12]
[13]
[14]
[2]
[3]
[4]
[5]
[1]
[2]
[3]
[4]
[5]
[6]
[6]
[1]
[2]
[3]
[4]
[5]
[6]
[7]
[8]
[9]
[10]
[11]
[12]
[13]
[14]
[15]
[16]
[17]
[18]
[19]
[20]
[21]
[22]
[23]
[24]
[25]
[26]
[27]
[28]
[29]
[30]
[31]
[32]
[33]
[34]
[35]
[36]
[37]
[38]
[39]
[40]
[41]
[42]
[43]
[44]
[45]
[46]
[47]
[48]
[49]
[50]
[51]
[52]
[53]
[54]
[55]
[56]
[57]
[58]
[59]
names
class
filterUsed
<environment: namespace:base>
x
class
package
[2]
[1]
[2]
names
out.attrs
[1]
[2]
[1]
[2]
names
row.names
class
names
[46]
[1]
tab
[1]
[2]
[3]
[4]
names
row.names
class
FDRfunc
<environment: 0x555d69ef6ef0>
assoc
FDRmodel
[1]
[1]
[2]
[3]
[4]
[5]
[6]
[7]
[8]
[9]
[1]
[2]
[3]
[4]
[5]
[10]
[11]
[12]
[13]
[14]
[15]
[16]
[17]
[1]
[2]
[3]
[4]
[5]
[6]
[7]
[8]
[9]
[10]
[11]
[18]
[19]
[20]
[21]
[22]
[23]
[24]
[25]
[26]
formula
data
[27]
[28]
[29]
[1]
[2]
[3]
[4]
[30]
[31]
[1]
[2]
[3]
[4]
[5]
[32]
[33]
[34]
names
class
theCall
dfr
xprobs
xfield
filter
sessinfo
[1]
[1]
[2]
[3]
[4]
[5]
[6]
[7]
[8]
[9]
[10]
[11]
[12]
[13]
[14]
[2]
[3]
[4]
[5]
[1]
[2]
[3]
[4]
[5]
[6]
[6]
[1]
[2]
[3]
[4]
[5]
[6]
[7]
[8]
[9]
[10]
[11]
[12]
[13]
[14]
[15]
[16]
[17]
[18]
[19]
[20]
[21]
[22]
[23]
[24]
[25]
[26]
[27]
[28]
[29]
[30]
[31]
[32]
[33]
[34]
[35]
[36]
[37]
[38]
[39]
[40]
[41]
[42]
[43]
[44]
[45]
[46]
[47]
[48]
[49]
[50]
[51]
[52]
[53]
[54]
[55]
[56]
[57]
[58]
[59]
names
class
filterUsed
<environment: namespace:base>
x
class
package
[2]
[1]
[2]
names
out.attrs
[1]
[2]
[1]
[2]
names
row.names
class
names
[47]
[1]
tab
[1]
[2]
[3]
[4]
names
row.names
class
FDRfunc
<environment: 0x555d69ed53f8>
assoc
FDRmodel
[1]
[1]
[2]
[3]
[4]
[5]
[6]
[7]
[8]
[9]
[1]
[2]
[3]
[4]
[5]
[10]
[11]
[12]
[13]
[14]
[15]
[16]
[17]
[1]
[2]
[3]
[4]
[5]
[6]
[7]
[8]
[9]
[10]
[11]
[18]
[19]
[20]
[21]
[22]
[23]
[24]
[25]
[26]
formula
data
[27]
[28]
[29]
[1]
[2]
[3]
[4]
[30]
[31]
[1]
[2]
[3]
[4]
[5]
[32]
[33]
[34]
names
class
theCall
dfr
xprobs
xfield
filter
sessinfo
[1]
[1]
[2]
[3]
[4]
[5]
[6]
[7]
[8]
[9]
[10]
[11]
[12]
[13]
[14]
[2]
[3]
[4]
[5]
[1]
[2]
[3]
[4]
[5]
[6]
[6]
[1]
[2]
[3]
[4]
[5]
[6]
[7]
[8]
[9]
[10]
[11]
[12]
[13]
[14]
[15]
[16]
[17]
[18]
[19]
[20]
[21]
[22]
[23]
[24]
[25]
[26]
[27]
[28]
[29]
[30]
[31]
[32]
[33]
[34]
[35]
[36]
[37]
[38]
[39]
[40]
[41]
[42]
[43]
[44]
[45]
[46]
[47]
[48]
[49]
[50]
[51]
[52]
[53]
[54]
[55]
[56]
[57]
[58]
[59]
names
class
filterUsed
<environment: namespace:base>
x
class
package
[2]
[1]
[2]
names
out.attrs
[1]
[2]
[1]
[2]
names
row.names
class
names
[48]
[1]
tab
[1]
[2]
[3]
[4]
names
row.names
class
FDRfunc
<environment: 0x555d69eba470>
assoc
FDRmodel
[1]
[1]
[2]
[3]
[4]
[5]
[6]
[7]
[8]
[9]
[1]
[2]
[3]
[4]
[5]
[10]
[11]
[12]
[13]
[14]
[15]
[16]
[17]
[1]
[2]
[3]
[4]
[5]
[6]
[7]
[8]
[9]
[10]
[11]
[18]
[19]
[20]
[21]
[22]
[23]
[24]
[25]
[26]
formula
data
[27]
[28]
[29]
[1]
[2]
[3]
[4]
[30]
[31]
[1]
[2]
[3]
[4]
[5]
[32]
[33]
[34]
names
class
theCall
dfr
xprobs
xfield
filter
sessinfo
[1]
[1]
[2]
[3]
[4]
[5]
[6]
[7]
[8]
[9]
[10]
[11]
[12]
[13]
[14]
[2]
[3]
[4]
[5]
[1]
[2]
[3]
[4]
[5]
[6]
[6]
[1]
[2]
[3]
[4]
[5]
[6]
[7]
[8]
[9]
[10]
[11]
[12]
[13]
[14]
[15]
[16]
[17]
[18]
[19]
[20]
[21]
[22]
[23]
[24]
[25]
[26]
[27]
[28]
[29]
[30]
[31]
[32]
[33]
[34]
[35]
[36]
[37]
[38]
[39]
[40]
[41]
[42]
[43]
[44]
[45]
[46]
[47]
[48]
[49]
[50]
[51]
[52]
[53]
[54]
[55]
[56]
[57]
[58]
[59]
names
class
filterUsed
<environment: namespace:base>
x
class
package
[2]
[1]
[2]
names
out.attrs
[1]
[2]
[1]
[2]
names
row.names
class
names
[49]
[1]
tab
[1]
[2]
[3]
[4]
names
row.names
class
FDRfunc
<environment: 0x555d69ea3ad0>
assoc
FDRmodel
[1]
[1]
[2]
[3]
[4]
[5]
[6]
[7]
[8]
[9]
[1]
[2]
[3]
[4]
[5]
[10]
[11]
[12]
[13]
[14]
[15]
[16]
[17]
[1]
[2]
[3]
[4]
[5]
[6]
[7]
[8]
[9]
[10]
[11]
[18]
[19]
[20]
[21]
[22]
[23]
[24]
[25]
[26]
formula
data
[27]
[28]
[29]
[1]
[2]
[3]
[4]
[30]
[31]
[1]
[2]
[3]
[4]
[5]
[32]
[33]
[34]
names
class
theCall
dfr
xprobs
xfield
filter
sessinfo
[1]
[1]
[2]
[3]
[4]
[5]
[6]
[7]
[8]
[9]
[10]
[11]
[12]
[13]
[14]
[2]
[3]
[4]
[5]
[1]
[2]
[3]
[4]
[5]
[6]
[6]
[1]
[2]
[3]
[4]
[5]
[6]
[7]
[8]
[9]
[10]
[11]
[12]
[13]
[14]
[15]
[16]
[17]
[18]
[19]
[20]
[21]
[22]
[23]
[24]
[25]
[26]
[27]
[28]
[29]
[30]
[31]
[32]
[33]
[34]
[35]
[36]
[37]
[38]
[39]
[40]
[41]
[42]
[43]
[44]
[45]
[46]
[47]
[48]
[49]
[50]
[51]
[52]
[53]
[54]
[55]
[56]
[57]
[58]
[59]
names
class
filterUsed
<environment: namespace:base>
x
class
package
[2]
[1]
[2]
names
out.attrs
[1]
[2]
[1]
[2]
names
row.names
class
names
[50]
[1]
tab
[1]
[2]
[3]
[4]
names
row.names
class
FDRfunc
<environment: 0x555d69e8f040>
assoc
FDRmodel
[1]
[1]
[2]
[3]
[4]
[5]
[6]
[7]
[8]
[9]
[1]
[2]
[3]
[4]
[5]
[10]
[11]
[12]
[13]
[14]
[15]
[16]
[17]
[1]
[2]
[3]
[4]
[5]
[6]
[7]
[8]
[9]
[10]
[11]
[18]
[19]
[20]
[21]
[22]
[23]
[24]
[25]
[26]
formula
data
[27]
[28]
[29]
[1]
[2]
[3]
[4]
[30]
[31]
[1]
[2]
[3]
[4]
[5]
[32]
[33]
[34]
names
class
theCall
dfr
xprobs
xfield
filter
sessinfo
[1]
[1]
[2]
[3]
[4]
[5]
[6]
[7]
[8]
[9]
[10]
[11]
[12]
[13]
[14]
[2]
[3]
[4]
[5]
[1]
[2]
[3]
[4]
[5]
[6]
[6]
[1]
[2]
[3]
[4]
[5]
[6]
[7]
[8]
[9]
[10]
[11]
[12]
[13]
[14]
[15]
[16]
[17]
[18]
[19]
[20]
[21]
[22]
[23]
[24]
[25]
[26]
[27]
[28]
[29]
[30]
[31]
[32]
[33]
[34]
[35]
[36]
[37]
[38]
[39]
[40]
[41]
[42]
[43]
[44]
[45]
[46]
[47]
[48]
[49]
[50]
[51]
[52]
[53]
[54]
[55]
[56]
[57]
[58]
[59]
names
class
filterUsed
<environment: namespace:base>
x
class
package
[2]
[1]
[2]
names
out.attrs
[1]
[2]
[1]
[2]
names
row.names
class
names
[51]
[1]
tab
[1]
[2]
[3]
[4]
names
row.names
class
FDRfunc
<environment: 0x555d69e75f40>
assoc
FDRmodel
[1]
[1]
[2]
[3]
[4]
[5]
[6]
[7]
[8]
[9]
[1]
[2]
[3]
[4]
[5]
[10]
[11]
[12]
[13]
[14]
[15]
[16]
[17]
[1]
[2]
[3]
[4]
[5]
[6]
[7]
[8]
[9]
[10]
[11]
[18]
[19]
[20]
[21]
[22]
[23]
[24]
[25]
[26]
formula
data
[27]
[28]
[29]
[1]
[2]
[3]
[4]
[30]
[31]
[1]
[2]
[3]
[4]
[5]
[32]
[33]
[34]
names
class
theCall
dfr
xprobs
xfield
filter
sessinfo
[1]
[1]
[2]
[3]
[4]
[5]
[6]
[7]
[8]
[9]
[10]
[11]
[12]
[13]
[14]
[2]
[3]
[4]
[5]
[1]
[2]
[3]
[4]
[5]
[6]
[6]
[1]
[2]
[3]
[4]
[5]
[6]
[7]
[8]
[9]
[10]
[11]
[12]
[13]
[14]
[15]
[16]
[17]
[18]
[19]
[20]
[21]
[22]
[23]
[24]
[25]
[26]
[27]
[28]
[29]
[30]
[31]
[32]
[33]
[34]
[35]
[36]
[37]
[38]
[39]
[40]
[41]
[42]
[43]
[44]
[45]
[46]
[47]
[48]
[49]
[50]
[51]
[52]
[53]
[54]
[55]
[56]
[57]
[58]
[59]
names
class
filterUsed
<environment: namespace:base>
x
class
package
[2]
[1]
[2]
names
out.attrs
[1]
[2]
[1]
[2]
names
row.names
class
names
[52]
[1]
tab
[1]
[2]
[3]
[4]
names
row.names
class
FDRfunc
<environment: 0x555d69e55cf0>
assoc
FDRmodel
[1]
[1]
[2]
[3]
[4]
[5]
[6]
[7]
[8]
[9]
[1]
[2]
[3]
[4]
[5]
[10]
[11]
[12]
[13]
[14]
[15]
[16]
[17]
[1]
[2]
[3]
[4]
[5]
[6]
[7]
[8]
[9]
[10]
[11]
[18]
[19]
[20]
[21]
[22]
[23]
[24]
[25]
[26]
formula
data
[27]
[28]
[29]
[1]
[2]
[3]
[4]
[30]
[31]
[1]
[2]
[3]
[4]
[5]
[32]
[33]
[34]
names
class
theCall
dfr
xprobs
xfield
filter
sessinfo
[1]
[1]
[2]
[3]
[4]
[5]
[6]
[7]
[8]
[9]
[10]
[11]
[12]
[13]
[14]
[2]
[3]
[4]
[5]
[1]
[2]
[3]
[4]
[5]
[6]
[6]
[1]
[2]
[3]
[4]
[5]
[6]
[7]
[8]
[9]
[10]
[11]
[12]
[13]
[14]
[15]
[16]
[17]
[18]
[19]
[20]
[21]
[22]
[23]
[24]
[25]
[26]
[27]
[28]
[29]
[30]
[31]
[32]
[33]
[34]
[35]
[36]
[37]
[38]
[39]
[40]
[41]
[42]
[43]
[44]
[45]
[46]
[47]
[48]
[49]
[50]
[51]
[52]
[53]
[54]
[55]
[56]
[57]
[58]
[59]
names
class
filterUsed
<environment: namespace:base>
x
class
package
[2]
[1]
[2]
names
out.attrs
[1]
[2]
[1]
[2]
names
row.names
class
names
[53]
[1]
tab
[1]
[2]
[3]
[4]
names
row.names
class
FDRfunc
<environment: 0x555d69e41b30>
assoc
FDRmodel
[1]
[1]
[2]
[3]
[4]
[5]
[6]
[7]
[8]
[9]
[1]
[2]
[3]
[4]
[5]
[10]
[11]
[12]
[13]
[14]
[15]
[16]
[17]
[1]
[2]
[3]
[4]
[5]
[6]
[7]
[8]
[9]
[10]
[11]
[18]
[19]
[20]
[21]
[22]
[23]
[24]
[25]
[26]
formula
data
[27]
[28]
[29]
[1]
[2]
[3]
[4]
[30]
[31]
[1]
[2]
[3]
[4]
[5]
[32]
[33]
[34]
names
class
theCall
dfr
xprobs
xfield
filter
sessinfo
[1]
[1]
[2]
[3]
[4]
[5]
[6]
[7]
[8]
[9]
[10]
[11]
[12]
[13]
[14]
[2]
[3]
[4]
[5]
[1]
[2]
[3]
[4]
[5]
[6]
[6]
[1]
[2]
[3]
[4]
[5]
[6]
[7]
[8]
[9]
[10]
[11]
[12]
[13]
[14]
[15]
[16]
[17]
[18]
[19]
[20]
[21]
[22]
[23]
[24]
[25]
[26]
[27]
[28]
[29]
[30]
[31]
[32]
[33]
[34]
[35]
[36]
[37]
[38]
[39]
[40]
[41]
[42]
[43]
[44]
[45]
[46]
[47]
[48]
[49]
[50]
[51]
[52]
[53]
[54]
[55]
[56]
[57]
[58]
[59]
names
class
filterUsed
<environment: namespace:base>
x
class
package
[2]
[1]
[2]
names
out.attrs
[1]
[2]
[1]
[2]
names
row.names
class
names
[54]
[1]
tab
[1]
[2]
[3]
[4]
names
row.names
class
FDRfunc
<environment: 0x555d69e29b58>
assoc
FDRmodel
[1]
[1]
[2]
[3]
[4]
[5]
[6]
[7]
[8]
[9]
[1]
[2]
[3]
[4]
[5]
[10]
[11]
[12]
[13]
[14]
[15]
[16]
[17]
[1]
[2]
[3]
[4]
[5]
[6]
[7]
[8]
[9]
[10]
[11]
[18]
[19]
[20]
[21]
[22]
[23]
[24]
[25]
[26]
formula
data
[27]
[28]
[29]
[1]
[2]
[3]
[4]
[30]
[31]
[1]
[2]
[3]
[4]
[5]
[32]
[33]
[34]
names
class
theCall
dfr
xprobs
xfield
filter
sessinfo
[1]
[1]
[2]
[3]
[4]
[5]
[6]
[7]
[8]
[9]
[10]
[11]
[12]
[13]
[14]
[2]
[3]
[4]
[5]
[1]
[2]
[3]
[4]
[5]
[6]
[6]
[1]
[2]
[3]
[4]
[5]
[6]
[7]
[8]
[9]
[10]
[11]
[12]
[13]
[14]
[15]
[16]
[17]
[18]
[19]
[20]
[21]
[22]
[23]
[24]
[25]
[26]
[27]
[28]
[29]
[30]
[31]
[32]
[33]
[34]
[35]
[36]
[37]
[38]
[39]
[40]
[41]
[42]
[43]
[44]
[45]
[46]
[47]
[48]
[49]
[50]
[51]
[52]
[53]
[54]
[55]
[56]
[57]
[58]
[59]
names
class
filterUsed
<environment: namespace:base>
x
class
package
[2]
[1]
[2]
names
out.attrs
[1]
[2]
[1]
[2]
names
row.names
class
names
[55]
[1]
tab
[1]
[2]
[3]
[4]
names
row.names
class
FDRfunc
<environment: 0x555d69e0e428>
assoc
FDRmodel
[1]
[1]
[2]
[3]
[4]
[5]
[6]
[7]
[8]
[9]
[1]
[2]
[3]
[4]
[5]
[10]
[11]
[12]
[13]
[14]
[15]
[16]
[17]
[1]
[2]
[3]
[4]
[5]
[6]
[7]
[8]
[9]
[10]
[11]
[18]
[19]
[20]
[21]
[22]
[23]
[24]
[25]
[26]
formula
data
[27]
[28]
[29]
[1]
[2]
[3]
[4]
[30]
[31]
[1]
[2]
[3]
[4]
[5]
[32]
[33]
[34]
names
class
theCall
dfr
xprobs
xfield
filter
sessinfo
[1]
[1]
[2]
[3]
[4]
[5]
[6]
[7]
[8]
[9]
[10]
[11]
[12]
[13]
[14]
[2]
[3]
[4]
[5]
[1]
[2]
[3]
[4]
[5]
[6]
[6]
[1]
[2]
[3]
[4]
[5]
[6]
[7]
[8]
[9]
[10]
[11]
[12]
[13]
[14]
[15]
[16]
[17]
[18]
[19]
[20]
[21]
[22]
[23]
[24]
[25]
[26]
[27]
[28]
[29]
[30]
[31]
[32]
[33]
[34]
[35]
[36]
[37]
[38]
[39]
[40]
[41]
[42]
[43]
[44]
[45]
[46]
[47]
[48]
[49]
[50]
[51]
[52]
[53]
[54]
[55]
[56]
[57]
[58]
[59]
names
class
filterUsed
<environment: namespace:base>
x
class
package
[2]
[1]
[2]
names
out.attrs
[1]
[2]
[1]
[2]
names
row.names
class
names
[56]
[1]
tab
[1]
[2]
[3]
[4]
names
row.names
class
FDRfunc
<environment: 0x555d69df0eb8>
assoc
FDRmodel
[1]
[1]
[2]
[3]
[4]
[5]
[6]
[7]
[8]
[9]
[1]
[2]
[3]
[4]
[5]
[10]
[11]
[12]
[13]
[14]
[15]
[16]
[17]
[1]
[2]
[3]
[4]
[5]
[6]
[7]
[8]
[9]
[10]
[11]
[18]
[19]
[20]
[21]
[22]
[23]
[24]
[25]
[26]
formula
data
[27]
[28]
[29]
[1]
[2]
[3]
[4]
[30]
[31]
[1]
[2]
[3]
[4]
[5]
[32]
[33]
[34]
names
class
theCall
dfr
xprobs
xfield
filter
sessinfo
[1]
[1]
[2]
[3]
[4]
[5]
[6]
[7]
[8]
[9]
[10]
[11]
[12]
[13]
[14]
[2]
[3]
[4]
[5]
[1]
[2]
[3]
[4]
[5]
[6]
[6]
[1]
[2]
[3]
[4]
[5]
[6]
[7]
[8]
[9]
[10]
[11]
[12]
[13]
[14]
[15]
[16]
[17]
[18]
[19]
[20]
[21]
[22]
[23]
[24]
[25]
[26]
[27]
[28]
[29]
[30]
[31]
[32]
[33]
[34]
[35]
[36]
[37]
[38]
[39]
[40]
[41]
[42]
[43]
[44]
[45]
[46]
[47]
[48]
[49]
[50]
[51]
[52]
[53]
[54]
[55]
[56]
[57]
[58]
[59]
names
class
filterUsed
<environment: namespace:base>
x
class
package
[2]
[1]
[2]
names
out.attrs
[1]
[2]
[1]
[2]
names
row.names
class
names
[57]
[1]
tab
[1]
[2]
[3]
[4]
names
row.names
class
FDRfunc
<environment: 0x555d69ddaaa0>
assoc
FDRmodel
[1]
[1]
[2]
[3]
[4]
[5]
[6]
[7]
[8]
[9]
[1]
[2]
[3]
[4]
[5]
[10]
[11]
[12]
[13]
[14]
[15]
[16]
[17]
[1]
[2]
[3]
[4]
[5]
[6]
[7]
[8]
[9]
[10]
[11]
[18]
[19]
[20]
[21]
[22]
[23]
[24]
[25]
[26]
formula
data
[27]
[28]
[29]
[1]
[2]
[3]
[4]
[30]
[31]
[1]
[2]
[3]
[4]
[5]
[32]
[33]
[34]
names
class
theCall
dfr
xprobs
xfield
filter
sessinfo
[1]
[1]
[2]
[3]
[4]
[5]
[6]
[7]
[8]
[9]
[10]
[11]
[12]
[13]
[14]
[2]
[3]
[4]
[5]
[1]
[2]
[3]
[4]
[5]
[6]
[6]
[1]
[2]
[3]
[4]
[5]
[6]
[7]
[8]
[9]
[10]
[11]
[12]
[13]
[14]
[15]
[16]
[17]
[18]
[19]
[20]
[21]
[22]
[23]
[24]
[25]
[26]
[27]
[28]
[29]
[30]
[31]
[32]
[33]
[34]
[35]
[36]
[37]
[38]
[39]
[40]
[41]
[42]
[43]
[44]
[45]
[46]
[47]
[48]
[49]
[50]
[51]
[52]
[53]
[54]
[55]
[56]
[57]
[58]
[59]
names
class
filterUsed
<environment: namespace:base>
x
class
package
[2]
[1]
[2]
names
out.attrs
[1]
[2]
[1]
[2]
names
row.names
class
names
[58]
[1]
tab
[1]
[2]
[3]
[4]
names
row.names
class
FDRfunc
<environment: 0x555d69dc65d0>
assoc
FDRmodel
[1]
[1]
[2]
[3]
[4]
[5]
[6]
[7]
[8]
[9]
[1]
[2]
[3]
[4]
[5]
[10]
[11]
[12]
[13]
[14]
[15]
[16]
[17]
[1]
[2]
[3]
[4]
[5]
[6]
[7]
[8]
[9]
[10]
[11]
[18]
[19]
[20]
[21]
[22]
[23]
[24]
[25]
[26]
formula
data
[27]
[28]
[29]
[1]
[2]
[3]
[4]
[30]
[31]
[1]
[2]
[3]
[4]
[5]
[32]
[33]
[34]
names
class
theCall
dfr
xprobs
xfield
filter
sessinfo
[1]
[1]
[2]
[3]
[4]
[5]
[6]
[7]
[8]
[9]
[10]
[11]
[12]
[13]
[14]
[2]
[3]
[4]
[5]
[1]
[2]
[3]
[4]
[5]
[6]
[6]
[1]
[2]
[3]
[4]
[5]
[6]
[7]
[8]
[9]
[10]
[11]
[12]
[13]
[14]
[15]
[16]
[17]
[18]
[19]
[20]
[21]
[22]
[23]
[24]
[25]
[26]
[27]
[28]
[29]
[30]
[31]
[32]
[33]
[34]
[35]
[36]
[37]
[38]
[39]
[40]
[41]
[42]
[43]
[44]
[45]
[46]
[47]
[48]
[49]
[50]
[51]
[52]
[53]
[54]
[55]
[56]
[57]
[58]
[59]
names
class
filterUsed
<environment: namespace:base>
x
class
package
[2]
[1]
[2]
names
out.attrs
[1]
[2]
[1]
[2]
names
row.names
class
names
[59]
[1]
tab
[1]
[2]
[3]
[4]
names
row.names
class
FDRfunc
<environment: 0x555d69d5c180>
assoc
FDRmodel
[1]
[1]
[2]
[3]
[4]
[5]
[6]
[7]
[8]
[9]
[1]
[2]
[3]
[4]
[5]
[10]
[11]
[12]
[13]
[14]
[15]
[16]
[17]
[1]
[2]
[3]
[4]
[5]
[6]
[7]
[8]
[9]
[10]
[11]
[18]
[19]
[20]
[21]
[22]
[23]
[24]
[25]
[26]
formula
data
[27]
[28]
[29]
[1]
[2]
[3]
[4]
[30]
[31]
[1]
[2]
[3]
[4]
[5]
[32]
[33]
[34]
names
class
theCall
dfr
xprobs
xfield
filter
sessinfo
[1]
[1]
[2]
[3]
[4]
[5]
[6]
[7]
[8]
[9]
[10]
[11]
[12]
[13]
[14]
[2]
[3]
[4]
[5]
[1]
[2]
[3]
[4]
[5]
[6]
[6]
[1]
[2]
[3]
[4]
[5]
[6]
[7]
[8]
[9]
[10]
[11]
[12]
[13]
[14]
[15]
[16]
[17]
[18]
[19]
[20]
[21]
[22]
[23]
[24]
[25]
[26]
[27]
[28]
[29]
[30]
[31]
[32]
[33]
[34]
[35]
[36]
[37]
[38]
[39]
[40]
[41]
[42]
[43]
[44]
[45]
[46]
[47]
[48]
[49]
[50]
[51]
[52]
[53]
[54]
[55]
[56]
[57]
[58]
[59]
names
class
filterUsed
<environment: namespace:base>
x
class
package
[2]
[1]
[2]
names
out.attrs
[1]
[2]
[1]
[2]
names
row.names
class
names
[60]
[1]
tab
[1]
[2]
[3]
[4]
names
row.names
class
FDRfunc
<environment: 0x555d69d3f718>
assoc
FDRmodel
[1]
[1]
[2]
[3]
[4]
[5]
[6]
[7]
[8]
[9]
[1]
[2]
[3]
[4]
[5]
[10]
[11]
[12]
[13]
[14]
[15]
[16]
[17]
[1]
[2]
[3]
[4]
[5]
[6]
[7]
[8]
[9]
[10]
[11]
[18]
[19]
[20]
[21]
[22]
[23]
[24]
[25]
[26]
formula
data
[27]
[28]
[29]
[1]
[2]
[3]
[4]
[30]
[31]
[1]
[2]
[3]
[4]
[5]
[32]
[33]
[34]
names
class
theCall
dfr
xprobs
xfield
filter
sessinfo
[1]
[1]
[2]
[3]
[4]
[5]
[6]
[7]
[8]
[9]
[10]
[11]
[12]
[13]
[14]
[2]
[3]
[4]
[5]
[1]
[2]
[3]
[4]
[5]
[6]
[6]
[1]
[2]
[3]
[4]
[5]
[6]
[7]
[8]
[9]
[10]
[11]
[12]
[13]
[14]
[15]
[16]
[17]
[18]
[19]
[20]
[21]
[22]
[23]
[24]
[25]
[26]
[27]
[28]
[29]
[30]
[31]
[32]
[33]
[34]
[35]
[36]
[37]
[38]
[39]
[40]
[41]
[42]
[43]
[44]
[45]
[46]
[47]
[48]
[49]
[50]
[51]
[52]
[53]
[54]
[55]
[56]
[57]
[58]
[59]
names
class
filterUsed
<environment: namespace:base>
x
class
package
[2]
[1]
[2]
names
out.attrs
[1]
[2]
[1]
[2]
names
row.names
class
names
[61]
[1]
tab
[1]
[2]
[3]
[4]
names
row.names
class
FDRfunc
<environment: 0x555d69d21cd0>
assoc
FDRmodel
[1]
[1]
[2]
[3]
[4]
[5]
[6]
[7]
[8]
[9]
[1]
[2]
[3]
[4]
[5]
[10]
[11]
[12]
[13]
[14]
[15]
[16]
[17]
[1]
[2]
[3]
[4]
[5]
[6]
[7]
[8]
[9]
[10]
[11]
[18]
[19]
[20]
[21]
[22]
[23]
[24]
[25]
[26]
formula
data
[27]
[28]
[29]
[1]
[2]
[3]
[4]
[30]
[31]
[1]
[2]
[3]
[4]
[5]
[32]
[33]
[34]
names
class
theCall
dfr
xprobs
xfield
filter
sessinfo
[1]
[1]
[2]
[3]
[4]
[5]
[6]
[7]
[8]
[9]
[10]
[11]
[12]
[13]
[14]
[2]
[3]
[4]
[5]
[1]
[2]
[3]
[4]
[5]
[6]
[6]
[1]
[2]
[3]
[4]
[5]
[6]
[7]
[8]
[9]
[10]
[11]
[12]
[13]
[14]
[15]
[16]
[17]
[18]
[19]
[20]
[21]
[22]
[23]
[24]
[25]
[26]
[27]
[28]
[29]
[30]
[31]
[32]
[33]
[34]
[35]
[36]
[37]
[38]
[39]
[40]
[41]
[42]
[43]
[44]
[45]
[46]
[47]
[48]
[49]
[50]
[51]
[52]
[53]
[54]
[55]
[56]
[57]
[58]
[59]
names
class
filterUsed
<environment: namespace:base>
x
class
package
[2]
[1]
[2]
names
out.attrs
[1]
[2]
[1]
[2]
names
row.names
class
names
[62]
[1]
tab
[1]
[2]
[3]
[4]
names
row.names
class
FDRfunc
<environment: 0x555d69cffec0>
assoc
FDRmodel
[1]
[1]
[2]
[3]
[4]
[5]
[6]
[7]
[8]
[9]
[1]
[2]
[3]
[4]
[5]
[10]
[11]
[12]
[13]
[14]
[15]
[16]
[17]
[1]
[2]
[3]
[4]
[5]
[6]
[7]
[8]
[9]
[10]
[11]
[18]
[19]
[20]
[21]
[22]
[23]
[24]
[25]
[26]
formula
data
[27]
[28]
[29]
[1]
[2]
[3]
[4]
[30]
[31]
[1]
[2]
[3]
[4]
[5]
[32]
[33]
[34]
names
class
theCall
dfr
xprobs
xfield
filter
sessinfo
[1]
[1]
[2]
[3]
[4]
[5]
[6]
[7]
[8]
[9]
[10]
[11]
[12]
[13]
[14]
[2]
[3]
[4]
[5]
[1]
[2]
[3]
[4]
[5]
[6]
[6]
[1]
[2]
[3]
[4]
[5]
[6]
[7]
[8]
[9]
[10]
[11]
[12]
[13]
[14]
[15]
[16]
[17]
[18]
[19]
[20]
[21]
[22]
[23]
[24]
[25]
[26]
[27]
[28]
[29]
[30]
[31]
[32]
[33]
[34]
[35]
[36]
[37]
[38]
[39]
[40]
[41]
[42]
[43]
[44]
[45]
[46]
[47]
[48]
[49]
[50]
[51]
[52]
[53]
[54]
[55]
[56]
[57]
[58]
[59]
names
class
filterUsed
<environment: namespace:base>
x
class
package
[2]
[1]
[2]
names
out.attrs
[1]
[2]
[1]
[2]
names
row.names
class
names
[63]
[1]
tab
[1]
[2]
[3]
[4]
names
row.names
class
FDRfunc
<environment: 0x555d69cd4df0>
assoc
FDRmodel
[1]
[1]
[2]
[3]
[4]
[5]
[6]
[7]
[8]
[9]
[1]
[2]
[3]
[4]
[5]
[10]
[11]
[12]
[13]
[14]
[15]
[16]
[17]
[1]
[2]
[3]
[4]
[5]
[6]
[7]
[8]
[9]
[10]
[11]
[18]
[19]
[20]
[21]
[22]
[23]
[24]
[25]
[26]
formula
data
[27]
[28]
[29]
[1]
[2]
[3]
[4]
[30]
[31]
[1]
[2]
[3]
[4]
[5]
[32]
[33]
[34]
names
class
theCall
dfr
xprobs
xfield
filter
sessinfo
[1]
[1]
[2]
[3]
[4]
[5]
[6]
[7]
[8]
[9]
[10]
[11]
[12]
[13]
[14]
[2]
[3]
[4]
[5]
[1]
[2]
[3]
[4]
[5]
[6]
[6]
[1]
[2]
[3]
[4]
[5]
[6]
[7]
[8]
[9]
[10]
[11]
[12]
[13]
[14]
[15]
[16]
[17]
[18]
[19]
[20]
[21]
[22]
[23]
[24]
[25]
[26]
[27]
[28]
[29]
[30]
[31]
[32]
[33]
[34]
[35]
[36]
[37]
[38]
[39]
[40]
[41]
[42]
[43]
[44]
[45]
[46]
[47]
[48]
[49]
[50]
[51]
[52]
[53]
[54]
[55]
[56]
[57]
[58]
[59]
names
class
filterUsed
<environment: namespace:base>
x
class
package
[2]
[1]
[2]
names
out.attrs
[1]
[2]
[1]
[2]
names
row.names
class
names
[64]
[1]
tab
[1]
[2]
[3]
[4]
names
row.names
class
FDRfunc
<environment: 0x555d69cbb8a8>
assoc
FDRmodel
[1]
[1]
[2]
[3]
[4]
[5]
[6]
[7]
[8]
[9]
[1]
[2]
[3]
[4]
[5]
[10]
[11]
[12]
[13]
[14]
[15]
[16]
[17]
[1]
[2]
[3]
[4]
[5]
[6]
[7]
[8]
[9]
[10]
[11]
[18]
[19]
[20]
[21]
[22]
[23]
[24]
[25]
[26]
formula
data
[27]
[28]
[29]
[1]
[2]
[3]
[4]
[30]
[31]
[1]
[2]
[3]
[4]
[5]
[32]
[33]
[34]
names
class
theCall
dfr
xprobs
xfield
filter
sessinfo
[1]
[1]
[2]
[3]
[4]
[5]
[6]
[7]
[8]
[9]
[10]
[11]
[12]
[13]
[14]
[2]
[3]
[4]
[5]
[1]
[2]
[3]
[4]
[5]
[6]
[6]
[1]
[2]
[3]
[4]
[5]
[6]
[7]
[8]
[9]
[10]
[11]
[12]
[13]
[14]
[15]
[16]
[17]
[18]
[19]
[20]
[21]
[22]
[23]
[24]
[25]
[26]
[27]
[28]
[29]
[30]
[31]
[32]
[33]
[34]
[35]
[36]
[37]
[38]
[39]
[40]
[41]
[42]
[43]
[44]
[45]
[46]
[47]
[48]
[49]
[50]
[51]
[52]
[53]
[54]
[55]
[56]
[57]
[58]
[59]
names
class
filterUsed
<environment: namespace:base>
x
class
package
[2]
[1]
[2]
names
out.attrs
[1]
[2]
[1]
[2]
names
row.names
class
names
[65]
[1]
tab
[1]
[2]
[3]
[4]
names
row.names
class
FDRfunc
<environment: 0x555d69c96408>
assoc
FDRmodel
[1]
[1]
[2]
[3]
[4]
[5]
[6]
[7]
[8]
[9]
[1]
[2]
[3]
[4]
[5]
[10]
[11]
[12]
[13]
[14]
[15]
[16]
[17]
[1]
[2]
[3]
[4]
[5]
[6]
[7]
[8]
[9]
[10]
[11]
[18]
[19]
[20]
[21]
[22]
[23]
[24]
[25]
[26]
formula
data
[27]
[28]
[29]
[1]
[2]
[3]
[4]
[30]
[31]
[1]
[2]
[3]
[4]
[5]
[32]
[33]
[34]
names
class
theCall
dfr
xprobs
xfield
filter
sessinfo
[1]
[1]
[2]
[3]
[4]
[5]
[6]
[7]
[8]
[9]
[10]
[11]
[12]
[13]
[14]
[2]
[3]
[4]
[5]
[1]
[2]
[3]
[4]
[5]
[6]
[6]
[1]
[2]
[3]
[4]
[5]
[6]
[7]
[8]
[9]
[10]
[11]
[12]
[13]
[14]
[15]
[16]
[17]
[18]
[19]
[20]
[21]
[22]
[23]
[24]
[25]
[26]
[27]
[28]
[29]
[30]
[31]
[32]
[33]
[34]
[35]
[36]
[37]
[38]
[39]
[40]
[41]
[42]
[43]
[44]
[45]
[46]
[47]
[48]
[49]
[50]
[51]
[52]
[53]
[54]
[55]
[56]
[57]
[58]
[59]
names
class
filterUsed
<environment: namespace:base>
x
class
package
[2]
[1]
[2]
names
out.attrs
[1]
[2]
[1]
[2]
names
row.names
class
names
[66]
[1]
tab
[1]
[2]
[3]
[4]
names
row.names
class
FDRfunc
<environment: 0x555d69c77e48>
assoc
FDRmodel
[1]
[1]
[2]
[3]
[4]
[5]
[6]
[7]
[8]
[9]
[1]
[2]
[3]
[4]
[5]
[10]
[11]
[12]
[13]
[14]
[15]
[16]
[17]
[1]
[2]
[3]
[4]
[5]
[6]
[7]
[8]
[9]
[10]
[11]
[18]
[19]
[20]
[21]
[22]
[23]
[24]
[25]
[26]
formula
data
[27]
[28]
[29]
[1]
[2]
[3]
[4]
[30]
[31]
[1]
[2]
[3]
[4]
[5]
[32]
[33]
[34]
names
class
theCall
dfr
xprobs
xfield
filter
sessinfo
[1]
[1]
[2]
[3]
[4]
[5]
[6]
[7]
[8]
[9]
[10]
[11]
[12]
[13]
[14]
[2]
[3]
[4]
[5]
[1]
[2]
[3]
[4]
[5]
[6]
[6]
[1]
[2]
[3]
[4]
[5]
[6]
[7]
[8]
[9]
[10]
[11]
[12]
[13]
[14]
[15]
[16]
[17]
[18]
[19]
[20]
[21]
[22]
[23]
[24]
[25]
[26]
[27]
[28]
[29]
[30]
[31]
[32]
[33]
[34]
[35]
[36]
[37]
[38]
[39]
[40]
[41]
[42]
[43]
[44]
[45]
[46]
[47]
[48]
[49]
[50]
[51]
[52]
[53]
[54]
[55]
[56]
[57]
[58]
[59]
names
class
filterUsed
<environment: namespace:base>
x
class
package
[2]
[1]
[2]
names
out.attrs
[1]
[2]
[1]
[2]
names
row.names
class
names
[67]
[1]
tab
[1]
[2]
[3]
[4]
names
row.names
class
FDRfunc
<environment: 0x555d69bc26f0>
assoc
FDRmodel
[1]
[1]
[2]
[3]
[4]
[5]
[6]
[7]
[8]
[9]
[1]
[2]
[3]
[4]
[5]
[10]
[11]
[12]
[13]
[14]
[15]
[16]
[17]
[1]
[2]
[3]
[4]
[5]
[6]
[7]
[8]
[9]
[10]
[11]
[18]
[19]
[20]
[21]
[22]
[23]
[24]
[25]
[26]
formula
data
[27]
[28]
[29]
[1]
[2]
[3]
[4]
[30]
[31]
[1]
[2]
[3]
[4]
[5]
[32]
[33]
[34]
names
class
theCall
dfr
xprobs
xfield
filter
sessinfo
[1]
[1]
[2]
[3]
[4]
[5]
[6]
[7]
[8]
[9]
[10]
[11]
[12]
[13]
[14]
[2]
[3]
[4]
[5]
[1]
[2]
[3]
[4]
[5]
[6]
[6]
[1]
[2]
[3]
[4]
[5]
[6]
[7]
[8]
[9]
[10]
[11]
[12]
[13]
[14]
[15]
[16]
[17]
[18]
[19]
[20]
[21]
[22]
[23]
[24]
[25]
[26]
[27]
[28]
[29]
[30]
[31]
[32]
[33]
[34]
[35]
[36]
[37]
[38]
[39]
[40]
[41]
[42]
[43]
[44]
[45]
[46]
[47]
[48]
[49]
[50]
[51]
[52]
[53]
[54]
[55]
[56]
[57]
[58]
[59]
names
class
filterUsed
<environment: namespace:base>
x
class
package
[2]
[1]
[2]
names
out.attrs
[1]
[2]
[1]
[2]
names
row.names
class
names
[68]
[1]
tab
[1]
[2]
[3]
[4]
names
row.names
class
FDRfunc
<environment: 0x555d69b3c468>
assoc
FDRmodel
[1]
[1]
[2]
[3]
[4]
[5]
[6]
[7]
[8]
[9]
[1]
[2]
[3]
[4]
[5]
[10]
[11]
[12]
[13]
[14]
[15]
[16]
[17]
[1]
[2]
[3]
[4]
[5]
[6]
[7]
[8]
[9]
[10]
[11]
[18]
[19]
[20]
[21]
[22]
[23]
[24]
[25]
[26]
formula
data
[27]
[28]
[29]
[1]
[2]
[3]
[4]
[30]
[31]
[1]
[2]
[3]
[4]
[5]
[32]
[33]
[34]
names
class
theCall
dfr
xprobs
xfield
filter
sessinfo
[1]
[1]
[2]
[3]
[4]
[5]
[6]
[7]
[8]
[9]
[10]
[11]
[12]
[13]
[14]
[2]
[3]
[4]
[5]
[1]
[2]
[3]
[4]
[5]
[6]
[6]
[1]
[2]
[3]
[4]
[5]
[6]
[7]
[8]
[9]
[10]
[11]
[12]
[13]
[14]
[15]
[16]
[17]
[18]
[19]
[20]
[21]
[22]
[23]
[24]
[25]
[26]
[27]
[28]
[29]
[30]
[31]
[32]
[33]
[34]
[35]
[36]
[37]
[38]
[39]
[40]
[41]
[42]
[43]
[44]
[45]
[46]
[47]
[48]
[49]
[50]
[51]
[52]
[53]
[54]
[55]
[56]
[57]
[58]
[59]
names
class
filterUsed
<environment: namespace:base>
x
class
package
[2]
[1]
[2]
names
out.attrs
[1]
[2]
[1]
[2]
names
row.names
class
names
[69]
[1]
tab
[1]
[2]
[3]
[4]
names
row.names
class
FDRfunc
<environment: 0x555d69ad6fc0>
assoc
FDRmodel
[1]
[1]
[2]
[3]
[4]
[5]
[6]
[7]
[8]
[9]
[1]
[2]
[3]
[4]
[5]
[10]
[11]
[12]
[13]
[14]
[15]
[16]
[17]
[1]
[2]
[3]
[4]
[5]
[6]
[7]
[8]
[9]
[10]
[11]
[18]
[19]
[20]
[21]
[22]
[23]
[24]
[25]
[26]
formula
data
[27]
[28]
[29]
[1]
[2]
[3]
[4]
[30]
[31]
[1]
[2]
[3]
[4]
[5]
[32]
[33]
[34]
names
class
theCall
dfr
xprobs
xfield
filter
sessinfo
[1]
[1]
[2]
[3]
[4]
[5]
[6]
[7]
[8]
[9]
[10]
[11]
[12]
[13]
[14]
[2]
[3]
[4]
[5]
[1]
[2]
[3]
[4]
[5]
[6]
[6]
[1]
[2]
[3]
[4]
[5]
[6]
[7]
[8]
[9]
[10]
[11]
[12]
[13]
[14]
[15]
[16]
[17]
[18]
[19]
[20]
[21]
[22]
[23]
[24]
[25]
[26]
[27]
[28]
[29]
[30]
[31]
[32]
[33]
[34]
[35]
[36]
[37]
[38]
[39]
[40]
[41]
[42]
[43]
[44]
[45]
[46]
[47]
[48]
[49]
[50]
[51]
[52]
[53]
[54]
[55]
[56]
[57]
[58]
[59]
names
class
filterUsed
<environment: namespace:base>
x
class
package
[2]
[1]
[2]
names
out.attrs
[1]
[2]
[1]
[2]
names
row.names
class
names
[70]
[1]
tab
[1]
[2]
[3]
[4]
names
row.names
class
FDRfunc
<environment: 0x555d6837fd58>
assoc
FDRmodel
[1]
[1]
[2]
[3]
[4]
[5]
[6]
[7]
[8]
[9]
[1]
[2]
[3]
[4]
[5]
[10]
[11]
[12]
[13]
[14]
[15]
[16]
[17]
[1]
[2]
[3]
[4]
[5]
[6]
[7]
[8]
[9]
[10]
[11]
[18]
[19]
[20]
[21]
[22]
[23]
[24]
[25]
[26]
formula
data
[27]
[28]
[29]
[1]
[2]
[3]
[4]
[30]
[31]
[1]
[2]
[3]
[4]
[5]
[32]
[33]
[34]
names
class
theCall
dfr
xprobs
xfield
filter
sessinfo
[1]
[1]
[2]
[3]
[4]
[5]
[6]
[7]
[8]
[9]
[10]
[11]
[12]
[13]
[14]
[2]
[3]
[4]
[5]
[1]
[2]
[3]
[4]
[5]
[6]
[6]
[1]
[2]
[3]
[4]
[5]
[6]
[7]
[8]
[9]
[10]
[11]
[12]
[13]
[14]
[15]
[16]
[17]
[18]
[19]
[20]
[21]
[22]
[23]
[24]
[25]
[26]
[27]
[28]
[29]
[30]
[31]
[32]
[33]
[34]
[35]
[36]
[37]
[38]
[39]
[40]
[41]
[42]
[43]
[44]
[45]
[46]
[47]
[48]
[49]
[50]
[51]
[52]
[53]
[54]
[55]
[56]
[57]
[58]
[59]
names
class
filterUsed
<environment: namespace:base>
x
class
package
[2]
[1]
[2]
names
out.attrs
[1]
[2]
[1]
[2]
names
row.names
class
names
[71]
[1]
tab
[1]
[2]
[3]
[4]
names
row.names
class
FDRfunc
<environment: 0x555d73934d28>
assoc
FDRmodel
[1]
[1]
[2]
[3]
[4]
[5]
[6]
[7]
[8]
[9]
[1]
[2]
[3]
[4]
[5]
[10]
[11]
[12]
[13]
[14]
[15]
[16]
[17]
[1]
[2]
[3]
[4]
[5]
[6]
[7]
[8]
[9]
[10]
[11]
[18]
[19]
[20]
[21]
[22]
[23]
[24]
[25]
[26]
formula
data
[27]
[28]
[29]
[1]
[2]
[3]
[4]
[30]
[31]
[1]
[2]
[3]
[4]
[5]
[32]
[33]
[34]
names
class
theCall
dfr
xprobs
xfield
filter
sessinfo
[1]
[1]
[2]
[3]
[4]
[5]
[6]
[7]
[8]
[9]
[10]
[11]
[12]
[13]
[14]
[2]
[3]
[4]
[5]
[1]
[2]
[3]
[4]
[5]
[6]
[6]
[1]
[2]
[3]
[4]
[5]
[6]
[7]
[8]
[9]
[10]
[11]
[12]
[13]
[14]
[15]
[16]
[17]
[18]
[19]
[20]
[21]
[22]
[23]
[24]
[25]
[26]
[27]
[28]
[29]
[30]
[31]
[32]
[33]
[34]
[35]
[36]
[37]
[38]
[39]
[40]
[41]
[42]
[43]
[44]
[45]
[46]
[47]
[48]
[49]
[50]
[51]
[52]
[53]
[54]
[55]
[56]
[57]
[58]
[59]
names
class
filterUsed
<environment: namespace:base>
x
class
package
[2]
[1]
[2]
names
out.attrs
[1]
[2]
[1]
[2]
names
row.names
class
names
[72]
[1]
tab
[1]
[2]
[3]
[4]
names
row.names
class
FDRfunc
<environment: 0x555d7437dfd0>
assoc
FDRmodel
[1]
[1]
[2]
[3]
[4]
[5]
[6]
[7]
[8]
[9]
[1]
[2]
[3]
[4]
[5]
[10]
[11]
[12]
[13]
[14]
[15]
[16]
[17]
[1]
[2]
[3]
[4]
[5]
[6]
[7]
[8]
[9]
[10]
[11]
[18]
[19]
[20]
[21]
[22]
[23]
[24]
[25]
[26]
formula
data
[27]
[28]
[29]
[1]
[2]
[3]
[4]
[30]
[31]
[1]
[2]
[3]
[4]
[5]
[32]
[33]
[34]
names
class
theCall
dfr
xprobs
xfield
filter
sessinfo
[1]
[1]
[2]
[3]
[4]
[5]
[6]
[7]
[8]
[9]
[10]
[11]
[12]
[13]
[14]
[2]
[3]
[4]
[5]
[1]
[2]
[3]
[4]
[5]
[6]
[6]
[1]
[2]
[3]
[4]
[5]
[6]
[7]
[8]
[9]
[10]
[11]
[12]
[13]
[14]
[15]
[16]
[17]
[18]
[19]
[20]
[21]
[22]
[23]
[24]
[25]
[26]
[27]
[28]
[29]
[30]
[31]
[32]
[33]
[34]
[35]
[36]
[37]
[38]
[39]
[40]
[41]
[42]
[43]
[44]
[45]
[46]
[47]
[48]
[49]
[50]
[51]
[52]
[53]
[54]
[55]
[56]
[57]
[58]
[59]
names
class
filterUsed
<environment: namespace:base>
x
class
package
[2]
[1]
[2]
names
out.attrs
[1]
[2]
[1]
[2]
names
row.names
class
names
[73]
[1]
tab
[1]
[2]
[3]
[4]
names
row.names
class
FDRfunc
<environment: 0x555d743694a8>
assoc
FDRmodel
[1]
[1]
[2]
[3]
[4]
[5]
[6]
[7]
[8]
[9]
[1]
[2]
[3]
[4]
[5]
[10]
[11]
[12]
[13]
[14]
[15]
[16]
[17]
[1]
[2]
[3]
[4]
[5]
[6]
[7]
[8]
[9]
[10]
[11]
[18]
[19]
[20]
[21]
[22]
[23]
[24]
[25]
[26]
formula
data
[27]
[28]
[29]
[1]
[2]
[3]
[4]
[30]
[31]
[1]
[2]
[3]
[4]
[5]
[32]
[33]
[34]
names
class
theCall
dfr
xprobs
xfield
filter
sessinfo
[1]
[1]
[2]
[3]
[4]
[5]
[6]
[7]
[8]
[9]
[10]
[11]
[12]
[13]
[14]
[2]
[3]
[4]
[5]
[1]
[2]
[3]
[4]
[5]
[6]
[6]
[1]
[2]
[3]
[4]
[5]
[6]
[7]
[8]
[9]
[10]
[11]
[12]
[13]
[14]
[15]
[16]
[17]
[18]
[19]
[20]
[21]
[22]
[23]
[24]
[25]
[26]
[27]
[28]
[29]
[30]
[31]
[32]
[33]
[34]
[35]
[36]
[37]
[38]
[39]
[40]
[41]
[42]
[43]
[44]
[45]
[46]
[47]
[48]
[49]
[50]
[51]
[52]
[53]
[54]
[55]
[56]
[57]
[58]
[59]
names
class
filterUsed
<environment: namespace:base>
x
class
package
[2]
[1]
[2]
names
out.attrs
[1]
[2]
[1]
[2]
names
row.names
class
names
[74]
[1]
tab
[1]
[2]
[3]
[4]
names
row.names
class
FDRfunc
<environment: 0x555d743585f0>
assoc
FDRmodel
[1]
[1]
[2]
[3]
[4]
[5]
[6]
[7]
[8]
[9]
[1]
[2]
[3]
[4]
[5]
[10]
[11]
[12]
[13]
[14]
[15]
[16]
[17]
[1]
[2]
[3]
[4]
[5]
[6]
[7]
[8]
[9]
[10]
[11]
[18]
[19]
[20]
[21]
[22]
[23]
[24]
[25]
[26]
formula
data
[27]
[28]
[29]
[1]
[2]
[3]
[4]
[30]
[31]
[1]
[2]
[3]
[4]
[5]
[32]
[33]
[34]
names
class
theCall
dfr
xprobs
xfield
filter
sessinfo
[1]
[1]
[2]
[3]
[4]
[5]
[6]
[7]
[8]
[9]
[10]
[11]
[12]
[13]
[14]
[2]
[3]
[4]
[5]
[1]
[2]
[3]
[4]
[5]
[6]
[6]
[1]
[2]
[3]
[4]
[5]
[6]
[7]
[8]
[9]
[10]
[11]
[12]
[13]
[14]
[15]
[16]
[17]
[18]
[19]
[20]
[21]
[22]
[23]
[24]
[25]
[26]
[27]
[28]
[29]
[30]
[31]
[32]
[33]
[34]
[35]
[36]
[37]
[38]
[39]
[40]
[41]
[42]
[43]
[44]
[45]
[46]
[47]
[48]
[49]
[50]
[51]
[52]
[53]
[54]
[55]
[56]
[57]
[58]
[59]
names
class
filterUsed
<environment: namespace:base>
x
class
package
[2]
[1]
[2]
names
out.attrs
[1]
[2]
[1]
[2]
names
row.names
class
names
[75]
[1]
tab
[1]
[2]
[3]
[4]
names
row.names
class
FDRfunc
<environment: 0x555d743412d8>
assoc
FDRmodel
[1]
[1]
[2]
[3]
[4]
[5]
[6]
[7]
[8]
[9]
[1]
[2]
[3]
[4]
[5]
[10]
[11]
[12]
[13]
[14]
[15]
[16]
[17]
[1]
[2]
[3]
[4]
[5]
[6]
[7]
[8]
[9]
[10]
[11]
[18]
[19]
[20]
[21]
[22]
[23]
[24]
[25]
[26]
formula
data
[27]
[28]
[29]
[1]
[2]
[3]
[4]
[30]
[31]
[1]
[2]
[3]
[4]
[5]
[32]
[33]
[34]
names
class
theCall
dfr
xprobs
xfield
filter
sessinfo
[1]
[1]
[2]
[3]
[4]
[5]
[6]
[7]
[8]
[9]
[10]
[11]
[12]
[13]
[14]
[2]
[3]
[4]
[5]
[1]
[2]
[3]
[4]
[5]
[6]
[6]
[1]
[2]
[3]
[4]
[5]
[6]
[7]
[8]
[9]
[10]
[11]
[12]
[13]
[14]
[15]
[16]
[17]
[18]
[19]
[20]
[21]
[22]
[23]
[24]
[25]
[26]
[27]
[28]
[29]
[30]
[31]
[32]
[33]
[34]
[35]
[36]
[37]
[38]
[39]
[40]
[41]
[42]
[43]
[44]
[45]
[46]
[47]
[48]
[49]
[50]
[51]
[52]
[53]
[54]
[55]
[56]
[57]
[58]
[59]
names
class
filterUsed
<environment: namespace:base>
x
class
package
[2]
[1]
[2]
names
out.attrs
[1]
[2]
[1]
[2]
names
row.names
class
names
[76]
[1]
tab
[1]
[2]
[3]
[4]
names
row.names
class
FDRfunc
<environment: 0x555d74330420>
assoc
FDRmodel
[1]
[1]
[2]
[3]
[4]
[5]
[6]
[7]
[8]
[9]
[1]
[2]
[3]
[4]
[5]
[10]
[11]
[12]
[13]
[14]
[15]
[16]
[17]
[1]
[2]
[3]
[4]
[5]
[6]
[7]
[8]
[9]
[10]
[11]
[18]
[19]
[20]
[21]
[22]
[23]
[24]
[25]
[26]
formula
data
[27]
[28]
[29]
[1]
[2]
[3]
[4]
[30]
[31]
[1]
[2]
[3]
[4]
[5]
[32]
[33]
[34]
names
class
theCall
dfr
xprobs
xfield
filter
sessinfo
[1]
[1]
[2]
[3]
[4]
[5]
[6]
[7]
[8]
[9]
[10]
[11]
[12]
[13]
[14]
[2]
[3]
[4]
[5]
[1]
[2]
[3]
[4]
[5]
[6]
[6]
[1]
[2]
[3]
[4]
[5]
[6]
[7]
[8]
[9]
[10]
[11]
[12]
[13]
[14]
[15]
[16]
[17]
[18]
[19]
[20]
[21]
[22]
[23]
[24]
[25]
[26]
[27]
[28]
[29]
[30]
[31]
[32]
[33]
[34]
[35]
[36]
[37]
[38]
[39]
[40]
[41]
[42]
[43]
[44]
[45]
[46]
[47]
[48]
[49]
[50]
[51]
[52]
[53]
[54]
[55]
[56]
[57]
[58]
[59]
names
class
filterUsed
<environment: namespace:base>
x
class
package
[2]
[1]
[2]
names
out.attrs
[1]
[2]
[1]
[2]
names
row.names
class
names
[77]
[1]
tab
[1]
[2]
[3]
[4]
names
row.names
class
FDRfunc
<environment: 0x555d7431f5a0>
assoc
FDRmodel
[1]
[1]
[2]
[3]
[4]
[5]
[6]
[7]
[8]
[9]
[1]
[2]
[3]
[4]
[5]
[10]
[11]
[12]
[13]
[14]
[15]
[16]
[17]
[1]
[2]
[3]
[4]
[5]
[6]
[7]
[8]
[9]
[10]
[11]
[18]
[19]
[20]
[21]
[22]
[23]
[24]
[25]
[26]
formula
data
[27]
[28]
[29]
[1]
[2]
[3]
[4]
[30]
[31]
[1]
[2]
[3]
[4]
[5]
[32]
[33]
[34]
names
class
theCall
dfr
xprobs
xfield
filter
sessinfo
[1]
[1]
[2]
[3]
[4]
[5]
[6]
[7]
[8]
[9]
[10]
[11]
[12]
[13]
[14]
[2]
[3]
[4]
[5]
[1]
[2]
[3]
[4]
[5]
[6]
[6]
[1]
[2]
[3]
[4]
[5]
[6]
[7]
[8]
[9]
[10]
[11]
[12]
[13]
[14]
[15]
[16]
[17]
[18]
[19]
[20]
[21]
[22]
[23]
[24]
[25]
[26]
[27]
[28]
[29]
[30]
[31]
[32]
[33]
[34]
[35]
[36]
[37]
[38]
[39]
[40]
[41]
[42]
[43]
[44]
[45]
[46]
[47]
[48]
[49]
[50]
[51]
[52]
[53]
[54]
[55]
[56]
[57]
[58]
[59]
names
class
filterUsed
<environment: namespace:base>
x
class
package
[2]
[1]
[2]
names
out.attrs
[1]
[2]
[1]
[2]
names
row.names
class
names
[78]
[1]
tab
[1]
[2]
[3]
[4]
names
row.names
class
FDRfunc
<environment: 0x555d74308998>
assoc
FDRmodel
[1]
[1]
[2]
[3]
[4]
[5]
[6]
[7]
[8]
[9]
[1]
[2]
[3]
[4]
[5]
[10]
[11]
[12]
[13]
[14]
[15]
[16]
[17]
[1]
[2]
[3]
[4]
[5]
[6]
[7]
[8]
[9]
[10]
[11]
[18]
[19]
[20]
[21]
[22]
[23]
[24]
[25]
[26]
formula
data
[27]
[28]
[29]
[1]
[2]
[3]
[4]
[30]
[31]
[1]
[2]
[3]
[4]
[5]
[32]
[33]
[34]
names
class
theCall
dfr
xprobs
xfield
filter
sessinfo
[1]
[1]
[2]
[3]
[4]
[5]
[6]
[7]
[8]
[9]
[10]
[11]
[12]
[13]
[14]
[2]
[3]
[4]
[5]
[1]
[2]
[3]
[4]
[5]
[6]
[6]
[1]
[2]
[3]
[4]
[5]
[6]
[7]
[8]
[9]
[10]
[11]
[12]
[13]
[14]
[15]
[16]
[17]
[18]
[19]
[20]
[21]
[22]
[23]
[24]
[25]
[26]
[27]
[28]
[29]
[30]
[31]
[32]
[33]
[34]
[35]
[36]
[37]
[38]
[39]
[40]
[41]
[42]
[43]
[44]
[45]
[46]
[47]
[48]
[49]
[50]
[51]
[52]
[53]
[54]
[55]
[56]
[57]
[58]
[59]
names
class
filterUsed
<environment: namespace:base>
x
class
package
[2]
[1]
[2]
names
out.attrs
[1]
[2]
[1]
[2]
names
row.names
class
names
[79]
[1]
tab
[1]
[2]
[3]
[4]
names
row.names
class
FDRfunc
<environment: 0x555d742f7ae0>
assoc
FDRmodel
[1]
[1]
[2]
[3]
[4]
[5]
[6]
[7]
[8]
[9]
[1]
[2]
[3]
[4]
[5]
[10]
[11]
[12]
[13]
[14]
[15]
[16]
[17]
[1]
[2]
[3]
[4]
[5]
[6]
[7]
[8]
[9]
[10]
[11]
[18]
[19]
[20]
[21]
[22]
[23]
[24]
[25]
[26]
formula
data
[27]
[28]
[29]
[1]
[2]
[3]
[4]
[30]
[31]
[1]
[2]
[3]
[4]
[5]
[32]
[33]
[34]
names
class
theCall
dfr
xprobs
xfield
filter
sessinfo
[1]
[1]
[2]
[3]
[4]
[5]
[6]
[7]
[8]
[9]
[10]
[11]
[12]
[13]
[14]
[2]
[3]
[4]
[5]
[1]
[2]
[3]
[4]
[5]
[6]
[6]
[1]
[2]
[3]
[4]
[5]
[6]
[7]
[8]
[9]
[10]
[11]
[12]
[13]
[14]
[15]
[16]
[17]
[18]
[19]
[20]
[21]
[22]
[23]
[24]
[25]
[26]
[27]
[28]
[29]
[30]
[31]
[32]
[33]
[34]
[35]
[36]
[37]
[38]
[39]
[40]
[41]
[42]
[43]
[44]
[45]
[46]
[47]
[48]
[49]
[50]
[51]
[52]
[53]
[54]
[55]
[56]
[57]
[58]
[59]
names
class
filterUsed
<environment: namespace:base>
x
class
package
[2]
[1]
[2]
names
out.attrs
[1]
[2]
[1]
[2]
names
row.names
class
names
[80]
[1]
tab
[1]
[2]
[3]
[4]
names
row.names
class
FDRfunc
<environment: 0x555d742e6c28>
assoc
FDRmodel
[1]
[1]
[2]
[3]
[4]
[5]
[6]
[7]
[8]
[9]
[1]
[2]
[3]
[4]
[5]
[10]
[11]
[12]
[13]
[14]
[15]
[16]
[17]
[1]
[2]
[3]
[4]
[5]
[6]
[7]
[8]
[9]
[10]
[11]
[18]
[19]
[20]
[21]
[22]
[23]
[24]
[25]
[26]
formula
data
[27]
[28]
[29]
[1]
[2]
[3]
[4]
[30]
[31]
[1]
[2]
[3]
[4]
[5]
[32]
[33]
[34]
names
class
theCall
dfr
xprobs
xfield
filter
sessinfo
[1]
[1]
[2]
[3]
[4]
[5]
[6]
[7]
[8]
[9]
[10]
[11]
[12]
[13]
[14]
[2]
[3]
[4]
[5]
[1]
[2]
[3]
[4]
[5]
[6]
[6]
[1]
[2]
[3]
[4]
[5]
[6]
[7]
[8]
[9]
[10]
[11]
[12]
[13]
[14]
[15]
[16]
[17]
[18]
[19]
[20]
[21]
[22]
[23]
[24]
[25]
[26]
[27]
[28]
[29]
[30]
[31]
[32]
[33]
[34]
[35]
[36]
[37]
[38]
[39]
[40]
[41]
[42]
[43]
[44]
[45]
[46]
[47]
[48]
[49]
[50]
[51]
[52]
[53]
[54]
[55]
[56]
[57]
[58]
[59]
names
class
filterUsed
<environment: namespace:base>
x
class
package
[2]
[1]
[2]
names
out.attrs
[1]
[2]
[1]
[2]
names
row.names
class
names
[81]
[1]
tab
[1]
[2]
[3]
[4]
names
row.names
class
FDRfunc
<environment: 0x555d742d0020>
assoc
FDRmodel
[1]
[1]
[2]
[3]
[4]
[5]
[6]
[7]
[8]
[9]
[1]
[2]
[3]
[4]
[5]
[10]
[11]
[12]
[13]
[14]
[15]
[16]
[17]
[1]
[2]
[3]
[4]
[5]
[6]
[7]
[8]
[9]
[10]
[11]
[18]
[19]
[20]
[21]
[22]
[23]
[24]
[25]
[26]
formula
data
[27]
[28]
[29]
[1]
[2]
[3]
[4]
[30]
[31]
[1]
[2]
[3]
[4]
[5]
[32]
[33]
[34]
names
class
theCall
dfr
xprobs
xfield
filter
sessinfo
[1]
[1]
[2]
[3]
[4]
[5]
[6]
[7]
[8]
[9]
[10]
[11]
[12]
[13]
[14]
[2]
[3]
[4]
[5]
[1]
[2]
[3]
[4]
[5]
[6]
[6]
[1]
[2]
[3]
[4]
[5]
[6]
[7]
[8]
[9]
[10]
[11]
[12]
[13]
[14]
[15]
[16]
[17]
[18]
[19]
[20]
[21]
[22]
[23]
[24]
[25]
[26]
[27]
[28]
[29]
[30]
[31]
[32]
[33]
[34]
[35]
[36]
[37]
[38]
[39]
[40]
[41]
[42]
[43]
[44]
[45]
[46]
[47]
[48]
[49]
[50]
[51]
[52]
[53]
[54]
[55]
[56]
[57]
[58]
[59]
names
class
filterUsed
<environment: namespace:base>
x
class
package
[2]
[1]
[2]
names
out.attrs
[1]
[2]
[1]
[2]
names
row.names
class
names
[82]
[1]
tab
[1]
[2]
[3]
[4]
names
row.names
class
FDRfunc
<environment: 0x555d742bb670>
assoc
FDRmodel
[1]
[1]
[2]
[3]
[4]
[5]
[6]
[7]
[8]
[9]
[1]
[2]
[3]
[4]
[5]
[10]
[11]
[12]
[13]
[14]
[15]
[16]
[17]
[1]
[2]
[3]
[4]
[5]
[6]
[7]
[8]
[9]
[10]
[11]
[18]
[19]
[20]
[21]
[22]
[23]
[24]
[25]
[26]
formula
data
[27]
[28]
[29]
[1]
[2]
[3]
[4]
[30]
[31]
[1]
[2]
[3]
[4]
[5]
[32]
[33]
[34]
names
class
theCall
dfr
xprobs
xfield
filter
sessinfo
[1]
[1]
[2]
[3]
[4]
[5]
[6]
[7]
[8]
[9]
[10]
[11]
[12]
[13]
[14]
[2]
[3]
[4]
[5]
[1]
[2]
[3]
[4]
[5]
[6]
[6]
[1]
[2]
[3]
[4]
[5]
[6]
[7]
[8]
[9]
[10]
[11]
[12]
[13]
[14]
[15]
[16]
[17]
[18]
[19]
[20]
[21]
[22]
[23]
[24]
[25]
[26]
[27]
[28]
[29]
[30]
[31]
[32]
[33]
[34]
[35]
[36]
[37]
[38]
[39]
[40]
[41]
[42]
[43]
[44]
[45]
[46]
[47]
[48]
[49]
[50]
[51]
[52]
[53]
[54]
[55]
[56]
[57]
[58]
[59]
names
class
filterUsed
<environment: namespace:base>
x
class
package
[2]
[1]
[2]
names
out.attrs
[1]
[2]
[1]
[2]
names
row.names
class
names
[83]
[1]
tab
[1]
[2]
[3]
[4]
names
row.names
class
FDRfunc
<environment: 0x555d742a6328>
assoc
FDRmodel
[1]
[1]
[2]
[3]
[4]
[5]
[6]
[7]
[8]
[9]
[1]
[2]
[3]
[4]
[5]
[10]
[11]
[12]
[13]
[14]
[15]
[16]
[17]
[1]
[2]
[3]
[4]
[5]
[6]
[7]
[8]
[9]
[10]
[11]
[18]
[19]
[20]
[21]
[22]
[23]
[24]
[25]
[26]
formula
data
[27]
[28]
[29]
[1]
[2]
[3]
[4]
[30]
[31]
[1]
[2]
[3]
[4]
[5]
[32]
[33]
[34]
names
class
theCall
dfr
xprobs
xfield
filter
sessinfo
[1]
[1]
[2]
[3]
[4]
[5]
[6]
[7]
[8]
[9]
[10]
[11]
[12]
[13]
[14]
[2]
[3]
[4]
[5]
[1]
[2]
[3]
[4]
[5]
[6]
[6]
[1]
[2]
[3]
[4]
[5]
[6]
[7]
[8]
[9]
[10]
[11]
[12]
[13]
[14]
[15]
[16]
[17]
[18]
[19]
[20]
[21]
[22]
[23]
[24]
[25]
[26]
[27]
[28]
[29]
[30]
[31]
[32]
[33]
[34]
[35]
[36]
[37]
[38]
[39]
[40]
[41]
[42]
[43]
[44]
[45]
[46]
[47]
[48]
[49]
[50]
[51]
[52]
[53]
[54]
[55]
[56]
[57]
[58]
[59]
names
class
filterUsed
<environment: namespace:base>
x
class
package
[2]
[1]
[2]
names
out.attrs
[1]
[2]
[1]
[2]
names
row.names
class
names
[84]
[1]
tab
[1]
[2]
[3]
[4]
names
row.names
class
FDRfunc
<environment: 0x555d7428e978>
assoc
FDRmodel
[1]
[1]
[2]
[3]
[4]
[5]
[6]
[7]
[8]
[9]
[1]
[2]
[3]
[4]
[5]
[10]
[11]
[12]
[13]
[14]
[15]
[16]
[17]
[1]
[2]
[3]
[4]
[5]
[6]
[7]
[8]
[9]
[10]
[11]
[18]
[19]
[20]
[21]
[22]
[23]
[24]
[25]
[26]
formula
data
[27]
[28]
[29]
[1]
[2]
[3]
[4]
[30]
[31]
[1]
[2]
[3]
[4]
[5]
[32]
[33]
[34]
names
class
theCall
dfr
xprobs
xfield
filter
sessinfo
[1]
[1]
[2]
[3]
[4]
[5]
[6]
[7]
[8]
[9]
[10]
[11]
[12]
[13]
[14]
[2]
[3]
[4]
[5]
[1]
[2]
[3]
[4]
[5]
[6]
[6]
[1]
[2]
[3]
[4]
[5]
[6]
[7]
[8]
[9]
[10]
[11]
[12]
[13]
[14]
[15]
[16]
[17]
[18]
[19]
[20]
[21]
[22]
[23]
[24]
[25]
[26]
[27]
[28]
[29]
[30]
[31]
[32]
[33]
[34]
[35]
[36]
[37]
[38]
[39]
[40]
[41]
[42]
[43]
[44]
[45]
[46]
[47]
[48]
[49]
[50]
[51]
[52]
[53]
[54]
[55]
[56]
[57]
[58]
[59]
names
class
filterUsed
<environment: namespace:base>
x
class
package
[2]
[1]
[2]
names
out.attrs
[1]
[2]
[1]
[2]
names
row.names
class
names
names
* checking data for non-ASCII characters ... NOTE
Note: found 8 marked Latin-1 strings
Note: found 12 marked UTF-8 strings
* checking data for ASCII and uncompressed saves ... OK
* checking files in ‘vignettes’ ... OK
* checking examples ... OK
Examples with CPU or elapsed time > 5s
user system elapsed
clipPCs 46.511 0.954 47.599
cisAssoc 28.577 0.335 30.690
gQTLs 11.135 0.140 11.511
eqBox2 9.871 0.152 10.054
queryVCF 8.869 0.132 9.050
* checking for unstated dependencies in ‘tests’ ... OK
* checking tests ...
Running ‘test-all.R’
OK
* checking for unstated dependencies in vignettes ... OK
* checking package vignettes in ‘inst/doc’ ... OK
* checking running R code from vignettes ... SKIPPED
* checking re-building of vignette outputs ... SKIPPED
* checking PDF version of manual ... OK
* DONE
Status: 4 NOTEs
See
‘/home/biocbuild/bbs-3.9-bioc/meat/gQTLstats.Rcheck/00check.log’
for details.
gQTLstats.Rcheck/00install.out
############################################################################## ############################################################################## ### ### Running command: ### ### /home/biocbuild/bbs-3.9-bioc/R/bin/R CMD INSTALL gQTLstats ### ############################################################################## ############################################################################## * installing to library ‘/home/biocbuild/bbs-3.9-bioc/R/library’ * installing *source* package ‘gQTLstats’ ... ** using staged installation ** R ** data ** inst ** byte-compile and prepare package for lazy loading ** help *** installing help indices ** building package indices ** installing vignettes ** testing if installed package can be loaded from temporary location ** testing if installed package can be loaded from final location ** testing if installed package keeps a record of temporary installation path * DONE (gQTLstats)
gQTLstats.Rcheck/tests/test-all.Rout
R Under development (unstable) (2019-03-18 r76245) -- "Unsuffered Consequences"
Copyright (C) 2019 The R Foundation for Statistical Computing
Platform: x86_64-pc-linux-gnu (64-bit)
R is free software and comes with ABSOLUTELY NO WARRANTY.
You are welcome to redistribute it under certain conditions.
Type 'license()' or 'licence()' for distribution details.
R is a collaborative project with many contributors.
Type 'contributors()' for more information and
'citation()' on how to cite R or R packages in publications.
Type 'demo()' for some demos, 'help()' for on-line help, or
'help.start()' for an HTML browser interface to help.
Type 'q()' to quit R.
> BiocGenerics:::testPackage("gQTLstats")
Attaching package: 'BiocGenerics'
The following objects are masked from 'package:parallel':
clusterApply, clusterApplyLB, clusterCall, clusterEvalQ,
clusterExport, clusterMap, parApply, parCapply, parLapply,
parLapplyLB, parRapply, parSapply, parSapplyLB
The following objects are masked from 'package:stats':
IQR, mad, sd, var, xtabs
The following objects are masked from 'package:base':
Filter, Find, Map, Position, Reduce, anyDuplicated, append,
as.data.frame, basename, cbind, colMeans, colSums, colnames,
dirname, do.call, duplicated, eval, evalq, get, grep, grepl,
intersect, is.unsorted, lapply, mapply, match, mget, order, paste,
pmax, pmax.int, pmin, pmin.int, rank, rbind, rowMeans, rowSums,
rownames, sapply, setdiff, sort, table, tapply, union, unique,
unsplit, which, which.max, which.min
Welcome to Bioconductor
Vignettes contain introductory material; view with
'browseVignettes()'. To cite Bioconductor, see
'citation("Biobase")', and for packages 'citation("pkgname")'.
Attaching package: 'S4Vectors'
The following object is masked from 'package:base':
expand.grid
Loading required package: geuvPack
Loading required package: SummarizedExperiment
Loading required package: DelayedArray
Loading required package: matrixStats
Attaching package: 'matrixStats'
The following objects are masked from 'package:Biobase':
anyMissing, rowMedians
Loading required package: BiocParallel
Attaching package: 'DelayedArray'
The following objects are masked from 'package:matrixStats':
colMaxs, colMins, colRanges, rowMaxs, rowMins, rowRanges
The following objects are masked from 'package:base':
aperm, apply, rowsum
Loading required package: Rsamtools
Loading required package: Biostrings
Loading required package: XVector
Attaching package: 'Biostrings'
The following object is masked from 'package:DelayedArray':
type
The following object is masked from 'package:base':
strsplit
clipping PCs 1,2 from exprs
[W::bcf_hdr_check_sanity] GL should be declared as Number=G
Attaching package: 'Matrix'
The following object is masked from 'package:S4Vectors':
expand
checking for universal heterozygous loci for exclusion (as dropUnivHet == TRUE) ...
done checking.
Loading required package: geuvStore2
Loading required package: BatchJobs
Loading required package: BBmisc
Attaching package: 'BBmisc'
The following object is masked from 'package:Biostrings':
collapse
The following object is masked from 'package:IRanges':
collapse
The following object is masked from 'package:BiocGenerics':
normalize
The following object is masked from 'package:base':
isFALSE
The development of BatchJobs and BatchExperiments is discontinued.
Consider switching to 'batchtools' for new features and improved stability
Sourced 1 configuration files:
1: /home/biocbuild/bbs-3.9-bioc/R/library/BatchJobs/etc/BatchJobs_global_config.R
BatchJobs configuration:
cluster functions: Interactive
mail.from:
mail.to:
mail.start: none
mail.done: none
mail.error: none
default.resources:
debug: FALSE
raise.warnings: FALSE
staged.queries: TRUE
max.concurrent.jobs: Inf
fs.timeout: NA
measure.mem: TRUE
Loading required package: gQTLBase
NOTE: there were 41 samples not found (of 462 requested).
using assay() to extract 'expression' matrix from RangedSummarizedExperiment
counting tests...
counting #NA...
obtaining assoc quantiles...
computing perm_assoc histogram....
Loading required package: VariantAnnotation
Attaching package: 'VariantAnnotation'
The following object is masked from 'package:base':
tabulate
checking for universal heterozygous loci for exclusion (as dropUnivHet == TRUE) ...
done checking.
RUNIT TEST PROTOCOL -- Tue Apr 9 01:17:59 2019
***********************************************
Number of test functions: 0
Number of errors: 0
Number of failures: 0
1 Test Suite :
gQTLstats RUnit Tests - 0 test functions, 0 errors, 0 failures
Number of test functions: 0
Number of errors: 0
Number of failures: 0
Warning messages:
1: In .local(x, ...) : non-diploid variants are set to NA
2: In col.summary(gtdata[[1]]) :
69 rows were empty - ignored when calculating call rates
3: In .local(x, ...) : non-diploid variants are set to NA
4: In col.summary(gtdata$genotypes) :
69 rows were empty - ignored when calculating call rates
5: executing %dopar% sequentially: no parallel backend registered
6: In .local(x, ...) : non-diploid variants are set to NA
7: In .local(x, ...) : non-diploid variants are set to NA
8: In col.summary(gtdata[[1]]) :
238 rows were empty - ignored when calculating call rates
9: In .local(x, ...) : non-diploid variants are set to NA
10: In col.summary(gtdata$genotypes) :
238 rows were empty - ignored when calculating call rates
>
> proc.time()
user system elapsed
306.443 3.729 415.783
gQTLstats.Rcheck/gQTLstats-Ex.timings
| name | user | system | elapsed | |
| FDRsupp-class | 0.001 | 0.000 | 0.002 | |
| TransStore-class | 0.001 | 0.000 | 0.001 | |
| TransStore | 0 | 0 | 0 | |
| cisAssoc | 28.577 | 0.335 | 30.690 | |
| clipPCs | 46.511 | 0.954 | 47.599 | |
| directPlot | 0.018 | 0.004 | 0.022 | |
| enumerateByFDR | 0 | 0 | 0 | |
| eqBox2 | 9.871 | 0.152 | 10.054 | |
| filtFDR | 0.027 | 0.000 | 0.027 | |
| gQTLs | 11.135 | 0.140 | 11.511 | |
| hmm878 | 1.302 | 0.036 | 1.339 | |
| manhWngr | 3.845 | 0.064 | 3.923 | |
| mixedVCFtoSnpMatrix | 0.680 | 0.004 | 0.688 | |
| pifdr | 0.868 | 0.004 | 0.872 | |
| qqStore | 0 | 0 | 0 | |
| queryVCF | 8.869 | 0.132 | 9.050 | |
| senstab | 1.308 | 0.008 | 1.316 | |
| setFDRfunc | 0.039 | 0.000 | 0.039 | |
| storeToStats | 0.001 | 0.000 | 0.000 | |
| tqbrowser | 0.006 | 0.000 | 0.006 | |
| transAssoc | 0 | 0 | 0 | |
| transBrowse | 0 | 0 | 0 | |
| tsByRank | 0 | 0 | 0 | |
| txsPlot | 0.017 | 0.004 | 0.021 | |