| Back to Multiple platform build/check report for BioC 3.9 |
|
This page was generated on 2019-04-09 12:04:46 -0400 (Tue, 09 Apr 2019).
| Package 557/1703 | Hostname | OS / Arch | INSTALL | BUILD | CHECK | BUILD BIN | ||||||
| flowFit 1.21.1 Davide Rambaldi
| malbec2 | Linux (Ubuntu 18.04.2 LTS) / x86_64 | OK | OK | OK | |||||||
| tokay2 | Windows Server 2012 R2 Standard / x64 | [ OK ] | OK | OK | OK | |||||||
| celaya2 | OS X 10.11.6 El Capitan / x86_64 | OK | OK | OK | OK | |||||||
| merida2 | OS X 10.11.6 El Capitan / x86_64 | OK | OK | OK | OK |
| Package: flowFit |
| Version: 1.21.1 |
| Command: C:\cygwin\bin\curl.exe -O https://malbec2.bioconductor.org/BBS/3.9/bioc/src/contrib/flowFit_1.21.1.tar.gz && rm -rf flowFit.buildbin-libdir && mkdir flowFit.buildbin-libdir && C:\Users\biocbuild\bbs-3.9-bioc\R\bin\R.exe CMD INSTALL --merge-multiarch --build --library=flowFit.buildbin-libdir flowFit_1.21.1.tar.gz && C:\Users\biocbuild\bbs-3.9-bioc\R\bin\R.exe CMD INSTALL flowFit_1.21.1.zip && rm flowFit_1.21.1.tar.gz flowFit_1.21.1.zip |
| StartedAt: 2019-04-08 19:10:55 -0400 (Mon, 08 Apr 2019) |
| EndedAt: 2019-04-08 19:11:35 -0400 (Mon, 08 Apr 2019) |
| EllapsedTime: 40.2 seconds |
| RetCode: 0 |
| Status: OK |
##############################################################################
##############################################################################
###
### Running command:
###
### C:\cygwin\bin\curl.exe -O https://malbec2.bioconductor.org/BBS/3.9/bioc/src/contrib/flowFit_1.21.1.tar.gz && rm -rf flowFit.buildbin-libdir && mkdir flowFit.buildbin-libdir && C:\Users\biocbuild\bbs-3.9-bioc\R\bin\R.exe CMD INSTALL --merge-multiarch --build --library=flowFit.buildbin-libdir flowFit_1.21.1.tar.gz && C:\Users\biocbuild\bbs-3.9-bioc\R\bin\R.exe CMD INSTALL flowFit_1.21.1.zip && rm flowFit_1.21.1.tar.gz flowFit_1.21.1.zip
###
##############################################################################
##############################################################################
% Total % Received % Xferd Average Speed Time Time Time Current
Dload Upload Total Spent Left Speed
0 0 0 0 0 0 0 0 --:--:-- --:--:-- --:--:-- 0
100 46359 100 46359 0 0 793k 0 --:--:-- --:--:-- --:--:-- 905k
install for i386
* installing *source* package 'flowFit' ...
** R
** demo
** inst
** byte-compile and prepare package for lazy loading
** help
*** installing help indices
converting help for package 'flowFit'
finding HTML links ... done
flowFit-package html
finding level-2 HTML links ... done
generationsDistance html
getGenerations html
logTicks html
parentFitting html
parentFittingData-class html
plot-methods html
proliferationFitting html
proliferationFittingData-class html
proliferationGrid html
proliferationIndex html
** building package indices
** installing vignettes
** testing if installed package can be loaded from temporary location
** testing if installed package can be loaded from final location
** testing if installed package keeps a record of temporary installation path
install for x64
* installing *source* package 'flowFit' ...
** testing if installed package can be loaded
* MD5 sums
packaged installation of 'flowFit' as flowFit_1.21.1.zip
* DONE (flowFit)
* installing to library 'C:/Users/biocbuild/bbs-3.9-bioc/R/library'
package 'flowFit' successfully unpacked and MD5 sums checked