| Back to Multiple platform build/check report for BioC 3.9 |
|
This page was generated on 2019-04-09 12:27:09 -0400 (Tue, 09 Apr 2019).
| Package 480/1703 | Hostname | OS / Arch | INSTALL | BUILD | CHECK | BUILD BIN | ||||||
| eegc 1.9.0 Xiaoyuan Zhou
| malbec2 | Linux (Ubuntu 18.04.2 LTS) / x86_64 | OK | OK | WARNINGS | |||||||
| tokay2 | Windows Server 2012 R2 Standard / x64 | [ OK ] | OK | WARNINGS | OK | |||||||
| celaya2 | OS X 10.11.6 El Capitan / x86_64 | OK | OK | WARNINGS | OK | |||||||
| merida2 | OS X 10.11.6 El Capitan / x86_64 | OK | OK | WARNINGS | OK |
| Package: eegc |
| Version: 1.9.0 |
| Command: C:\cygwin\bin\curl.exe -O https://malbec2.bioconductor.org/BBS/3.9/bioc/src/contrib/eegc_1.9.0.tar.gz && rm -rf eegc.buildbin-libdir && mkdir eegc.buildbin-libdir && C:\Users\biocbuild\bbs-3.9-bioc\R\bin\R.exe CMD INSTALL --merge-multiarch --build --library=eegc.buildbin-libdir eegc_1.9.0.tar.gz && C:\Users\biocbuild\bbs-3.9-bioc\R\bin\R.exe CMD INSTALL eegc_1.9.0.zip && rm eegc_1.9.0.tar.gz eegc_1.9.0.zip |
| StartedAt: 2019-04-08 19:56:27 -0400 (Mon, 08 Apr 2019) |
| EndedAt: 2019-04-08 19:58:02 -0400 (Mon, 08 Apr 2019) |
| EllapsedTime: 95.2 seconds |
| RetCode: 0 |
| Status: OK |
##############################################################################
##############################################################################
###
### Running command:
###
### C:\cygwin\bin\curl.exe -O https://malbec2.bioconductor.org/BBS/3.9/bioc/src/contrib/eegc_1.9.0.tar.gz && rm -rf eegc.buildbin-libdir && mkdir eegc.buildbin-libdir && C:\Users\biocbuild\bbs-3.9-bioc\R\bin\R.exe CMD INSTALL --merge-multiarch --build --library=eegc.buildbin-libdir eegc_1.9.0.tar.gz && C:\Users\biocbuild\bbs-3.9-bioc\R\bin\R.exe CMD INSTALL eegc_1.9.0.zip && rm eegc_1.9.0.tar.gz eegc_1.9.0.zip
###
##############################################################################
##############################################################################
% Total % Received % Xferd Average Speed Time Time Time Current
Dload Upload Total Spent Left Speed
0 0 0 0 0 0 0 0 --:--:-- --:--:-- --:--:-- 0
100 9085k 100 9085k 0 0 44.9M 0 --:--:-- --:--:-- --:--:-- 46.4M
install for i386
* installing *source* package 'eegc' ...
** R
** data
*** moving datasets to lazyload DB
** inst
** byte-compile and prepare package for lazy loading
** help
*** installing help indices
converting help for package 'eegc'
finding HTML links ... done
SandlerFPKM html
barplotEnrich html
Rd warning: C:/Users/biocbuild/bbs-3.9-bioc/tmpdir/RtmpIHFPtp/R.INSTALL23a43c16d38/eegc/man/barplotEnrich.Rd:29: missing file link 'barplot.enrichResult'
cate.gene html
cate.ratio html
categorizeGene html
densityPlot html
diffGene html
diffgene.genes html
dotPercentage html
eegc html
enrichment html
expr.filter html
functionEnrich html
Rd warning: C:/Users/biocbuild/bbs-3.9-bioc/tmpdir/RtmpIHFPtp/R.INSTALL23a43c16d38/eegc/man/functionEnrich.Rd:17: file link 'org.Hs.eg.db' in package 'org.Hs.eg.db' does not exist and so has been treated as a topic
goenrich html
grnPlot html
Rd warning: C:/Users/biocbuild/bbs-3.9-bioc/tmpdir/RtmpIHFPtp/R.INSTALL23a43c16d38/eegc/man/grnPlot.Rd:33: file link 'igraph.plotting' in package 'igraph' does not exist and so has been treated as a topic
Rd warning: C:/Users/biocbuild/bbs-3.9-bioc/tmpdir/RtmpIHFPtp/R.INSTALL23a43c16d38/eegc/man/grnPlot.Rd:36: file link 'igraph.plotting' in package 'igraph' does not exist and so has been treated as a topic
Rd warning: C:/Users/biocbuild/bbs-3.9-bioc/tmpdir/RtmpIHFPtp/R.INSTALL23a43c16d38/eegc/man/grnPlot.Rd:38: file link 'layout' in package 'igraph' does not exist and so has been treated as a topic
Rd warning: C:/Users/biocbuild/bbs-3.9-bioc/tmpdir/RtmpIHFPtp/R.INSTALL23a43c16d38/eegc/man/grnPlot.Rd:42: file link 'igraph.plotting' in package 'igraph' does not exist and so has been treated as a topic
heatmapPlot html
human.gene html
human.grn html
human.tf html
markerScatter html
markers html
mouse.gene html
mouse.grn html
mouse.tf html
networkAnalyze html
tissueGenes html
tissueGroup html
** building package indices
** installing vignettes
'eegc.Rnw'
** testing if installed package can be loaded from temporary location
** testing if installed package can be loaded from final location
** testing if installed package keeps a record of temporary installation path
install for x64
* installing *source* package 'eegc' ...
** testing if installed package can be loaded
* MD5 sums
packaged installation of 'eegc' as eegc_1.9.0.zip
* DONE (eegc)
* installing to library 'C:/Users/biocbuild/bbs-3.9-bioc/R/library'
package 'eegc' successfully unpacked and MD5 sums checked