| Back to Multiple platform build/check report for BioC 3.9 |
|
This page was generated on 2019-04-09 12:27:00 -0400 (Tue, 09 Apr 2019).
| Package 368/1703 | Hostname | OS / Arch | INSTALL | BUILD | CHECK | BUILD BIN | ||||||
| ctsGE 1.9.1 Michal Sharabi-Schwager
| malbec2 | Linux (Ubuntu 18.04.2 LTS) / x86_64 | OK | OK | OK | |||||||
| tokay2 | Windows Server 2012 R2 Standard / x64 | [ OK ] | OK | OK | OK | |||||||
| celaya2 | OS X 10.11.6 El Capitan / x86_64 | OK | OK | OK | OK | |||||||
| merida2 | OS X 10.11.6 El Capitan / x86_64 | OK | OK | OK | OK |
| Package: ctsGE |
| Version: 1.9.1 |
| Command: C:\cygwin\bin\curl.exe -O https://malbec2.bioconductor.org/BBS/3.9/bioc/src/contrib/ctsGE_1.9.1.tar.gz && rm -rf ctsGE.buildbin-libdir && mkdir ctsGE.buildbin-libdir && C:\Users\biocbuild\bbs-3.9-bioc\R\bin\R.exe CMD INSTALL --merge-multiarch --build --library=ctsGE.buildbin-libdir ctsGE_1.9.1.tar.gz && C:\Users\biocbuild\bbs-3.9-bioc\R\bin\R.exe CMD INSTALL ctsGE_1.9.1.zip && rm ctsGE_1.9.1.tar.gz ctsGE_1.9.1.zip |
| StartedAt: 2019-04-08 19:02:28 -0400 (Mon, 08 Apr 2019) |
| EndedAt: 2019-04-08 19:03:06 -0400 (Mon, 08 Apr 2019) |
| EllapsedTime: 38.0 seconds |
| RetCode: 0 |
| Status: OK |
##############################################################################
##############################################################################
###
### Running command:
###
### C:\cygwin\bin\curl.exe -O https://malbec2.bioconductor.org/BBS/3.9/bioc/src/contrib/ctsGE_1.9.1.tar.gz && rm -rf ctsGE.buildbin-libdir && mkdir ctsGE.buildbin-libdir && C:\Users\biocbuild\bbs-3.9-bioc\R\bin\R.exe CMD INSTALL --merge-multiarch --build --library=ctsGE.buildbin-libdir ctsGE_1.9.1.tar.gz && C:\Users\biocbuild\bbs-3.9-bioc\R\bin\R.exe CMD INSTALL ctsGE_1.9.1.zip && rm ctsGE_1.9.1.tar.gz ctsGE_1.9.1.zip
###
##############################################################################
##############################################################################
% Total % Received % Xferd Average Speed Time Time Time Current
Dload Upload Total Spent Left Speed
0 0 0 0 0 0 0 0 --:--:-- --:--:-- --:--:-- 0
100 1478k 100 1478k 0 0 21.9M 0 --:--:-- --:--:-- --:--:-- 24.4M
install for i386
* installing *source* package 'ctsGE' ...
** R
** inst
** byte-compile and prepare package for lazy loading
** help
*** installing help indices
converting help for package 'ctsGE'
finding HTML links ... done
ClustIndexes html
PlotIndexesClust html
finding level-2 HTML links ... done
PreparingTheIndexes html
ctsGEShinyApp html
index html
readTSGE html
** building package indices
** installing vignettes
'ctsGE.Rmd' using 'UTF-8'
** testing if installed package can be loaded from temporary location
** testing if installed package can be loaded from final location
** testing if installed package keeps a record of temporary installation path
install for x64
* installing *source* package 'ctsGE' ...
** testing if installed package can be loaded
* MD5 sums
packaged installation of 'ctsGE' as ctsGE_1.9.1.zip
* DONE (ctsGE)
* installing to library 'C:/Users/biocbuild/bbs-3.9-bioc/R/library'
package 'ctsGE' successfully unpacked and MD5 sums checked