| Back to Multiple platform build/check report for BioC 3.9 |
|
This page was generated on 2019-04-09 12:22:08 -0400 (Tue, 09 Apr 2019).
| Package 354/1703 | Hostname | OS / Arch | INSTALL | BUILD | CHECK | BUILD BIN | ||||||
| cpvSNP 1.15.0 Caitlin McHugh
| malbec2 | Linux (Ubuntu 18.04.2 LTS) / x86_64 | OK | OK | OK | |||||||
| tokay2 | Windows Server 2012 R2 Standard / x64 | OK | OK | OK | [ OK ] | |||||||
| celaya2 | OS X 10.11.6 El Capitan / x86_64 | OK | OK | OK | OK | |||||||
| merida2 | OS X 10.11.6 El Capitan / x86_64 | OK | OK | OK | OK |
| Package: cpvSNP |
| Version: 1.15.0 |
| Command: rm -rf cpvSNP.buildbin-libdir && mkdir cpvSNP.buildbin-libdir && C:\Users\biocbuild\bbs-3.9-bioc\R\bin\R.exe CMD INSTALL --merge-multiarch --build --library=cpvSNP.buildbin-libdir cpvSNP_1.15.0.tar.gz |
| StartedAt: 2019-04-09 07:43:18 -0400 (Tue, 09 Apr 2019) |
| EndedAt: 2019-04-09 07:44:10 -0400 (Tue, 09 Apr 2019) |
| EllapsedTime: 51.2 seconds |
| RetCode: 0 |
| Status: OK |
| PackageFile: cpvSNP_1.15.0.zip |
| PackageFileSize: 2.25 MiB |
##############################################################################
##############################################################################
###
### Running command:
###
### rm -rf cpvSNP.buildbin-libdir && mkdir cpvSNP.buildbin-libdir && C:\Users\biocbuild\bbs-3.9-bioc\R\bin\R.exe CMD INSTALL --merge-multiarch --build --library=cpvSNP.buildbin-libdir cpvSNP_1.15.0.tar.gz
###
##############################################################################
##############################################################################
install for i386
* installing *source* package 'cpvSNP' ...
** R
** data
** inst
** byte-compile and prepare package for lazy loading
** help
*** installing help indices
converting help for package 'cpvSNP'
finding HTML links ... done
GLOSSIResult-class html
GLOSSIResultCollection-class html
GeneSetResult-class html
GeneSetResultCollection-class html
VEGASResult-class html
VEGASResultCollection-class html
assocPvalBySetPlot html
createArrayData html
degreesOfFreedom-method html
exampleArrayData html
geneSetAnalysis html
geneSetName-methods html
geneSets html
geneToSNPList html
glossi html
glossiMarginal html
pValue-method html
plotPvals html
show-methods html
simulate_chisq html
simulatedStats-method html
statistic-methods html
vegas html
vegasMarginal html
** building package indices
** installing vignettes
** testing if installed package can be loaded from temporary location
** testing if installed package can be loaded from final location
** testing if installed package keeps a record of temporary installation path
install for x64
* installing *source* package 'cpvSNP' ...
** testing if installed package can be loaded
* MD5 sums
packaged installation of 'cpvSNP' as cpvSNP_1.15.0.zip
* DONE (cpvSNP)