| Back to Multiple platform build/check report for BioC 3.9 |
|
This page was generated on 2019-04-09 12:42:54 -0400 (Tue, 09 Apr 2019).
| Package 331/1703 | Hostname | OS / Arch | INSTALL | BUILD | CHECK | BUILD BIN | ||||||
| consensusDE 1.1.4 Ashley J. Waardenberg
| malbec2 | Linux (Ubuntu 18.04.2 LTS) / x86_64 | OK | OK | OK | |||||||
| tokay2 | Windows Server 2012 R2 Standard / x64 | [ OK ] | OK | OK | OK | |||||||
| celaya2 | OS X 10.11.6 El Capitan / x86_64 | OK | OK | OK | OK | |||||||
| merida2 | OS X 10.11.6 El Capitan / x86_64 | OK | OK | OK | OK |
| Package: consensusDE |
| Version: 1.1.4 |
| Command: C:\cygwin\bin\curl.exe -O https://malbec2.bioconductor.org/BBS/3.9/bioc/src/contrib/consensusDE_1.1.4.tar.gz && rm -rf consensusDE.buildbin-libdir && mkdir consensusDE.buildbin-libdir && C:\Users\biocbuild\bbs-3.9-bioc\R\bin\R.exe CMD INSTALL --merge-multiarch --build --library=consensusDE.buildbin-libdir consensusDE_1.1.4.tar.gz && C:\Users\biocbuild\bbs-3.9-bioc\R\bin\R.exe CMD INSTALL consensusDE_1.1.4.zip && rm consensusDE_1.1.4.tar.gz consensusDE_1.1.4.zip |
| StartedAt: 2019-04-08 20:43:40 -0400 (Mon, 08 Apr 2019) |
| EndedAt: 2019-04-08 20:44:44 -0400 (Mon, 08 Apr 2019) |
| EllapsedTime: 64.2 seconds |
| RetCode: 0 |
| Status: OK |
##############################################################################
##############################################################################
###
### Running command:
###
### C:\cygwin\bin\curl.exe -O https://malbec2.bioconductor.org/BBS/3.9/bioc/src/contrib/consensusDE_1.1.4.tar.gz && rm -rf consensusDE.buildbin-libdir && mkdir consensusDE.buildbin-libdir && C:\Users\biocbuild\bbs-3.9-bioc\R\bin\R.exe CMD INSTALL --merge-multiarch --build --library=consensusDE.buildbin-libdir consensusDE_1.1.4.tar.gz && C:\Users\biocbuild\bbs-3.9-bioc\R\bin\R.exe CMD INSTALL consensusDE_1.1.4.zip && rm consensusDE_1.1.4.tar.gz consensusDE_1.1.4.zip
###
##############################################################################
##############################################################################
% Total % Received % Xferd Average Speed Time Time Time Current
Dload Upload Total Spent Left Speed
0 0 0 0 0 0 0 0 --:--:-- --:--:-- --:--:-- 0
0 29869 0 0 0 0 0 0 --:--:-- --:--:-- --:--:-- 0
100 29869 100 29869 0 0 463k 0 --:--:-- --:--:-- --:--:-- 511k
install for i386
* installing *source* package 'consensusDE' ...
** R
** byte-compile and prepare package for lazy loading
** help
*** installing help indices
converting help for package 'consensusDE'
finding HTML links ... done
buildSummarized html
diag_plots html
multi_de_pairs html
** building package indices
** installing vignettes
** testing if installed package can be loaded from temporary location
** testing if installed package can be loaded from final location
** testing if installed package keeps a record of temporary installation path
install for x64
* installing *source* package 'consensusDE' ...
** testing if installed package can be loaded
* MD5 sums
packaged installation of 'consensusDE' as consensusDE_1.1.4.zip
* DONE (consensusDE)
* installing to library 'C:/Users/biocbuild/bbs-3.9-bioc/R/library'
package 'consensusDE' successfully unpacked and MD5 sums checked