| Back to Multiple platform build/check report for BioC 3.9 |
|
This page was generated on 2019-04-09 12:20:51 -0400 (Tue, 09 Apr 2019).
| Package 324/1703 | Hostname | OS / Arch | INSTALL | BUILD | CHECK | BUILD BIN | ||||||
| compEpiTools 1.17.0 Kamal Kishore
| malbec2 | Linux (Ubuntu 18.04.2 LTS) / x86_64 | OK | OK | OK | |||||||
| tokay2 | Windows Server 2012 R2 Standard / x64 | [ OK ] | OK | OK | OK | |||||||
| celaya2 | OS X 10.11.6 El Capitan / x86_64 | OK | OK | OK | OK | |||||||
| merida2 | OS X 10.11.6 El Capitan / x86_64 | OK | OK | OK | OK |
| Package: compEpiTools |
| Version: 1.17.0 |
| Command: C:\cygwin\bin\curl.exe -O https://malbec2.bioconductor.org/BBS/3.9/bioc/src/contrib/compEpiTools_1.17.0.tar.gz && rm -rf compEpiTools.buildbin-libdir && mkdir compEpiTools.buildbin-libdir && C:\Users\biocbuild\bbs-3.9-bioc\R\bin\R.exe CMD INSTALL --merge-multiarch --build --library=compEpiTools.buildbin-libdir compEpiTools_1.17.0.tar.gz && C:\Users\biocbuild\bbs-3.9-bioc\R\bin\R.exe CMD INSTALL compEpiTools_1.17.0.zip && rm compEpiTools_1.17.0.tar.gz compEpiTools_1.17.0.zip |
| StartedAt: 2019-04-08 20:37:34 -0400 (Mon, 08 Apr 2019) |
| EndedAt: 2019-04-08 20:39:12 -0400 (Mon, 08 Apr 2019) |
| EllapsedTime: 98.6 seconds |
| RetCode: 0 |
| Status: OK |
##############################################################################
##############################################################################
###
### Running command:
###
### C:\cygwin\bin\curl.exe -O https://malbec2.bioconductor.org/BBS/3.9/bioc/src/contrib/compEpiTools_1.17.0.tar.gz && rm -rf compEpiTools.buildbin-libdir && mkdir compEpiTools.buildbin-libdir && C:\Users\biocbuild\bbs-3.9-bioc\R\bin\R.exe CMD INSTALL --merge-multiarch --build --library=compEpiTools.buildbin-libdir compEpiTools_1.17.0.tar.gz && C:\Users\biocbuild\bbs-3.9-bioc\R\bin\R.exe CMD INSTALL compEpiTools_1.17.0.zip && rm compEpiTools_1.17.0.tar.gz compEpiTools_1.17.0.zip
###
##############################################################################
##############################################################################
% Total % Received % Xferd Average Speed Time Time Time Current
Dload Upload Total Spent Left Speed
0 0 0 0 0 0 0 0 --:--:-- --:--:-- --:--:-- 0
100 2068k 100 2068k 0 0 5954k 0 --:--:-- --:--:-- --:--:-- 6211k
install for i386
* installing *source* package 'compEpiTools' ...
** R
** inst
** byte-compile and prepare package for lazy loading
groupGOTerms: GOBPTerm, GOMFTerm, GOCCTerm environments built.
** help
*** installing help indices
converting help for package 'compEpiTools'
finding HTML links ... done
GR2fasta-methods html
GRanges2ucsc-methods html
GRangesInPromoters-methods html
GRannotate-methods html
GRannotateSimple html
GRbaseCoverage-methods html
GRcoverage-methods html
GRcoverageSummit-methods html
GRenrichment-methods html
GRmidpoint-methods html
GRsetwidth html
TSS html
compEpiTools-package html
countOverlapsInBins-methods html
distanceFromTSS-methods html
enhancers html
findLncRNA html
getPromoterClass-methods html
finding level-2 HTML links ... done
heatmapData html
heatmapPlot html
makeGtfFromDb html
matchEnhancers html
overlapOfGRanges-methods html
palette2d html
plotStallingIndex html
simplifyGOterms html
stallingIndex html
topGOres html
ucsc2GRanges html
unionMaxScore-methods html
** building package indices
** installing vignettes
** testing if installed package can be loaded from temporary location
groupGOTerms: GOBPTerm, GOMFTerm, GOCCTerm environments built.
** testing if installed package can be loaded from final location
groupGOTerms: GOBPTerm, GOMFTerm, GOCCTerm environments built.
** testing if installed package keeps a record of temporary installation path
install for x64
* installing *source* package 'compEpiTools' ...
** testing if installed package can be loaded
groupGOTerms: GOBPTerm, GOMFTerm, GOCCTerm environments built.
* MD5 sums
packaged installation of 'compEpiTools' as compEpiTools_1.17.0.zip
* DONE (compEpiTools)
* installing to library 'C:/Users/biocbuild/bbs-3.9-bioc/R/library'
package 'compEpiTools' successfully unpacked and MD5 sums checked