| Back to Multiple platform build/check report for BioC 3.9 |
|
This page was generated on 2019-04-09 12:31:31 -0400 (Tue, 09 Apr 2019).
| Package 314/1703 | Hostname | OS / Arch | INSTALL | BUILD | CHECK | BUILD BIN | ||||||
| coexnet 1.5.1 Juan David Henao
| malbec2 | Linux (Ubuntu 18.04.2 LTS) / x86_64 | OK | OK | OK | |||||||
| tokay2 | Windows Server 2012 R2 Standard / x64 | OK | OK | OK | [ OK ] | |||||||
| celaya2 | OS X 10.11.6 El Capitan / x86_64 | OK | OK | OK | OK | |||||||
| merida2 | OS X 10.11.6 El Capitan / x86_64 | OK | OK | OK | OK |
| Package: coexnet |
| Version: 1.5.1 |
| Command: rm -rf coexnet.buildbin-libdir && mkdir coexnet.buildbin-libdir && C:\Users\biocbuild\bbs-3.9-bioc\R\bin\R.exe CMD INSTALL --merge-multiarch --build --library=coexnet.buildbin-libdir coexnet_1.5.1.tar.gz |
| StartedAt: 2019-04-09 07:40:50 -0400 (Tue, 09 Apr 2019) |
| EndedAt: 2019-04-09 07:41:35 -0400 (Tue, 09 Apr 2019) |
| EllapsedTime: 44.7 seconds |
| RetCode: 0 |
| Status: OK |
| PackageFile: coexnet_1.5.1.zip |
| PackageFileSize: 1.746 MiB |
##############################################################################
##############################################################################
###
### Running command:
###
### rm -rf coexnet.buildbin-libdir && mkdir coexnet.buildbin-libdir && C:\Users\biocbuild\bbs-3.9-bioc\R\bin\R.exe CMD INSTALL --merge-multiarch --build --library=coexnet.buildbin-libdir coexnet_1.5.1.tar.gz
###
##############################################################################
##############################################################################
install for i386
* installing *source* package 'coexnet' ...
** R
** data
*** moving datasets to lazyload DB
** inst
** byte-compile and prepare package for lazy loading
** help
*** installing help indices
converting help for package 'coexnet'
finding HTML links ... done
CCP html
affy html
cofVar html
createNet html
difExprs html
exprMat html
findThreshold html
geneSymbol html
getAffy html
getInfo html
info html
net1 html
net2 html
ppiNet html
sharedComponents html
** building package indices
** installing vignettes
** testing if installed package can be loaded from temporary location
** testing if installed package can be loaded from final location
** testing if installed package keeps a record of temporary installation path
install for x64
* installing *source* package 'coexnet' ...
** testing if installed package can be loaded
* MD5 sums
packaged installation of 'coexnet' as coexnet_1.5.1.zip
* DONE (coexnet)