| Back to Multiple platform build/check report for BioC 3.9 | 
 | 
This page was generated on 2019-04-09 12:25:45 -0400 (Tue, 09 Apr 2019).
| Package 267/1703 | Hostname | OS / Arch | INSTALL | BUILD | CHECK | BUILD BIN | ||||||
| chromPlot 1.11.0 Karen Y. Orostica 
 | malbec2 | Linux (Ubuntu 18.04.2 LTS) / x86_64 | OK | OK | OK |  | ||||||
| tokay2 | Windows Server 2012 R2 Standard / x64 | [ OK ] | OK | WARNINGS | OK |  | ||||||
| celaya2 | OS X 10.11.6 El Capitan / x86_64 | OK | OK | OK | OK |  | ||||||
| merida2 | OS X 10.11.6 El Capitan / x86_64 | OK | OK | OK | OK | 
| Package: chromPlot | 
| Version: 1.11.0 | 
| Command: C:\cygwin\bin\curl.exe -O https://malbec2.bioconductor.org/BBS/3.9/bioc/src/contrib/chromPlot_1.11.0.tar.gz && rm -rf chromPlot.buildbin-libdir && mkdir chromPlot.buildbin-libdir && C:\Users\biocbuild\bbs-3.9-bioc\R\bin\R.exe CMD INSTALL --merge-multiarch --build --library=chromPlot.buildbin-libdir chromPlot_1.11.0.tar.gz && C:\Users\biocbuild\bbs-3.9-bioc\R\bin\R.exe CMD INSTALL chromPlot_1.11.0.zip && rm chromPlot_1.11.0.tar.gz chromPlot_1.11.0.zip | 
| StartedAt: 2019-04-08 19:37:54 -0400 (Mon, 08 Apr 2019) | 
| EndedAt: 2019-04-08 19:39:00 -0400 (Mon, 08 Apr 2019) | 
| EllapsedTime: 66.5 seconds | 
| RetCode: 0 | 
| Status: OK | 
##############################################################################
##############################################################################
###
### Running command:
###
###   C:\cygwin\bin\curl.exe -O https://malbec2.bioconductor.org/BBS/3.9/bioc/src/contrib/chromPlot_1.11.0.tar.gz && rm -rf chromPlot.buildbin-libdir && mkdir chromPlot.buildbin-libdir && C:\Users\biocbuild\bbs-3.9-bioc\R\bin\R.exe CMD INSTALL --merge-multiarch --build --library=chromPlot.buildbin-libdir chromPlot_1.11.0.tar.gz && C:\Users\biocbuild\bbs-3.9-bioc\R\bin\R.exe CMD INSTALL chromPlot_1.11.0.zip && rm chromPlot_1.11.0.tar.gz chromPlot_1.11.0.zip
###
##############################################################################
##############################################################################
  % Total    % Received % Xferd  Average Speed   Time    Time     Time  Current
                                 Dload  Upload   Total   Spent    Left  Speed
  0     0    0     0    0     0      0      0 --:--:-- --:--:-- --:--:--     0
100  762k  100  762k    0     0  11.7M      0 --:--:-- --:--:-- --:--:-- 13.0M
install for i386
* installing *source* package 'chromPlot' ...
** R
** data
*** moving datasets to lazyload DB
** inst
** byte-compile and prepare package for lazy loading
Warning: replacing previous import 'grDevices::windows' by 'GenomicRanges::windows' when loading 'chromPlot'
** help
*** installing help indices
  converting help for package 'chromPlot'
    finding HTML links ... done
    chromPlot-package                       html  
    chromPlot                               html  
    hg_cytoBandIdeo                         html  
    hg_gap                                  html  
    mm10_cytoBandIdeo                       html  
    mm10_gap                                html  
** building package indices
** installing vignettes
** testing if installed package can be loaded from temporary location
Warning: replacing previous import 'grDevices::windows' by 'GenomicRanges::windows' when loading 'chromPlot'
** testing if installed package can be loaded from final location
Warning: replacing previous import 'grDevices::windows' by 'GenomicRanges::windows' when loading 'chromPlot'
** testing if installed package keeps a record of temporary installation path
install for x64
* installing *source* package 'chromPlot' ...
** testing if installed package can be loaded
Warning: replacing previous import 'grDevices::windows' by 'GenomicRanges::windows' when loading 'chromPlot'
* MD5 sums
packaged installation of 'chromPlot' as chromPlot_1.11.0.zip
* DONE (chromPlot)
* installing to library 'C:/Users/biocbuild/bbs-3.9-bioc/R/library'
package 'chromPlot' successfully unpacked and MD5 sums checked