Back to Multiple platform build/check report for BioC 3.9
AB[C]DEFGHIJKLMNOPQRSTUVWXYZ

CHECK report for cTRAP on celaya2

This page was generated on 2019-04-08 12:07:17 -0400 (Mon, 08 Apr 2019).

Package 367/1703HostnameOS / ArchINSTALLBUILDCHECKBUILD BIN
cTRAP 1.1.3
Nuno Saraiva-Agostinho
Snapshot Date: 2019-04-07 17:01:41 -0400 (Sun, 07 Apr 2019)
URL: https://git.bioconductor.org/packages/cTRAP
Branch: master
Last Commit: 4607f01
Last Changed Date: 2018-12-03 11:04:48 -0400 (Mon, 03 Dec 2018)
malbec2 Linux (Ubuntu 18.04.2 LTS) / x86_64  OK  OK  OK UNNEEDED, same version exists in internal repository
tokay2 Windows Server 2012 R2 Standard / x64  OK  OK  OK  OK UNNEEDED, same version exists in internal repository
celaya2 OS X 10.11.6 El Capitan / x86_64  OK  OK [ OK ] OK UNNEEDED, same version exists in internal repository
merida2 OS X 10.11.6 El Capitan / x86_64  OK  OK  OK  OK 

Summary

Package: cTRAP
Version: 1.1.3
Command: /Library/Frameworks/R.framework/Versions/Current/Resources/bin/R CMD check --install=check:cTRAP.install-out.txt --library=/Library/Frameworks/R.framework/Versions/Current/Resources/library --no-vignettes --timings cTRAP_1.1.3.tar.gz
StartedAt: 2019-04-08 01:06:32 -0400 (Mon, 08 Apr 2019)
EndedAt: 2019-04-08 01:09:40 -0400 (Mon, 08 Apr 2019)
EllapsedTime: 188.5 seconds
RetCode: 0
Status:  OK 
CheckDir: cTRAP.Rcheck
Warnings: 0

Command output

##############################################################################
##############################################################################
###
### Running command:
###
###   /Library/Frameworks/R.framework/Versions/Current/Resources/bin/R CMD check --install=check:cTRAP.install-out.txt --library=/Library/Frameworks/R.framework/Versions/Current/Resources/library --no-vignettes --timings cTRAP_1.1.3.tar.gz
###
##############################################################################
##############################################################################


* using log directory ‘/Users/biocbuild/bbs-3.9-bioc/meat/cTRAP.Rcheck’
* using R Under development (unstable) (2019-03-18 r76245)
* using platform: x86_64-apple-darwin15.6.0 (64-bit)
* using session charset: UTF-8
* using option ‘--no-vignettes’
* checking for file ‘cTRAP/DESCRIPTION’ ... OK
* this is package ‘cTRAP’ version ‘1.1.3’
* package encoding: UTF-8
* checking package namespace information ... OK
* checking package dependencies ... OK
* checking if this is a source package ... OK
* checking if there is a namespace ... OK
* checking for hidden files and directories ... OK
* checking for portable file names ... OK
* checking for sufficient/correct file permissions ... OK
* checking whether package ‘cTRAP’ can be installed ... OK
* checking installed package size ... OK
* checking package directory ... OK
* checking ‘build’ directory ... OK
* checking DESCRIPTION meta-information ... OK
* checking top-level files ... OK
* checking for left-over files ... OK
* checking index information ... OK
* checking package subdirectories ... OK
* checking R files for non-ASCII characters ... OK
* checking R files for syntax errors ... OK
* checking whether the package can be loaded ... OK
* checking whether the package can be loaded with stated dependencies ... OK
* checking whether the package can be unloaded cleanly ... OK
* checking whether the namespace can be loaded with stated dependencies ... OK
* checking whether the namespace can be unloaded cleanly ... OK
* checking dependencies in R code ... OK
* checking S3 generic/method consistency ... OK
* checking replacement functions ... OK
* checking foreign function calls ... OK
* checking R code for possible problems ... OK
* checking Rd files ... OK
* checking Rd metadata ... OK
* checking Rd cross-references ... OK
* checking for missing documentation entries ... OK
* checking for code/documentation mismatches ... OK
* checking Rd \usage sections ... OK
* checking Rd contents ... OK
* checking for unstated dependencies in examples ... OK
* checking contents of ‘data’ directory ... OK
* checking data for non-ASCII characters ... OK
* checking data for ASCII and uncompressed saves ... OK
* checking files in ‘vignettes’ ... OK
* checking examples ... OK
Examples with CPU or elapsed time > 5s
                                  user system elapsed
downloadL1000data               22.435 12.702  10.304
plotL1000comparison             19.754  6.456  12.638
compareAgainstL1000              6.875  4.468   2.189
downloadENCODEknockdownMetadata  4.058  1.001  13.516
* checking for unstated dependencies in ‘tests’ ... OK
* checking tests ...
  Running ‘testthat.R’
 OK
* checking for unstated dependencies in vignettes ... OK
* checking package vignettes in ‘inst/doc’ ... OK
* checking running R code from vignettes ... SKIPPED
* checking re-building of vignette outputs ... SKIPPED
* checking PDF version of manual ... OK
* DONE

Status: OK


Installation output

cTRAP.Rcheck/00install.out

##############################################################################
##############################################################################
###
### Running command:
###
###   /Library/Frameworks/R.framework/Versions/Current/Resources/bin/R CMD INSTALL cTRAP
###
##############################################################################
##############################################################################


* installing to library ‘/Library/Frameworks/R.framework/Versions/3.6/Resources/library’
* installing *source* package ‘cTRAP’ ...
** using staged installation
** R
** data
*** moving datasets to lazyload DB
** byte-compile and prepare package for lazy loading
** help
*** installing help indices
** building package indices
** installing vignettes
** testing if installed package can be loaded from temporary location
** testing if installed package can be loaded from final location
** testing if installed package keeps a record of temporary installation path
* DONE (cTRAP)

Tests output

cTRAP.Rcheck/tests/testthat.Rout


R Under development (unstable) (2019-03-18 r76245) -- "Unsuffered Consequences"
Copyright (C) 2019 The R Foundation for Statistical Computing
Platform: x86_64-apple-darwin15.6.0 (64-bit)

R is free software and comes with ABSOLUTELY NO WARRANTY.
You are welcome to redistribute it under certain conditions.
Type 'license()' or 'licence()' for distribution details.

R is a collaborative project with many contributors.
Type 'contributors()' for more information and
'citation()' on how to cite R or R packages in publications.

Type 'demo()' for some demos, 'help()' for on-line help, or
'help.start()' for an HTML browser interface to help.
Type 'q()' to quit R.

> library(testthat)
> library(cTRAP)
> 
> test_check("cTRAP")
Comparing with cell line HepG2
Comparing with cell line HepG2
Performing GSA using perturbation signatures...
Comparing with cell line HEPG2
Comparing with cell line HEPG2
Performing GSA using perturbation signatures...
══ testthat results  ═══════════════════════════════════════════════════════════
OK: 24 SKIPPED: 0 FAILED: 0
> 
> proc.time()
   user  system elapsed 
 37.276   9.864  28.887 

Example timings

cTRAP.Rcheck/cTRAP-Ex.timings

nameusersystemelapsed
compareAgainstL10006.8754.4682.189
downloadENCODEknockdownMetadata 4.058 1.00113.516
downloadENCODEsamples0.0010.0010.002
downloadL1000data22.43512.70210.304
filterL1000metadata0.0750.0690.025
getL1000Conditions0.0190.0190.007
getL1000PerturbationTypes0.0050.0040.002
loadL1000perturbations0.0050.0050.002
performDifferentialExpression0.0730.0600.022
plotL1000comparison19.754 6.45612.638
prepareENCODEgeneExpression0.0090.0010.011