| Back to Multiple platform build/check report for BioC 3.9 |
|
This page was generated on 2019-04-09 12:50:08 -0400 (Tue, 09 Apr 2019).
| Package 156/1703 | Hostname | OS / Arch | INSTALL | BUILD | CHECK | BUILD BIN | ||||||
| biomaRt 2.39.2 Mike Smith
| malbec2 | Linux (Ubuntu 18.04.2 LTS) / x86_64 | OK | OK | ERROR | |||||||
| tokay2 | Windows Server 2012 R2 Standard / x64 | OK | OK | OK | OK | |||||||
| celaya2 | OS X 10.11.6 El Capitan / x86_64 | OK | OK | [ OK ] | OK | |||||||
| merida2 | OS X 10.11.6 El Capitan / x86_64 | OK | OK | ERROR | OK |
| Package: biomaRt |
| Version: 2.39.2 |
| Command: /Library/Frameworks/R.framework/Versions/Current/Resources/bin/R CMD check --install=check:biomaRt.install-out.txt --library=/Library/Frameworks/R.framework/Versions/Current/Resources/library --no-vignettes --timings biomaRt_2.39.2.tar.gz |
| StartedAt: 2019-04-09 00:13:40 -0400 (Tue, 09 Apr 2019) |
| EndedAt: 2019-04-09 00:16:51 -0400 (Tue, 09 Apr 2019) |
| EllapsedTime: 190.3 seconds |
| RetCode: 0 |
| Status: OK |
| CheckDir: biomaRt.Rcheck |
| Warnings: 0 |
##############################################################################
##############################################################################
###
### Running command:
###
### /Library/Frameworks/R.framework/Versions/Current/Resources/bin/R CMD check --install=check:biomaRt.install-out.txt --library=/Library/Frameworks/R.framework/Versions/Current/Resources/library --no-vignettes --timings biomaRt_2.39.2.tar.gz
###
##############################################################################
##############################################################################
* using log directory ‘/Users/biocbuild/bbs-3.9-bioc/meat/biomaRt.Rcheck’
* using R Under development (unstable) (2019-03-18 r76245)
* using platform: x86_64-apple-darwin15.6.0 (64-bit)
* using session charset: UTF-8
* using option ‘--no-vignettes’
* checking for file ‘biomaRt/DESCRIPTION’ ... OK
* this is package ‘biomaRt’ version ‘2.39.2’
* package encoding: UTF-8
* checking package namespace information ... OK
* checking package dependencies ... OK
* checking if this is a source package ... OK
* checking if there is a namespace ... OK
* checking for hidden files and directories ... OK
* checking for portable file names ... OK
* checking for sufficient/correct file permissions ... OK
* checking whether package ‘biomaRt’ can be installed ... OK
* checking installed package size ... OK
* checking package directory ... OK
* checking ‘build’ directory ... OK
* checking DESCRIPTION meta-information ... OK
* checking top-level files ... OK
* checking for left-over files ... OK
* checking index information ... OK
* checking package subdirectories ... OK
* checking R files for non-ASCII characters ... OK
* checking R files for syntax errors ... OK
* checking whether the package can be loaded ... OK
* checking whether the package can be loaded with stated dependencies ... OK
* checking whether the package can be unloaded cleanly ... OK
* checking whether the namespace can be loaded with stated dependencies ... OK
* checking whether the namespace can be unloaded cleanly ... OK
* checking dependencies in R code ... NOTE
Unexported object imported by a ':::' call: ‘AnnotationDbi:::smartKeys’
See the note in ?`:::` about the use of this operator.
* checking S3 generic/method consistency ... OK
* checking replacement functions ... OK
* checking foreign function calls ... OK
* checking R code for possible problems ... OK
* checking Rd files ... OK
* checking Rd metadata ... OK
* checking Rd cross-references ... OK
* checking for missing documentation entries ... OK
* checking for code/documentation mismatches ... OK
* checking Rd \usage sections ... OK
* checking Rd contents ... OK
* checking for unstated dependencies in examples ... OK
* checking files in ‘vignettes’ ... OK
* checking examples ... OK
Examples with CPU or elapsed time > 5s
user system elapsed
select 0.557 0.159 11.819
* checking for unstated dependencies in ‘tests’ ... OK
* checking tests ...
Running ‘testthat.R’
OK
* checking for unstated dependencies in vignettes ... OK
* checking package vignettes in ‘inst/doc’ ... OK
* checking running R code from vignettes ... SKIPPED
* checking re-building of vignette outputs ... SKIPPED
* checking PDF version of manual ... OK
* DONE
Status: 1 NOTE
See
‘/Users/biocbuild/bbs-3.9-bioc/meat/biomaRt.Rcheck/00check.log’
for details.
biomaRt.Rcheck/00install.out
############################################################################## ############################################################################## ### ### Running command: ### ### /Library/Frameworks/R.framework/Versions/Current/Resources/bin/R CMD INSTALL biomaRt ### ############################################################################## ############################################################################## * installing to library ‘/Library/Frameworks/R.framework/Versions/3.6/Resources/library’ * installing *source* package ‘biomaRt’ ... ** using staged installation ** R ** inst ** byte-compile and prepare package for lazy loading ** help *** installing help indices ** building package indices ** installing vignettes ** testing if installed package can be loaded from temporary location ** testing if installed package can be loaded from final location ** testing if installed package keeps a record of temporary installation path * DONE (biomaRt)
biomaRt.Rcheck/tests/testthat.Rout
R Under development (unstable) (2019-03-18 r76245) -- "Unsuffered Consequences"
Copyright (C) 2019 The R Foundation for Statistical Computing
Platform: x86_64-apple-darwin15.6.0 (64-bit)
R is free software and comes with ABSOLUTELY NO WARRANTY.
You are welcome to redistribute it under certain conditions.
Type 'license()' or 'licence()' for distribution details.
R is a collaborative project with many contributors.
Type 'contributors()' for more information and
'citation()' on how to cite R or R packages in publications.
Type 'demo()' for some demos, 'help()' for on-line help, or
'help.start()' for an HTML browser interface to help.
Type 'q()' to quit R.
> library(testthat)
> library(biomaRt)
>
> test_check("biomaRt", encoding = "UTF-8")
══ testthat results ═══════════════════════════════════════════════════════════
OK: 57 SKIPPED: 0 FAILED: 0
>
> proc.time()
user system elapsed
9.178 0.810 50.126
biomaRt.Rcheck/biomaRt-Ex.timings
| name | user | system | elapsed | |
| NP2009code | 0.001 | 0.000 | 0.001 | |
| attributePages | 0.000 | 0.000 | 0.001 | |
| exportFASTA | 0.000 | 0.000 | 0.001 | |
| filterOptions | 0 | 0 | 0 | |
| filterType | 0.000 | 0.000 | 0.001 | |
| getBM | 0.386 | 0.078 | 4.655 | |
| getBMlist | 0.001 | 0.001 | 0.001 | |
| getGene | 0.001 | 0.001 | 0.001 | |
| getLDS | 0.001 | 0.000 | 0.002 | |
| getSequence | 0.002 | 0.000 | 0.003 | |
| getXML | 0.001 | 0.000 | 0.001 | |
| listAttributes | 0.002 | 0.001 | 0.003 | |
| listDatasets | 0.002 | 0.001 | 0.003 | |
| listEnsembl | 0 | 0 | 0 | |
| listEnsemblArchives | 0.034 | 0.009 | 0.359 | |
| listFilterValues | 0.002 | 0.000 | 0.002 | |
| listFilters | 0.002 | 0.001 | 0.002 | |
| listMarts | 0.000 | 0.001 | 0.000 | |
| select | 0.557 | 0.159 | 11.819 | |
| useDataset | 0.000 | 0.000 | 0.001 | |
| useEnsembl | 0.001 | 0.001 | 0.001 | |
| useMart | 0.001 | 0.001 | 0.001 | |