| Back to Multiple platform build/check report for BioC 3.9 |
|
This page was generated on 2019-04-09 12:30:46 -0400 (Tue, 09 Apr 2019).
| Package 102/1703 | Hostname | OS / Arch | INSTALL | BUILD | CHECK | BUILD BIN | ||||||
| basecallQC 1.7.0 Thomas Carroll
| malbec2 | Linux (Ubuntu 18.04.2 LTS) / x86_64 | OK | OK | OK | |||||||
| tokay2 | Windows Server 2012 R2 Standard / x64 | OK | OK | OK | [ OK ] | |||||||
| celaya2 | OS X 10.11.6 El Capitan / x86_64 | OK | OK | OK | OK | |||||||
| merida2 | OS X 10.11.6 El Capitan / x86_64 | OK | OK | OK | OK |
| Package: basecallQC |
| Version: 1.7.0 |
| Command: rm -rf basecallQC.buildbin-libdir && mkdir basecallQC.buildbin-libdir && C:\Users\biocbuild\bbs-3.9-bioc\R\bin\R.exe CMD INSTALL --merge-multiarch --build --library=basecallQC.buildbin-libdir basecallQC_1.7.0.tar.gz |
| StartedAt: 2019-04-09 07:27:53 -0400 (Tue, 09 Apr 2019) |
| EndedAt: 2019-04-09 07:28:42 -0400 (Tue, 09 Apr 2019) |
| EllapsedTime: 48.8 seconds |
| RetCode: 0 |
| Status: OK |
| PackageFile: basecallQC_1.7.0.zip |
| PackageFileSize: 1.147 MiB |
##############################################################################
##############################################################################
###
### Running command:
###
### rm -rf basecallQC.buildbin-libdir && mkdir basecallQC.buildbin-libdir && C:\Users\biocbuild\bbs-3.9-bioc\R\bin\R.exe CMD INSTALL --merge-multiarch --build --library=basecallQC.buildbin-libdir basecallQC_1.7.0.tar.gz
###
##############################################################################
##############################################################################
install for i386
* installing *source* package 'basecallQC' ...
** R
** inst
** byte-compile and prepare package for lazy loading
** help
*** installing help indices
converting help for package 'basecallQC'
finding HTML links ... done
BCL2FastQparams html
baseCallMetrics html
basecallQC html
createBCLcommand html
createBasemasks html
demultiplexMetrics html
demuxBarplot html
demuxBoxplot html
indexlengths html
interOpsReport html
makeFQTable html
passFilterBar html
passFilterBoxplot html
passFilterTileplot html
readlengths html
reportBCL html
summaryConvStatsTable html
summaryDemuxTable html
validateBCLSheet html
** building package indices
** installing vignettes
** testing if installed package can be loaded from temporary location
** testing if installed package can be loaded from final location
** testing if installed package keeps a record of temporary installation path
install for x64
* installing *source* package 'basecallQC' ...
** testing if installed package can be loaded
* MD5 sums
packaged installation of 'basecallQC' as basecallQC_1.7.0.zip
* DONE (basecallQC)