| Back to Multiple platform build/check report for BioC 3.9 |
|
This page was generated on 2019-04-09 12:25:56 -0400 (Tue, 09 Apr 2019).
| Package 95/1703 | Hostname | OS / Arch | INSTALL | BUILD | CHECK | BUILD BIN | ||||||
| bacon 1.11.1 Maarten van Iterson
| malbec2 | Linux (Ubuntu 18.04.2 LTS) / x86_64 | OK | OK | OK | |||||||
| tokay2 | Windows Server 2012 R2 Standard / x64 | OK | OK | OK | [ OK ] | |||||||
| celaya2 | OS X 10.11.6 El Capitan / x86_64 | OK | OK | OK | OK | |||||||
| merida2 | OS X 10.11.6 El Capitan / x86_64 | OK | OK | OK | OK |
| Package: bacon |
| Version: 1.11.1 |
| Command: rm -rf bacon.buildbin-libdir && mkdir bacon.buildbin-libdir && C:\Users\biocbuild\bbs-3.9-bioc\R\bin\R.exe CMD INSTALL --merge-multiarch --build --library=bacon.buildbin-libdir bacon_1.11.1.tar.gz |
| StartedAt: 2019-04-09 07:27:31 -0400 (Tue, 09 Apr 2019) |
| EndedAt: 2019-04-09 07:27:53 -0400 (Tue, 09 Apr 2019) |
| EllapsedTime: 21.9 seconds |
| RetCode: 0 |
| Status: OK |
| PackageFile: bacon_1.11.1.zip |
| PackageFileSize: 770.1 KiB |
##############################################################################
##############################################################################
###
### Running command:
###
### rm -rf bacon.buildbin-libdir && mkdir bacon.buildbin-libdir && C:\Users\biocbuild\bbs-3.9-bioc\R\bin\R.exe CMD INSTALL --merge-multiarch --build --library=bacon.buildbin-libdir bacon_1.11.1.tar.gz
###
##############################################################################
##############################################################################
install for i386
* installing *source* package 'bacon' ...
** libs
C:/Rtools/mingw_32/bin/gcc -I"C:/Users/BIOCBU˜1/BBS-3˜1.9-B/R/include" -DNDEBUG -I"C:/extsoft/include" -O3 -Wall -std=gnu99 -mtune=generic -c Rinit.c -o Rinit.o
Rinit.c:12:1: warning: missing braces around initializer [-Wmissing-braces]
};
^
Rinit.c:12:1: warning: (near initialization for 'cMethods[1]') [-Wmissing-braces]
C:/Rtools/mingw_32/bin/gcc -I"C:/Users/BIOCBU˜1/BBS-3˜1.9-B/R/include" -DNDEBUG -I"C:/extsoft/include" -O3 -Wall -std=gnu99 -mtune=generic -c bacon.c -o bacon.o
C:/Rtools/mingw_32/bin/gcc -shared -s -static-libgcc -o bacon.dll tmp.def Rinit.o bacon.o -LC:/extsoft/lib/i386 -LC:/extsoft/lib -LC:/Users/BIOCBU˜1/BBS-3˜1.9-B/R/bin/i386 -lR
installing to C:/Users/biocbuild/bbs-3.9-bioc/meat/bacon.buildbin-libdir/00LOCK-bacon/00new/bacon/libs/i386
** R
** inst
** byte-compile and prepare package for lazy loading
** help
*** installing help indices
converting help for package 'bacon'
finding HTML links ... done
Bacon-class html
bacon html
bias-methods html
dnormmix html
es-methods html
estimates-methods html
fit-methods html
inflation-methods html
meta-methods html
plot-Bacon-method html
plotnormmix html
posteriors-methods html
pval-methods html
rnormmix html
se-methods html
topTable-methods html
traces-methods html
tstat-methods html
** building package indices
** installing vignettes
** testing if installed package can be loaded from temporary location
** testing if installed package can be loaded from final location
** testing if installed package keeps a record of temporary installation path
install for x64
* installing *source* package 'bacon' ...
** libs
C:/Rtools/mingw_64/bin/gcc -I"C:/Users/BIOCBU˜1/BBS-3˜1.9-B/R/include" -DNDEBUG -I"C:/extsoft/include" -O2 -Wall -std=gnu99 -mtune=generic -c Rinit.c -o Rinit.o
Rinit.c:12:1: warning: missing braces around initializer [-Wmissing-braces]
};
^
Rinit.c:12:1: warning: (near initialization for 'cMethods[1]') [-Wmissing-braces]
C:/Rtools/mingw_64/bin/gcc -I"C:/Users/BIOCBU˜1/BBS-3˜1.9-B/R/include" -DNDEBUG -I"C:/extsoft/include" -O2 -Wall -std=gnu99 -mtune=generic -c bacon.c -o bacon.o
C:/Rtools/mingw_64/bin/gcc -shared -s -static-libgcc -o bacon.dll tmp.def Rinit.o bacon.o -LC:/extsoft/lib/x64 -LC:/extsoft/lib -LC:/Users/BIOCBU˜1/BBS-3˜1.9-B/R/bin/x64 -lR
installing to C:/Users/biocbuild/bbs-3.9-bioc/meat/bacon.buildbin-libdir/bacon/libs/x64
** testing if installed package can be loaded
* MD5 sums
packaged installation of 'bacon' as bacon_1.11.1.zip
* DONE (bacon)