| Back to Multiple platform build/check report for BioC 3.9 |
|
This page was generated on 2019-04-09 13:25:18 -0400 (Tue, 09 Apr 2019).
| Package 91/1703 | Hostname | OS / Arch | INSTALL | BUILD | CHECK | BUILD BIN | ||||||
| attract 1.35.1 Samuel Zimmerman
| malbec2 | Linux (Ubuntu 18.04.2 LTS) / x86_64 | OK | OK | OK | |||||||
| tokay2 | Windows Server 2012 R2 Standard / x64 | OK | OK | OK | OK | |||||||
| celaya2 | OS X 10.11.6 El Capitan / x86_64 | OK | OK | OK | OK | |||||||
| merida2 | OS X 10.11.6 El Capitan / x86_64 | OK | OK | [ OK ] | OK |
| Package: attract |
| Version: 1.35.1 |
| Command: /Library/Frameworks/R.framework/Versions/Current/Resources/bin/R CMD check --install=check:attract.install-out.txt --library=/Library/Frameworks/R.framework/Versions/Current/Resources/library --no-vignettes --timings attract_1.35.1.tar.gz |
| StartedAt: 2019-04-08 23:19:25 -0400 (Mon, 08 Apr 2019) |
| EndedAt: 2019-04-08 23:25:38 -0400 (Mon, 08 Apr 2019) |
| EllapsedTime: 373.7 seconds |
| RetCode: 0 |
| Status: OK |
| CheckDir: attract.Rcheck |
| Warnings: 0 |
##############################################################################
##############################################################################
###
### Running command:
###
### /Library/Frameworks/R.framework/Versions/Current/Resources/bin/R CMD check --install=check:attract.install-out.txt --library=/Library/Frameworks/R.framework/Versions/Current/Resources/library --no-vignettes --timings attract_1.35.1.tar.gz
###
##############################################################################
##############################################################################
* using log directory ‘/Users/biocbuild/bbs-3.9-bioc/meat/attract.Rcheck’
* using R Under development (unstable) (2018-11-27 r75683)
* using platform: x86_64-apple-darwin15.6.0 (64-bit)
* using session charset: UTF-8
* using option ‘--no-vignettes’
* checking for file ‘attract/DESCRIPTION’ ... OK
* checking extension type ... Package
* this is package ‘attract’ version ‘1.35.1’
* checking package namespace information ... OK
* checking package dependencies ... OK
* checking if this is a source package ... OK
* checking if there is a namespace ... OK
* checking for hidden files and directories ... OK
* checking for portable file names ... OK
* checking for sufficient/correct file permissions ... OK
* checking whether package ‘attract’ can be installed ... OK
* checking installed package size ... OK
* checking package directory ... OK
* checking ‘build’ directory ... OK
* checking DESCRIPTION meta-information ... OK
* checking top-level files ... OK
* checking for left-over files ... OK
* checking index information ... OK
* checking package subdirectories ... OK
* checking R files for non-ASCII characters ... OK
* checking R files for syntax errors ... OK
* checking whether the package can be loaded ... OK
* checking whether the package can be loaded with stated dependencies ... OK
* checking whether the package can be unloaded cleanly ... OK
* checking whether the namespace can be loaded with stated dependencies ... OK
* checking whether the namespace can be unloaded cleanly ... OK
* checking dependencies in R code ... OK
* checking S3 generic/method consistency ... OK
* checking replacement functions ... OK
* checking foreign function calls ... OK
* checking R code for possible problems ... NOTE
plotsynexprs: warning in axis(1, at = tickMarks, lab = tickLabels):
partial argument match of 'lab' to 'labels'
removeFlatGenes: warning in topTable(fit2, coef =
(1:(length(my.contrasts))), adjust = "fdr", n = nrow(dat.fr)):
partial argument match of 'n' to 'number'
removeFlatGenes: warning in topTable(fit2, coef =
(1:(length(my.contrasts))), adjust = "fdr", n = nrow(dat.fr)):
partial argument match of 'adjust' to 'adjust.method'
* checking Rd files ... OK
* checking Rd metadata ... OK
* checking Rd cross-references ... OK
* checking for missing documentation entries ... OK
* checking for code/documentation mismatches ... OK
* checking Rd \usage sections ... OK
* checking Rd contents ... OK
* checking for unstated dependencies in examples ... OK
* checking contents of ‘data’ directory ... OK
* checking data for non-ASCII characters ... OK
* checking data for ASCII and uncompressed saves ... OK
* checking sizes of PDF files under ‘inst/doc’ ... OK
* checking files in ‘vignettes’ ... OK
* checking examples ... OK
Examples with CPU or elapsed time > 5s
user system elapsed
calcFuncSynexprs 106.477 9.262 118.841
findAttractors 63.587 2.305 68.151
findCorrPartners 7.841 0.221 10.379
plotsynexprs 7.600 0.219 9.933
findSynexprs 7.126 0.066 9.497
* checking for unstated dependencies in vignettes ... OK
* checking package vignettes in ‘inst/doc’ ... OK
* checking running R code from vignettes ... SKIPPED
* checking re-building of vignette outputs ... SKIPPED
* checking PDF version of manual ... OK
* DONE
Status: 1 NOTE
See
‘/Users/biocbuild/bbs-3.9-bioc/meat/attract.Rcheck/00check.log’
for details.
attract.Rcheck/00install.out
############################################################################## ############################################################################## ### ### Running command: ### ### /Library/Frameworks/R.framework/Versions/Current/Resources/bin/R CMD INSTALL attract ### ############################################################################## ############################################################################## * installing to library ‘/Library/Frameworks/R.framework/Versions/3.6/Resources/library’ * installing *source* package ‘attract’ ... ** R ** data ** inst ** byte-compile and prepare package for lazy loading ** help *** installing help indices ** building package indices ** installing vignettes ** testing if installed package can be loaded * DONE (attract)
attract.Rcheck/attract-Ex.timings
| name | user | system | elapsed | |
| AttractorModuleSet-class | 0 | 0 | 0 | |
| SynExpressionSet-class | 0.001 | 0.000 | 0.001 | |
| attract-package | 0 | 0 | 0 | |
| buildCorMatrix | 0 | 0 | 0 | |
| buildKeggIncidenceMatrix | 0 | 0 | 0 | |
| calcFuncSynexprs | 106.477 | 9.262 | 118.841 | |
| calcInform | 0 | 0 | 0 | |
| calcModfstat | 0 | 0 | 0 | |
| calcRss | 0.001 | 0.001 | 0.000 | |
| exprs.dat | 0.152 | 0.012 | 0.166 | |
| filterDataSet | 0.278 | 0.030 | 0.311 | |
| findAttractors | 63.587 | 2.305 | 68.151 | |
| findCorrPartners | 7.841 | 0.221 | 10.379 | |
| findOnepwaySynexprs | 0 | 0 | 0 | |
| findSynexprs | 7.126 | 0.066 | 9.497 | |
| flagPwayExists | 0 | 0 | 0 | |
| getCustomGenes | 0 | 0 | 0 | |
| getPwayGenes | 0.000 | 0.001 | 0.000 | |
| loring.eset | 0.176 | 0.015 | 0.198 | |
| plotsynexprs | 7.600 | 0.219 | 9.933 | |
| removeFlatGenes | 0.181 | 0.026 | 0.208 | |
| samp.info | 0.002 | 0.001 | 0.002 | |
| subset.loring.eset | 0.086 | 0.010 | 0.097 | |