| Back to Multiple platform build/check report for BioC 3.9 |
|
This page was generated on 2019-04-09 11:49:02 -0400 (Tue, 09 Apr 2019).
| Package 48/1703 | Hostname | OS / Arch | INSTALL | BUILD | CHECK | BUILD BIN | ||||||
| amplican 1.5.6 Eivind Valen
| malbec2 | Linux (Ubuntu 18.04.2 LTS) / x86_64 | OK | OK | [ OK ] | |||||||
| tokay2 | Windows Server 2012 R2 Standard / x64 | OK | OK | OK | OK | |||||||
| celaya2 | OS X 10.11.6 El Capitan / x86_64 | OK | OK | OK | OK | |||||||
| merida2 | OS X 10.11.6 El Capitan / x86_64 | OK | OK | OK | OK |
| Package: amplican |
| Version: 1.5.6 |
| Command: /home/biocbuild/bbs-3.9-bioc/R/bin/R CMD check --install=check:amplican.install-out.txt --library=/home/biocbuild/bbs-3.9-bioc/R/library --no-vignettes --timings amplican_1.5.6.tar.gz |
| StartedAt: 2019-04-08 22:41:31 -0400 (Mon, 08 Apr 2019) |
| EndedAt: 2019-04-08 22:44:19 -0400 (Mon, 08 Apr 2019) |
| EllapsedTime: 167.5 seconds |
| RetCode: 0 |
| Status: OK |
| CheckDir: amplican.Rcheck |
| Warnings: 0 |
##############################################################################
##############################################################################
###
### Running command:
###
### /home/biocbuild/bbs-3.9-bioc/R/bin/R CMD check --install=check:amplican.install-out.txt --library=/home/biocbuild/bbs-3.9-bioc/R/library --no-vignettes --timings amplican_1.5.6.tar.gz
###
##############################################################################
##############################################################################
* using log directory ‘/home/biocbuild/bbs-3.9-bioc/meat/amplican.Rcheck’
* using R Under development (unstable) (2019-03-18 r76245)
* using platform: x86_64-pc-linux-gnu (64-bit)
* using session charset: UTF-8
* using option ‘--no-vignettes’
* checking for file ‘amplican/DESCRIPTION’ ... OK
* checking extension type ... Package
* this is package ‘amplican’ version ‘1.5.6’
* package encoding: UTF-8
* checking package namespace information ... OK
* checking package dependencies ... OK
* checking if this is a source package ... OK
* checking if there is a namespace ... OK
* checking for hidden files and directories ... OK
* checking for portable file names ... OK
* checking for sufficient/correct file permissions ... OK
* checking whether package ‘amplican’ can be installed ... OK
* checking installed package size ... OK
* checking package directory ... OK
* checking ‘build’ directory ... OK
* checking DESCRIPTION meta-information ... OK
* checking top-level files ... OK
* checking for left-over files ... OK
* checking index information ... OK
* checking package subdirectories ... OK
* checking R files for non-ASCII characters ... OK
* checking R files for syntax errors ... OK
* checking whether the package can be loaded ... OK
* checking whether the package can be loaded with stated dependencies ... OK
* checking whether the package can be unloaded cleanly ... OK
* checking whether the namespace can be loaded with stated dependencies ... OK
* checking whether the namespace can be unloaded cleanly ... OK
* checking dependencies in R code ... OK
* checking S3 generic/method consistency ... OK
* checking replacement functions ... OK
* checking foreign function calls ... OK
* checking R code for possible problems ... OK
* checking Rd files ... OK
* checking Rd metadata ... OK
* checking Rd cross-references ... OK
* checking for missing documentation entries ... OK
* checking for code/documentation mismatches ... OK
* checking Rd \usage sections ... OK
* checking Rd contents ... OK
* checking for unstated dependencies in examples ... OK
* checking line endings in C/C++/Fortran sources/headers ... OK
* checking compiled code ... NOTE
Note: information on .o files is not available
* checking files in ‘vignettes’ ... OK
* checking examples ... OK
Examples with CPU or elapsed time > 5s
user system elapsed
amplicanPipeline 18.332 0.107 6.066
amplicanAlign 5.807 0.261 6.187
amplicanConsensus 5.345 0.025 0.890
* checking for unstated dependencies in ‘tests’ ... OK
* checking tests ...
Running ‘testthat.R’
OK
* checking for unstated dependencies in vignettes ... OK
* checking package vignettes in ‘inst/doc’ ... OK
* checking running R code from vignettes ... SKIPPED
* checking re-building of vignette outputs ... SKIPPED
* checking PDF version of manual ... OK
* DONE
Status: 1 NOTE
See
‘/home/biocbuild/bbs-3.9-bioc/meat/amplican.Rcheck/00check.log’
for details.
amplican.Rcheck/00install.out
############################################################################## ############################################################################## ### ### Running command: ### ### /home/biocbuild/bbs-3.9-bioc/R/bin/R CMD INSTALL amplican ### ############################################################################## ############################################################################## * installing to library ‘/home/biocbuild/bbs-3.9-bioc/R/library’ * installing *source* package ‘amplican’ ... ** using staged installation ** libs g++ -std=gnu++11 -I"/home/biocbuild/bbs-3.9-bioc/R/include" -DNDEBUG -I"/home/biocbuild/bbs-3.9-bioc/R/library/Rcpp/include" -I/usr/local/include -fpic -g -O2 -Wall -c RcppExports.cpp -o RcppExports.o g++ -std=gnu++11 -I"/home/biocbuild/bbs-3.9-bioc/R/include" -DNDEBUG -I"/home/biocbuild/bbs-3.9-bioc/R/library/Rcpp/include" -I/usr/local/include -fpic -g -O2 -Wall -c bezier.cpp -o bezier.o g++ -std=gnu++11 -shared -L/home/biocbuild/bbs-3.9-bioc/R/lib -L/usr/local/lib -o amplican.so RcppExports.o bezier.o -L/home/biocbuild/bbs-3.9-bioc/R/lib -lR installing to /home/biocbuild/bbs-3.9-bioc/R/library/00LOCK-amplican/00new/amplican/libs ** R ** inst ** byte-compile and prepare package for lazy loading ** help *** installing help indices ** building package indices ** installing vignettes ** testing if installed package can be loaded from temporary location ** checking absolute paths in shared objects and dynamic libraries ** testing if installed package can be loaded from final location ** testing if installed package keeps a record of temporary installation path * DONE (amplican)
amplican.Rcheck/tests/testthat.Rout
R Under development (unstable) (2019-03-18 r76245) -- "Unsuffered Consequences"
Copyright (C) 2019 The R Foundation for Statistical Computing
Platform: x86_64-pc-linux-gnu (64-bit)
R is free software and comes with ABSOLUTELY NO WARRANTY.
You are welcome to redistribute it under certain conditions.
Type 'license()' or 'licence()' for distribution details.
R is a collaborative project with many contributors.
Type 'contributors()' for more information and
'citation()' on how to cite R or R packages in publications.
Type 'demo()' for some demos, 'help()' for on-line help, or
'help.start()' for an HTML browser interface to help.
Type 'q()' to quit R.
> library(testthat)
> library(amplican)
Loading required package: BiocGenerics
Loading required package: parallel
Attaching package: 'BiocGenerics'
The following objects are masked from 'package:parallel':
clusterApply, clusterApplyLB, clusterCall, clusterEvalQ,
clusterExport, clusterMap, parApply, parCapply, parLapply,
parLapplyLB, parRapply, parSapply, parSapplyLB
The following objects are masked from 'package:stats':
IQR, mad, sd, var, xtabs
The following objects are masked from 'package:base':
Filter, Find, Map, Position, Reduce, anyDuplicated, append,
as.data.frame, basename, cbind, colMeans, colSums, colnames,
dirname, do.call, duplicated, eval, evalq, get, grep, grepl,
intersect, is.unsorted, lapply, mapply, match, mget, order, paste,
pmax, pmax.int, pmin, pmin.int, rank, rbind, rowMeans, rowSums,
rownames, sapply, setdiff, sort, table, tapply, union, unique,
unsplit, which, which.max, which.min
Loading required package: Biostrings
Loading required package: S4Vectors
Loading required package: stats4
Attaching package: 'S4Vectors'
The following object is masked from 'package:base':
expand.grid
Loading required package: IRanges
Loading required package: XVector
Attaching package: 'Biostrings'
The following object is masked from 'package:base':
strsplit
Loading required package: data.table
Attaching package: 'data.table'
The following object is masked from 'package:IRanges':
shift
The following objects are masked from 'package:S4Vectors':
first, second
>
> test_check("amplican")
══ testthat results ═══════════════════════════════════════════════════════════
OK: 59 SKIPPED: 0 FAILED: 0
>
> proc.time()
user system elapsed
52.068 0.791 31.534
amplican.Rcheck/amplican-Ex.timings
| name | user | system | elapsed | |
| AlignmentsExperimentSet-class | 1.929 | 0.016 | 1.946 | |
| amplicanAlign | 5.807 | 0.261 | 6.187 | |
| amplicanConsensus | 5.345 | 0.025 | 0.890 | |
| amplicanFilter | 4.125 | 0.028 | 0.703 | |
| amplicanMap | 0.191 | 0.003 | 0.195 | |
| amplicanNormalize | 4.022 | 0.004 | 0.653 | |
| amplicanOverlap | 0.184 | 0.001 | 0.043 | |
| amplicanPipeline | 18.332 | 0.107 | 6.066 | |
| amplicanReport | 0.010 | 0.012 | 0.022 | |
| amplicanSummarize | 4.829 | 0.021 | 0.899 | |
| amplican_print_reads | 0.287 | 0.008 | 0.292 | |
| assignedCount | 0.029 | 0.008 | 0.178 | |
| barcodeData-set | 0.009 | 0.000 | 0.010 | |
| barcodeData | 0.011 | 0.000 | 0.011 | |
| comb_along | 0.030 | 0.004 | 0.033 | |
| experimentData-set | 0.009 | 0.000 | 0.009 | |
| experimentData | 0.015 | 0.000 | 0.016 | |
| extractEvents | 3.274 | 0.056 | 3.338 | |
| findEOP | 0.005 | 0.000 | 0.006 | |
| findLQR | 0.474 | 0.004 | 0.114 | |
| findPD | 0.007 | 0.000 | 0.005 | |
| fwdReads-set | 0.009 | 0.000 | 0.008 | |
| fwdReads | 0.405 | 0.000 | 0.406 | |
| fwdReadsType-set | 0.005 | 0.000 | 0.006 | |
| fwdReadsType | 0.005 | 0.000 | 0.005 | |
| geom_bezier | 0.383 | 0.004 | 0.386 | |
| lookupAlignment | 0.335 | 0.004 | 0.338 | |
| metaplot_deletions | 1.083 | 0.000 | 0.484 | |
| metaplot_insertions | 1.062 | 0.000 | 0.546 | |
| metaplot_mismatches | 0.983 | 0.004 | 0.467 | |
| plot_cuts | 0.714 | 0.008 | 0.497 | |
| plot_deletions | 0.867 | 0.004 | 0.209 | |
| plot_height | 0 | 0 | 0 | |
| plot_heterogeneity | 3.513 | 0.013 | 1.012 | |
| plot_insertions | 1.256 | 0.004 | 0.759 | |
| plot_mismatches | 1.174 | 0.004 | 0.777 | |
| plot_variants | 4.584 | 0.015 | 1.582 | |
| readCounts-set | 0.005 | 0.000 | 0.006 | |
| readCounts | 0.005 | 0.000 | 0.004 | |
| rveReads-set | 0.006 | 0.000 | 0.006 | |
| rveReads | 0.483 | 0.000 | 0.484 | |
| rveReadsType-set | 0.009 | 0.000 | 0.010 | |
| rveReadsType | 0.009 | 0.000 | 0.009 | |
| unassignedCount | 0.009 | 0.000 | 0.009 | |
| unassignedData-set | 0.01 | 0.00 | 0.01 | |
| unassignedData | 0.012 | 0.000 | 0.012 | |
| writeAlignments | 0.041 | 0.000 | 0.041 | |