| Back to Multiple platform build/check report for BioC 3.9 |
|
This page was generated on 2019-04-09 13:04:24 -0400 (Tue, 09 Apr 2019).
| Package 1675/1703 | Hostname | OS / Arch | INSTALL | BUILD | CHECK | BUILD BIN | ||||||
| VegaMC 3.21.0 Sandro Morganella
| malbec2 | Linux (Ubuntu 18.04.2 LTS) / x86_64 | OK | OK | OK | |||||||
| tokay2 | Windows Server 2012 R2 Standard / x64 | OK | OK | OK | OK | |||||||
| celaya2 | OS X 10.11.6 El Capitan / x86_64 | OK | OK | WARNINGS | [ OK ] | |||||||
| merida2 | OS X 10.11.6 El Capitan / x86_64 | OK | OK | WARNINGS | OK |
| Package: VegaMC |
| Version: 3.21.0 |
| Command: rm -rf VegaMC.buildbin-libdir && mkdir VegaMC.buildbin-libdir && /Users/biocbuild/BBS/utils/build-universal.sh VegaMC_3.21.0.tar.gz /Library/Frameworks/R.framework/Versions/Current/Resources/bin/R VegaMC.buildbin-libdir |
| StartedAt: 2019-04-09 07:55:53 -0400 (Tue, 09 Apr 2019) |
| EndedAt: 2019-04-09 07:56:30 -0400 (Tue, 09 Apr 2019) |
| EllapsedTime: 36.9 seconds |
| RetCode: 0 |
| Status: OK |
| PackageFile: VegaMC_3.21.0.tgz |
| PackageFileSize: 1.809 MiB |
##############################################################################
##############################################################################
###
### Running command:
###
### rm -rf VegaMC.buildbin-libdir && mkdir VegaMC.buildbin-libdir && /Users/biocbuild/BBS/utils/build-universal.sh VegaMC_3.21.0.tar.gz /Library/Frameworks/R.framework/Versions/Current/Resources/bin/R VegaMC.buildbin-libdir
###
##############################################################################
##############################################################################
>>>>>>>
>>>>>>> INSTALLATION WITH 'R CMD INSTALL --preclean --no-multiarch --library=VegaMC.buildbin-libdir VegaMC_3.21.0.tar.gz'
>>>>>>>
* installing *source* package ‘VegaMC’ ...
** using staged installation
** libs
clang -I"/Library/Frameworks/R.framework/Resources/include" -DNDEBUG -I/usr/local/include -fPIC -Wall -g -O2 -c run_vegaMC.c -o run_vegaMC.o
run_vegaMC.c:491:27: warning: expression which evaluates to zero treated as a null pointer constant of type 'char *' [-Wnon-literal-null-conversion]
elem = strtok('\0', sep);
^˜˜˜
run_vegaMC.c:526:27: warning: expression which evaluates to zero treated as a null pointer constant of type 'char *' [-Wnon-literal-null-conversion]
elem = strtok('\0', sep);
^˜˜˜
run_vegaMC.c:618:18: warning: unused variable 'brkt' [-Wunused-variable]
char *elem, *brkt;
^
3 warnings generated.
clang -I"/Library/Frameworks/R.framework/Resources/include" -DNDEBUG -I/usr/local/include -fPIC -Wall -g -O2 -c sort_data.c -o sort_data.o
sort_data.c:131:27: warning: expression which evaluates to zero treated as a null pointer constant of type 'char *' [-Wnon-literal-null-conversion]
elem = strtok('\0', sep);
^˜˜˜
sort_data.c:180:27: warning: expression which evaluates to zero treated as a null pointer constant of type 'char *' [-Wnon-literal-null-conversion]
elem = strtok('\0', sep);
^˜˜˜
2 warnings generated.
clang -I"/Library/Frameworks/R.framework/Resources/include" -DNDEBUG -I/usr/local/include -fPIC -Wall -g -O2 -c vegaMC.c -o vegaMC.o
vegaMC.c:458:23: warning: using integer absolute value function 'abs' when argument is of floating point type [-Wabsolute-value]
lambda_gradient = abs(lambda);
^
vegaMC.c:458:23: note: use function 'fabsf' instead
lambda_gradient = abs(lambda);
^˜˜
fabsf
1 warning generated.
clang -dynamiclib -Wl,-headerpad_max_install_names -undefined dynamic_lookup -single_module -multiply_defined suppress -L/Library/Frameworks/R.framework/Resources/lib -L/usr/local/lib -o VegaMC.so run_vegaMC.o sort_data.o vegaMC.o -F/Library/Frameworks/R.framework/.. -framework R -Wl,-framework -Wl,CoreFoundation
installing to /Users/biocbuild/bbs-3.9-bioc/meat/VegaMC.buildbin-libdir/00LOCK-VegaMC/00new/VegaMC/libs
** R
** inst
** byte-compile and prepare package for lazy loading
** help
*** installing help indices
** building package indices
** installing vignettes
** testing if installed package can be loaded from temporary location
** checking absolute paths in shared objects and dynamic libraries
** testing if installed package can be loaded from final location
** testing if installed package keeps a record of temporary installation path
* DONE (VegaMC)
>>>>>>>
>>>>>>> FIXING LINKS FOR VegaMC.buildbin-libdir/VegaMC/libs//VegaMC.so
>>>>>>>
install_name_tool -change "/usr/local/lib/libgcc_s.1.dylib" "/Library/Frameworks/R.framework/Versions/3.6/Resources/lib/libgcc_s.1.dylib" "VegaMC.buildbin-libdir/VegaMC/libs//VegaMC.so"
install_name_tool -change "/usr/local/lib/libgfortran.3.dylib" "/Library/Frameworks/R.framework/Versions/3.6/Resources/lib/libgfortran.3.dylib" "VegaMC.buildbin-libdir/VegaMC/libs//VegaMC.so"
install_name_tool -change "/usr/local/lib/libreadline.5.2.dylib" "/Library/Frameworks/R.framework/Versions/3.6/Resources/lib/libreadline.5.2.dylib" "VegaMC.buildbin-libdir/VegaMC/libs//VegaMC.so"
install_name_tool -change "/usr/local/lib/libreadline.dylib" "/Library/Frameworks/R.framework/Versions/3.6/Resources/lib/libreadline.dylib" "VegaMC.buildbin-libdir/VegaMC/libs//VegaMC.so"
install_name_tool -change "/usr/local/lib/libquadmath.0.dylib" "/Library/Frameworks/R.framework/Versions/3.6/Resources/lib/libquadmath.0.dylib" "VegaMC.buildbin-libdir/VegaMC/libs//VegaMC.so"