| Back to Multiple platform build/check report for BioC 3.9 |
|
This page was generated on 2019-04-09 13:32:07 -0400 (Tue, 09 Apr 2019).
| Package 1594/1703 | Hostname | OS / Arch | INSTALL | BUILD | CHECK | BUILD BIN | ||||||
| TarSeqQC 1.13.1 Gabriela Merino
| malbec2 | Linux (Ubuntu 18.04.2 LTS) / x86_64 | OK | OK | OK | |||||||
| tokay2 | Windows Server 2012 R2 Standard / x64 | OK | OK | OK | OK | |||||||
| celaya2 | OS X 10.11.6 El Capitan / x86_64 | OK | OK | OK | OK | |||||||
| merida2 | OS X 10.11.6 El Capitan / x86_64 | OK | OK | [ OK ] | OK |
| Package: TarSeqQC |
| Version: 1.13.1 |
| Command: /Library/Frameworks/R.framework/Versions/Current/Resources/bin/R CMD check --install=check:TarSeqQC.install-out.txt --library=/Library/Frameworks/R.framework/Versions/Current/Resources/library --no-vignettes --timings TarSeqQC_1.13.1.tar.gz |
| StartedAt: 2019-04-09 04:03:57 -0400 (Tue, 09 Apr 2019) |
| EndedAt: 2019-04-09 04:08:32 -0400 (Tue, 09 Apr 2019) |
| EllapsedTime: 275.0 seconds |
| RetCode: 0 |
| Status: OK |
| CheckDir: TarSeqQC.Rcheck |
| Warnings: 0 |
##############################################################################
##############################################################################
###
### Running command:
###
### /Library/Frameworks/R.framework/Versions/Current/Resources/bin/R CMD check --install=check:TarSeqQC.install-out.txt --library=/Library/Frameworks/R.framework/Versions/Current/Resources/library --no-vignettes --timings TarSeqQC_1.13.1.tar.gz
###
##############################################################################
##############################################################################
* using log directory ‘/Users/biocbuild/bbs-3.9-bioc/meat/TarSeqQC.Rcheck’
* using R Under development (unstable) (2018-11-27 r75683)
* using platform: x86_64-apple-darwin15.6.0 (64-bit)
* using session charset: UTF-8
* using option ‘--no-vignettes’
* checking for file ‘TarSeqQC/DESCRIPTION’ ... OK
* checking extension type ... Package
* this is package ‘TarSeqQC’ version ‘1.13.1’
* checking package namespace information ... OK
* checking package dependencies ... OK
* checking if this is a source package ... OK
* checking if there is a namespace ... OK
* checking for hidden files and directories ... OK
* checking for portable file names ... OK
* checking for sufficient/correct file permissions ... OK
* checking whether package ‘TarSeqQC’ can be installed ... OK
* checking installed package size ... OK
* checking package directory ... OK
* checking ‘build’ directory ... OK
* checking DESCRIPTION meta-information ... OK
* checking top-level files ... OK
* checking for left-over files ... OK
* checking index information ... OK
* checking package subdirectories ... OK
* checking R files for non-ASCII characters ... OK
* checking R files for syntax errors ... OK
* checking whether the package can be loaded ... OK
* checking whether the package can be loaded with stated dependencies ... OK
* checking whether the package can be unloaded cleanly ... OK
* checking whether the namespace can be loaded with stated dependencies ... OK
* checking whether the namespace can be unloaded cleanly ... OK
* checking dependencies in R code ... OK
* checking S3 generic/method consistency ... OK
* checking replacement functions ... OK
* checking foreign function calls ... OK
* checking R code for possible problems ... NOTE
plotNtdPercentage,TargetExperiment: no visible global function
definition for ‘path’
plotRegion,TargetExperiment: no visible global function definition for
‘path’
readFrequencies,TargetExperiment: no visible global function definition
for ‘path’
Undefined global functions or variables:
path
* checking Rd files ... OK
* checking Rd metadata ... OK
* checking Rd cross-references ... OK
* checking for missing documentation entries ... OK
* checking for code/documentation mismatches ... OK
* checking Rd \usage sections ... OK
* checking Rd contents ... OK
* checking for unstated dependencies in examples ... OK
* checking contents of ‘data’ directory ... OK
* checking data for non-ASCII characters ... OK
* checking data for ASCII and uncompressed saves ... OK
* checking sizes of PDF files under ‘inst/doc’ ... OK
* checking files in ‘vignettes’ ... OK
* checking examples ... OK
Examples with CPU or elapsed time > 5s
user system elapsed
TargetExperiment-class 21.174 8.650 16.176
TargetExperiment-plotRegion 8.252 3.623 3.939
* checking for unstated dependencies in ‘tests’ ... OK
* checking tests ...
Running ‘runTests.R’
OK
* checking for unstated dependencies in vignettes ... OK
* checking package vignettes in ‘inst/doc’ ... OK
* checking running R code from vignettes ... SKIPPED
* checking re-building of vignette outputs ... SKIPPED
* checking PDF version of manual ... OK
* DONE
Status: 1 NOTE
See
‘/Users/biocbuild/bbs-3.9-bioc/meat/TarSeqQC.Rcheck/00check.log’
for details.
TarSeqQC.Rcheck/00install.out
############################################################################## ############################################################################## ### ### Running command: ### ### /Library/Frameworks/R.framework/Versions/Current/Resources/bin/R CMD INSTALL TarSeqQC ### ############################################################################## ############################################################################## * installing to library ‘/Library/Frameworks/R.framework/Versions/3.6/Resources/library’ * installing *source* package ‘TarSeqQC’ ... ** R ** data ** inst ** byte-compile and prepare package for lazy loading ** help *** installing help indices ** building package indices ** installing vignettes ** testing if installed package can be loaded * DONE (TarSeqQC)
TarSeqQC.Rcheck/tests/runTests.Rout
R Under development (unstable) (2018-11-27 r75683) -- "Unsuffered Consequences"
Copyright (C) 2018 The R Foundation for Statistical Computing
Platform: x86_64-apple-darwin15.6.0 (64-bit)
R is free software and comes with ABSOLUTELY NO WARRANTY.
You are welcome to redistribute it under certain conditions.
Type 'license()' or 'licence()' for distribution details.
R is a collaborative project with many contributors.
Type 'contributors()' for more information and
'citation()' on how to cite R or R packages in publications.
Type 'demo()' for some demos, 'help()' for on-line help, or
'help.start()' for an HTML browser interface to help.
Type 'q()' to quit R.
> BiocGenerics:::testPackage("TarSeqQC")
Attaching package: 'BiocGenerics'
The following objects are masked from 'package:parallel':
clusterApply, clusterApplyLB, clusterCall, clusterEvalQ,
clusterExport, clusterMap, parApply, parCapply, parLapply,
parLapplyLB, parRapply, parSapply, parSapplyLB
The following objects are masked from 'package:stats':
IQR, mad, sd, var, xtabs
The following objects are masked from 'package:base':
Filter, Find, Map, Position, Reduce, anyDuplicated, append,
as.data.frame, basename, cbind, colMeans, colSums, colnames,
dirname, do.call, duplicated, eval, evalq, get, grep, grepl,
intersect, is.unsorted, lapply, mapply, match, mget, order, paste,
pmax, pmax.int, pmin, pmin.int, rank, rbind, rowMeans, rowSums,
rownames, sapply, setdiff, sort, table, tapply, union, unique,
unsplit, which, which.max, which.min
Attaching package: 'S4Vectors'
The following object is masked from 'package:base':
expand.grid
Attaching package: 'Biostrings'
The following object is masked from 'package:base':
strsplit
Attaching package: 'plyr'
The following object is masked from 'package:XVector':
compact
The following object is masked from 'package:IRanges':
desc
The following object is masked from 'package:S4Vectors':
rename
RUNIT TEST PROTOCOL -- Tue Apr 9 04:08:25 2019
***********************************************
Number of test functions: 33
Number of errors: 0
Number of failures: 0
1 Test Suite :
TarSeqQC RUnit Tests - 33 test functions, 0 errors, 0 failures
Number of test functions: 33
Number of errors: 0
Number of failures: 0
>
> proc.time()
user system elapsed
19.849 4.601 19.092
TarSeqQC.Rcheck/TarSeqQC-Ex.timings
| name | user | system | elapsed | |
| TargetExperiment-biasExploration | 0.078 | 0.003 | 0.081 | |
| TargetExperiment-buildFeaturePanel | 1.423 | 0.047 | 1.487 | |
| TargetExperiment-buildReport | 2.26 | 0.14 | 2.43 | |
| TargetExperiment-class | 21.174 | 8.650 | 16.176 | |
| TargetExperiment-constructor | 2.428 | 0.828 | 2.046 | |
| TargetExperiment-getters | 0.276 | 0.052 | 0.331 | |
| TargetExperiment-initialize | 0.003 | 0.001 | 0.003 | |
| TargetExperiment-plot | 0.496 | 0.051 | 0.548 | |
| TargetExperiment-plotAttrExpl | 0.198 | 0.023 | 0.224 | |
| TargetExperiment-plotAttrPerform | 0.046 | 0.005 | 0.052 | |
| TargetExperiment-plotFeatPerform | 0.852 | 0.075 | 0.932 | |
| TargetExperiment-plotFeature | 1.251 | 1.045 | 1.101 | |
| TargetExperiment-plotGeneAttrPerFeat | 0.720 | 0.083 | 0.813 | |
| TargetExperiment-plotMetaDataExpl | 0.051 | 0.005 | 0.057 | |
| TargetExperiment-plotNtdPercentage | 0.950 | 0.760 | 0.765 | |
| TargetExperiment-plotRegion | 8.252 | 3.623 | 3.939 | |
| TargetExperiment-print | 0.056 | 0.011 | 0.067 | |
| TargetExperiment-readFrequencies | 0.622 | 0.371 | 0.650 | |
| TargetExperiment-setters | 0.007 | 0.003 | 0.010 | |
| TargetExperiment-show | 0.044 | 0.007 | 0.053 | |
| TargetExperiment-statistics | 0.098 | 0.014 | 0.112 | |
| TargetExperiment-summarizePanel | 1.052 | 0.681 | 0.558 | |
| TargetExperimentList-class | 0.727 | 0.103 | 0.838 | |
| TargetExperimentList-constructor | 0.101 | 0.010 | 0.114 | |
| TargetExperimentList-initialize | 0.088 | 0.010 | 0.099 | |
| TargetExperimentList-plotGlobalAttrExpl | 0.032 | 0.004 | 0.037 | |
| TargetExperimentList-plotPoolPerformance | 0.021 | 0.003 | 0.024 | |
| checkBedFasta | 0.045 | 0.005 | 0.049 | |
| pileupCounts | 0.992 | 0.721 | 0.730 | |
| plotInOutFeatures | 0.882 | 0.802 | 0.903 | |