| Back to Multiple platform build/check report for BioC 3.9 |
|
This page was generated on 2019-04-09 13:35:40 -0400 (Tue, 09 Apr 2019).
| Package 1607/1703 | Hostname | OS / Arch | INSTALL | BUILD | CHECK | BUILD BIN | ||||||
| TFHAZ 1.5.0 Alberto Marchesi
| malbec2 | Linux (Ubuntu 18.04.2 LTS) / x86_64 | OK | OK | OK | |||||||
| tokay2 | Windows Server 2012 R2 Standard / x64 | OK | OK | OK | OK | |||||||
| celaya2 | OS X 10.11.6 El Capitan / x86_64 | OK | OK | OK | OK | |||||||
| merida2 | OS X 10.11.6 El Capitan / x86_64 | OK | OK | [ OK ] | OK |
| Package: TFHAZ |
| Version: 1.5.0 |
| Command: /Library/Frameworks/R.framework/Versions/Current/Resources/bin/R CMD check --install=check:TFHAZ.install-out.txt --library=/Library/Frameworks/R.framework/Versions/Current/Resources/library --no-vignettes --timings TFHAZ_1.5.0.tar.gz |
| StartedAt: 2019-04-09 04:05:23 -0400 (Tue, 09 Apr 2019) |
| EndedAt: 2019-04-09 04:07:04 -0400 (Tue, 09 Apr 2019) |
| EllapsedTime: 101.4 seconds |
| RetCode: 0 |
| Status: OK |
| CheckDir: TFHAZ.Rcheck |
| Warnings: 0 |
##############################################################################
##############################################################################
###
### Running command:
###
### /Library/Frameworks/R.framework/Versions/Current/Resources/bin/R CMD check --install=check:TFHAZ.install-out.txt --library=/Library/Frameworks/R.framework/Versions/Current/Resources/library --no-vignettes --timings TFHAZ_1.5.0.tar.gz
###
##############################################################################
##############################################################################
* using log directory ‘/Users/biocbuild/bbs-3.9-bioc/meat/TFHAZ.Rcheck’
* using R Under development (unstable) (2018-11-27 r75683)
* using platform: x86_64-apple-darwin15.6.0 (64-bit)
* using session charset: UTF-8
* using option ‘--no-vignettes’
* checking for file ‘TFHAZ/DESCRIPTION’ ... OK
* checking extension type ... Package
* this is package ‘TFHAZ’ version ‘1.5.0’
* package encoding: UTF-8
* checking package namespace information ... OK
* checking package dependencies ... OK
* checking if this is a source package ... OK
* checking if there is a namespace ... OK
* checking for hidden files and directories ... OK
* checking for portable file names ... OK
* checking for sufficient/correct file permissions ... OK
* checking whether package ‘TFHAZ’ can be installed ... OK
* checking installed package size ... OK
* checking package directory ... OK
* checking ‘build’ directory ... OK
* checking DESCRIPTION meta-information ... OK
* checking top-level files ... OK
* checking for left-over files ... OK
* checking index information ... OK
* checking package subdirectories ... OK
* checking R files for non-ASCII characters ... OK
* checking R files for syntax errors ... OK
* checking whether the package can be loaded ... OK
* checking whether the package can be loaded with stated dependencies ... OK
* checking whether the package can be unloaded cleanly ... OK
* checking whether the namespace can be loaded with stated dependencies ... OK
* checking whether the namespace can be unloaded cleanly ... OK
* checking dependencies in R code ... OK
* checking S3 generic/method consistency ... OK
* checking replacement functions ... OK
* checking foreign function calls ... OK
* checking R code for possible problems ... OK
* checking Rd files ... OK
* checking Rd metadata ... OK
* checking Rd cross-references ... OK
* checking for missing documentation entries ... OK
* checking for code/documentation mismatches ... OK
* checking Rd \usage sections ... OK
* checking Rd contents ... OK
* checking for unstated dependencies in examples ... OK
* checking contents of ‘data’ directory ... OK
* checking data for non-ASCII characters ... OK
* checking data for ASCII and uncompressed saves ... OK
* checking files in ‘vignettes’ ... OK
* checking examples ... OK
Examples with CPU or elapsed time > 5s
user system elapsed
dense_zones 6.519 0.150 6.748
accumulation 6.170 0.018 6.249
* checking for unstated dependencies in vignettes ... OK
* checking package vignettes in ‘inst/doc’ ... OK
* checking running R code from vignettes ... SKIPPED
* checking re-building of vignette outputs ... SKIPPED
* checking PDF version of manual ... OK
* DONE
Status: OK
TFHAZ.Rcheck/00install.out
############################################################################## ############################################################################## ### ### Running command: ### ### /Library/Frameworks/R.framework/Versions/Current/Resources/bin/R CMD INSTALL TFHAZ ### ############################################################################## ############################################################################## * installing to library ‘/Library/Frameworks/R.framework/Versions/3.6/Resources/library’ * installing *source* package ‘TFHAZ’ ... ** R ** data *** moving datasets to lazyload DB ** byte-compile and prepare package for lazy loading ** help *** installing help indices ** building package indices ** installing vignettes ** testing if installed package can be loaded * DONE (TFHAZ)
TFHAZ.Rcheck/TFHAZ-Ex.timings
| name | user | system | elapsed | |
| Ishikawa | 0.084 | 0.013 | 0.097 | |
| TF_acc_w_0 | 0.091 | 0.011 | 0.102 | |
| TF_dense_w_0 | 0.102 | 0.008 | 0.112 | |
| TF_dense_w_10 | 0.099 | 0.015 | 0.117 | |
| TF_dense_w_100 | 0.106 | 0.018 | 0.127 | |
| TF_dense_w_1000 | 0.094 | 0.016 | 0.110 | |
| TF_dense_w_10000 | 0.134 | 0.023 | 0.159 | |
| accumulation | 6.170 | 0.018 | 6.249 | |
| base_dense_w_10 | 0.093 | 0.005 | 0.098 | |
| dense_zones | 6.519 | 0.150 | 6.748 | |
| high_accumulation_zones | 0.179 | 0.047 | 0.227 | |
| n_zones_PCA | 0.028 | 0.002 | 0.031 | |
| plot_accumulation | 0 | 0 | 0 | |
| plot_n_zones | 0.010 | 0.001 | 0.012 | |
| reg_dense_w_10 | 0.096 | 0.005 | 0.103 | |
| w_analysis | 0.018 | 0.001 | 0.018 | |