| Back to Multiple platform build/check report for BioC 3.9 |
|
This page was generated on 2019-04-09 12:01:23 -0400 (Tue, 09 Apr 2019).
| Package 1516/1703 | Hostname | OS / Arch | INSTALL | BUILD | CHECK | BUILD BIN | ||||||
| SNAGEE 1.23.0 David Venet
| malbec2 | Linux (Ubuntu 18.04.2 LTS) / x86_64 | OK | OK | OK | |||||||
| tokay2 | Windows Server 2012 R2 Standard / x64 | OK | OK | OK | [ OK ] | |||||||
| celaya2 | OS X 10.11.6 El Capitan / x86_64 | OK | OK | OK | OK | |||||||
| merida2 | OS X 10.11.6 El Capitan / x86_64 | OK | OK | OK | OK |
| Package: SNAGEE |
| Version: 1.23.0 |
| Command: rm -rf SNAGEE.buildbin-libdir && mkdir SNAGEE.buildbin-libdir && C:\Users\biocbuild\bbs-3.9-bioc\R\bin\R.exe CMD INSTALL --merge-multiarch --build --library=SNAGEE.buildbin-libdir SNAGEE_1.23.0.tar.gz |
| StartedAt: 2019-04-09 09:00:09 -0400 (Tue, 09 Apr 2019) |
| EndedAt: 2019-04-09 09:00:43 -0400 (Tue, 09 Apr 2019) |
| EllapsedTime: 34.2 seconds |
| RetCode: 0 |
| Status: OK |
| PackageFile: SNAGEE_1.23.0.zip |
| PackageFileSize: 150.7 KiB |
##############################################################################
##############################################################################
###
### Running command:
###
### rm -rf SNAGEE.buildbin-libdir && mkdir SNAGEE.buildbin-libdir && C:\Users\biocbuild\bbs-3.9-bioc\R\bin\R.exe CMD INSTALL --merge-multiarch --build --library=SNAGEE.buildbin-libdir SNAGEE_1.23.0.tar.gz
###
##############################################################################
##############################################################################
install for i386
* installing *source* package 'SNAGEE' ...
** R
** inst
** byte-compile and prepare package for lazy loading
** help
*** installing help indices
converting help for package 'SNAGEE'
finding HTML links ... done
SNAGEE-package html
qualSample html
qualStudy html
toSnageeFormat html
** building package indices
** installing vignettes
** testing if installed package can be loaded from temporary location
** testing if installed package can be loaded from final location
** testing if installed package keeps a record of temporary installation path
install for x64
* installing *source* package 'SNAGEE' ...
** testing if installed package can be loaded
* MD5 sums
packaged installation of 'SNAGEE' as SNAGEE_1.23.0.zip
* DONE (SNAGEE)