| Back to Multiple platform build/check report for BioC 3.9 | 
  | 
This page was generated on 2019-04-09 11:59:21 -0400 (Tue, 09 Apr 2019).
| Package 1322/1703 | Hostname | OS / Arch | INSTALL | BUILD | CHECK | BUILD BIN | ||||||
| REDseq 1.29.0 Lihua Julie Zhu 
  | malbec2 | Linux (Ubuntu 18.04.2 LTS) / x86_64 | OK | OK | OK | |||||||
| tokay2 | Windows Server 2012 R2 Standard / x64 | OK | OK | OK | [ OK ] | |||||||
| celaya2 | OS X 10.11.6 El Capitan / x86_64 | OK | OK | OK | OK | |||||||
| merida2 | OS X 10.11.6 El Capitan / x86_64 | OK | OK | OK | OK | 
| Package: REDseq | 
| Version: 1.29.0 | 
| Command: rm -rf REDseq.buildbin-libdir && mkdir REDseq.buildbin-libdir && C:\Users\biocbuild\bbs-3.9-bioc\R\bin\R.exe CMD INSTALL --merge-multiarch --build --library=REDseq.buildbin-libdir REDseq_1.29.0.tar.gz | 
| StartedAt: 2019-04-09 08:48:41 -0400 (Tue, 09 Apr 2019) | 
| EndedAt: 2019-04-09 08:49:26 -0400 (Tue, 09 Apr 2019) | 
| EllapsedTime: 45.0 seconds | 
| RetCode: 0 | 
| Status: OK | 
| PackageFile: REDseq_1.29.0.zip | 
| PackageFileSize: 241.3 KiB | 
##############################################################################
##############################################################################
###
### Running command:
###
###   rm -rf REDseq.buildbin-libdir && mkdir REDseq.buildbin-libdir && C:\Users\biocbuild\bbs-3.9-bioc\R\bin\R.exe CMD INSTALL --merge-multiarch --build --library=REDseq.buildbin-libdir REDseq_1.29.0.tar.gz
###
##############################################################################
##############################################################################
install for i386
* installing *source* package 'REDseq' ...
** R
** data
** inst
** byte-compile and prepare package for lazy loading
No methods found in package 'IRanges' for requests: '%in%', 'rep.int' when loading 'REDseq'
** help
*** installing help indices
  converting help for package 'REDseq'
    finding HTML links ... done
    REDseq-package                          html  
    assignSeq2REsite                        html  
    binom.test.REDseq                       html  
    buildREmap                              html  
    compareREDseq                           html  
    distanceHistSeq2RE                      html  
    example.REDseq                          html  
    example.assignedREDseq                  html  
    example.map                             html  
    plotCutDistribution                     html  
    searchPattern                           html  
    summarizeByRE                           html  
    summarizeBySeq                          html  
    writeHits                               html  
** building package indices
** installing vignettes
** testing if installed package can be loaded from temporary location
No methods found in package 'IRanges' for requests: '%in%', 'rep.int' when loading 'REDseq'
** testing if installed package can be loaded from final location
No methods found in package 'IRanges' for requests: '%in%', 'rep.int' when loading 'REDseq'
** testing if installed package keeps a record of temporary installation path
install for x64
* installing *source* package 'REDseq' ...
** testing if installed package can be loaded
No methods found in package 'IRanges' for requests: '%in%', 'rep.int' when loading 'REDseq'
* MD5 sums
packaged installation of 'REDseq' as REDseq_1.29.0.zip
* DONE (REDseq)