| Back to Multiple platform build/check report for BioC 3.9 | 
  | 
This page was generated on 2019-04-09 12:17:56 -0400 (Tue, 09 Apr 2019).
| Package 1258/1703 | Hostname | OS / Arch | INSTALL | BUILD | CHECK | BUILD BIN | ||||||
| QDNAseq 1.19.0 Daoud Sie 
  | malbec2 | Linux (Ubuntu 18.04.2 LTS) / x86_64 | OK | OK | WARNINGS | |||||||
| tokay2 | Windows Server 2012 R2 Standard / x64 | OK | OK | WARNINGS | [ OK ] | |||||||
| celaya2 | OS X 10.11.6 El Capitan / x86_64 | OK | OK | WARNINGS | OK | |||||||
| merida2 | OS X 10.11.6 El Capitan / x86_64 | OK | OK | WARNINGS | OK | 
| Package: QDNAseq | 
| Version: 1.19.0 | 
| Command: rm -rf QDNAseq.buildbin-libdir && mkdir QDNAseq.buildbin-libdir && C:\Users\biocbuild\bbs-3.9-bioc\R\bin\R.exe CMD INSTALL --merge-multiarch --build --library=QDNAseq.buildbin-libdir QDNAseq_1.19.0.tar.gz | 
| StartedAt: 2019-04-09 08:44:45 -0400 (Tue, 09 Apr 2019) | 
| EndedAt: 2019-04-09 08:45:20 -0400 (Tue, 09 Apr 2019) | 
| EllapsedTime: 34.7 seconds | 
| RetCode: 0 | 
| Status: OK | 
| PackageFile: QDNAseq_1.19.0.zip | 
| PackageFileSize: 1.417 MiB | 
##############################################################################
##############################################################################
###
### Running command:
###
###   rm -rf QDNAseq.buildbin-libdir && mkdir QDNAseq.buildbin-libdir && C:\Users\biocbuild\bbs-3.9-bioc\R\bin\R.exe CMD INSTALL --merge-multiarch --build --library=QDNAseq.buildbin-libdir QDNAseq_1.19.0.tar.gz
###
##############################################################################
##############################################################################
install for i386
* installing *source* package 'QDNAseq' ...
** R
** data
** inst
** byte-compile and prepare package for lazy loading
** help
*** installing help indices
  converting help for package 'QDNAseq'
    finding HTML links ... done
    LGG150                                  html  
    QDNAseq-defunct                         html  
    QDNAseq-package                         html  
    QDNAseqCopyNumbers                      html  
    QDNAseqReadCounts                       html  
    QDNAseqSignals                          html  
    addPhenodata                            html  
    applyFilters                            html  
Rd warning: C:/Users/biocbuild/bbs-3.9-bioc/tmpdir/Rtmp8Gtr7O/R.INSTALLf3042e66724/QDNAseq/man/applyFilters.Rd:31: file link 'madDiff' in package 'matrixStats' does not exist and so has been treated as a topic
    binReadCounts                           html  
Rd warning: C:/Users/biocbuild/bbs-3.9-bioc/tmpdir/Rtmp8Gtr7O/R.INSTALLf3042e66724/QDNAseq/man/binReadCounts.Rd:28: file link 'AnnotatedDataFrame' in package 'Biobase' does not exist and so has been treated as a topic
    callBins                                html  
    compareToReference                      html  
    correctBins                             html  
    createBins                              html  
    estimateCorrection                      html  
Rd warning: C:/Users/biocbuild/bbs-3.9-bioc/tmpdir/Rtmp8Gtr7O/R.INSTALLf3042e66724/QDNAseq/man/estimateCorrection.Rd:43: file link 'madDiff' in package 'matrixStats' does not exist and so has been treated as a topic
    exportBins                              html  
    finding level-2 HTML links ... done
    frequencyPlot                           html  
    getBinAnnotations                       html  
Rd warning: C:/Users/biocbuild/bbs-3.9-bioc/tmpdir/Rtmp8Gtr7O/R.INSTALLf3042e66724/QDNAseq/man/getBinAnnotations.Rd:43: file link 'AnnotatedDataFrame' in package 'Biobase' does not exist and so has been treated as a topic
    highlightFilters                        html  
Rd warning: C:/Users/biocbuild/bbs-3.9-bioc/tmpdir/Rtmp8Gtr7O/R.INSTALLf3042e66724/QDNAseq/man/highlightFilters.Rd:32: file link 'madDiff' in package 'matrixStats' does not exist and so has been treated as a topic
    isobarPlot                              html  
    makeCgh                                 html  
Rd warning: C:/Users/biocbuild/bbs-3.9-bioc/tmpdir/Rtmp8Gtr7O/R.INSTALLf3042e66724/QDNAseq/man/makeCgh.Rd:37: file link 'cghRaw' in package 'CGHbase' does not exist and so has been treated as a topic
Rd warning: C:/Users/biocbuild/bbs-3.9-bioc/tmpdir/Rtmp8Gtr7O/R.INSTALLf3042e66724/QDNAseq/man/makeCgh.Rd:38: file link 'cghSeg' in package 'CGHbase' does not exist and so has been treated as a topic
Rd warning: C:/Users/biocbuild/bbs-3.9-bioc/tmpdir/Rtmp8Gtr7O/R.INSTALLf3042e66724/QDNAseq/man/makeCgh.Rd:39: file link 'cghCall' in package 'CGHbase' does not exist and so has been treated as a topic
    noisePlot                               html  
    normalizeBins                           html  
    normalizeSegmentedBins                  html  
    plot                                    html  
    poolRuns                                html  
    segmentBins                             html  
    smoothOutlierBins                       html  
** building package indices
** installing vignettes
** testing if installed package can be loaded from temporary location
** testing if installed package can be loaded from final location
** testing if installed package keeps a record of temporary installation path
install for x64
* installing *source* package 'QDNAseq' ...
** testing if installed package can be loaded
* MD5 sums
packaged installation of 'QDNAseq' as QDNAseq_1.19.0.zip
* DONE (QDNAseq)