| Back to Multiple platform build/check report for BioC 3.9 |
|
This page was generated on 2019-03-11 11:29:32 -0400 (Mon, 11 Mar 2019).
| Package 1165/1676 | Hostname | OS / Arch | INSTALL | BUILD | CHECK | BUILD BIN | ||||||
| PharmacoGx 1.13.0 Benjamin Haibe-Kains
| malbec2 | Linux (Ubuntu 18.04.1 LTS) / x86_64 | OK | OK | OK | |||||||
| tokay2 | Windows Server 2012 R2 Standard / x64 | OK | OK | [ OK ] | OK | |||||||
| merida2 | OS X 10.11.6 El Capitan / x86_64 | OK | OK | OK | OK | |||||||
| celaya2 | OS X 10.11.6 El Capitan / x86_64 | OK | OK | TIMEOUT | OK |
| Package: PharmacoGx |
| Version: 1.13.0 |
| Command: C:\Users\biocbuild\bbs-3.9-bioc\R\bin\R.exe CMD check --force-multiarch --install=check:PharmacoGx.install-out.txt --library=C:\Users\biocbuild\bbs-3.9-bioc\R\library --no-vignettes --timings PharmacoGx_1.13.0.tar.gz |
| StartedAt: 2019-03-11 05:13:12 -0400 (Mon, 11 Mar 2019) |
| EndedAt: 2019-03-11 05:38:10 -0400 (Mon, 11 Mar 2019) |
| EllapsedTime: 1498.4 seconds |
| RetCode: 0 |
| Status: OK |
| CheckDir: PharmacoGx.Rcheck |
| Warnings: 0 |
##############################################################################
##############################################################################
###
### Running command:
###
### C:\Users\biocbuild\bbs-3.9-bioc\R\bin\R.exe CMD check --force-multiarch --install=check:PharmacoGx.install-out.txt --library=C:\Users\biocbuild\bbs-3.9-bioc\R\library --no-vignettes --timings PharmacoGx_1.13.0.tar.gz
###
##############################################################################
##############################################################################
* using log directory 'C:/Users/biocbuild/bbs-3.9-bioc/meat/PharmacoGx.Rcheck'
* using R Under development (unstable) (2019-01-10 r75962)
* using platform: x86_64-w64-mingw32 (64-bit)
* using session charset: ISO8859-1
* using option '--no-vignettes'
* checking for file 'PharmacoGx/DESCRIPTION' ... OK
* checking extension type ... Package
* this is package 'PharmacoGx' version '1.13.0'
* package encoding: UTF-8
* checking package namespace information ... OK
* checking package dependencies ... OK
* checking if this is a source package ... OK
* checking if there is a namespace ... OK
* checking for hidden files and directories ... OK
* checking for portable file names ... OK
* checking whether package 'PharmacoGx' can be installed ... OK
* checking installed package size ... OK
* checking package directory ... OK
* checking 'build' directory ... OK
* checking DESCRIPTION meta-information ... OK
* checking top-level files ... OK
* checking for left-over files ... OK
* checking index information ... OK
* checking package subdirectories ... OK
* checking R files for non-ASCII characters ... OK
* checking R files for syntax errors ... OK
* loading checks for arch 'i386'
** checking whether the package can be loaded ... OK
** checking whether the package can be loaded with stated dependencies ... OK
** checking whether the package can be unloaded cleanly ... OK
** checking whether the namespace can be loaded with stated dependencies ... OK
** checking whether the namespace can be unloaded cleanly ... OK
* loading checks for arch 'x64'
** checking whether the package can be loaded ... OK
** checking whether the package can be loaded with stated dependencies ... OK
** checking whether the package can be unloaded cleanly ... OK
** checking whether the namespace can be loaded with stated dependencies ... OK
** checking whether the namespace can be unloaded cleanly ... OK
* checking dependencies in R code ... OK
* checking S3 generic/method consistency ... OK
* checking replacement functions ... OK
* checking foreign function calls ... OK
* checking R code for possible problems ... OK
* checking Rd files ... OK
* checking Rd metadata ... OK
* checking Rd cross-references ... OK
* checking for missing documentation entries ... OK
* checking for code/documentation mismatches ... OK
* checking Rd \usage sections ... OK
* checking Rd contents ... OK
* checking for unstated dependencies in examples ... OK
* checking contents of 'data' directory ... OK
* checking data for non-ASCII characters ... NOTE
Note: found 2251 marked UTF-8 strings
* checking data for ASCII and uncompressed saves ... OK
* checking files in 'vignettes' ... OK
* checking examples ...
** running examples for arch 'i386' ... OK
Examples with CPU or elapsed time > 5s
user system elapsed
intersectPSet 2.17 0.39 183.04
** running examples for arch 'x64' ... OK
Examples with CPU or elapsed time > 5s
user system elapsed
intersectPSet 2.19 0.32 149.9
* checking for unstated dependencies in 'tests' ... OK
* checking tests ...
** running tests for arch 'i386' ...
Running 'testthat.R'
OK
** running tests for arch 'x64' ...
Running 'testthat.R'
OK
* checking for unstated dependencies in vignettes ... OK
* checking package vignettes in 'inst/doc' ... OK
* checking running R code from vignettes ... SKIPPED
* checking re-building of vignette outputs ... SKIPPED
* checking PDF version of manual ... OK
* DONE
Status: 1 NOTE
See
'C:/Users/biocbuild/bbs-3.9-bioc/meat/PharmacoGx.Rcheck/00check.log'
for details.
PharmacoGx.Rcheck/00install.out
##############################################################################
##############################################################################
###
### Running command:
###
### C:\cygwin\bin\curl.exe -O https://malbec2.bioconductor.org/BBS/3.9/bioc/src/contrib/PharmacoGx_1.13.0.tar.gz && rm -rf PharmacoGx.buildbin-libdir && mkdir PharmacoGx.buildbin-libdir && C:\Users\biocbuild\bbs-3.9-bioc\R\bin\R.exe CMD INSTALL --merge-multiarch --build --library=PharmacoGx.buildbin-libdir PharmacoGx_1.13.0.tar.gz && C:\Users\biocbuild\bbs-3.9-bioc\R\bin\R.exe CMD INSTALL PharmacoGx_1.13.0.zip && rm PharmacoGx_1.13.0.tar.gz PharmacoGx_1.13.0.zip
###
##############################################################################
##############################################################################
% Total % Received % Xferd Average Speed Time Time Time Current
Dload Upload Total Spent Left Speed
0 0 0 0 0 0 0 0 --:--:-- --:--:-- --:--:-- 0
100 4116k 100 4116k 0 0 12.9M 0 --:--:-- --:--:-- --:--:-- 13.3M
install for i386
* installing *source* package 'PharmacoGx' ...
** R
** data
** inst
** byte-compile and prepare package for lazy loading
** help
*** installing help indices
converting help for package 'PharmacoGx'
finding HTML links ... done
CCLEsmall html
CMAPsmall html
GDSCsmall html
HDAC_genes html
LogLogisticRegression html
PharmacoSet-class html
PharmacoSet html
amcc html
availablePSets html
cellInfo-set html
cellInfo html
cellNames-set html
cellNames html
checkPSetStructure html
computeABC html
computeAUC html
computeAmax html
computeICn html
computeSlope html
connectivityScore html
cosinePerm html
dateCreated html
dim-PharmacoSet-method html
downloadPSet html
downloadPertSig html
drugDoseResponseCurve html
drugInfo-set html
drugInfo html
drugNames-set html
drugNames html
drugPerturbationSig html
drugSensitivitySig html
fNames html
featureInfo-set html
featureInfo html
filterNoisyCurves html
gwc html
intersectList html
intersectPSet html
mDataNames html
mcc html
molecularProfiles-set html
molecularProfiles html
pSetName html
pertNumber-set html
pertNumber html
phenoInfo-set html
phenoInfo html
sensNumber-set html
sensNumber html
sensitivityInfo-set html
sensitivityInfo html
sensitivityMeasures html
sensitivityProfiles-set html
sensitivityProfiles html
show-PharmacoSet-method html
show-PharmacoSig-method html
showSigAnnot html
sub-PharmacoSet-ANY-ANY-ANY-method html
subsetTo html
summarizeMolecularProfiles html
summarizeSensitivityProfiles html
symSetDiffList html
unionList html
** building package indices
** installing vignettes
** testing if installed package can be loaded
install for x64
* installing *source* package 'PharmacoGx' ...
** testing if installed package can be loaded
* MD5 sums
packaged installation of 'PharmacoGx' as PharmacoGx_1.13.0.zip
* DONE (PharmacoGx)
* installing to library 'C:/Users/biocbuild/bbs-3.9-bioc/R/library'
package 'PharmacoGx' successfully unpacked and MD5 sums checked
|
PharmacoGx.Rcheck/tests_i386/testthat.Rout
R Under development (unstable) (2019-01-10 r75962) -- "Unsuffered Consequences"
Copyright (C) 2019 The R Foundation for Statistical Computing
Platform: i386-w64-mingw32/i386 (32-bit)
R is free software and comes with ABSOLUTELY NO WARRANTY.
You are welcome to redistribute it under certain conditions.
Type 'license()' or 'licence()' for distribution details.
R is a collaborative project with many contributors.
Type 'contributors()' for more information and
'citation()' on how to cite R or R packages in publications.
Type 'demo()' for some demos, 'help()' for on-line help, or
'help.start()' for an HTML browser interface to help.
Type 'q()' to quit R.
> Sys.unsetenv("R_TESTS")
>
> library(testthat)
> library(PharmacoGx)
>
> test_check("PharmacoGx")
[1] NA 3
[1] 1 2 Inf
[1] NA 3
[1] 1 2 Inf
|
| | 0%
|
|======================================================================| 100%
|
| | 0%
|
|======================================================================| 100%
[1] "Model did not converge"
0 1
8 1
[1] "Model did not converge"
0 1
8 1
[1] "Model did not converge"
0 1
8 1
[1] "Model did not converge"
0 1
8 1
[1] "Model did not converge"
0 1
8 1
[1] "Model did not converge"
0 1
8 1
[1] "Model did not converge"
0 1
8 1
[1] "Model did not converge"
0 1
8 1
[1] "Model did not converge"
0 1
8 1
[1] "Model did not converge"
0 1
8 1
[1] "Model did not converge"
0 1
8 1
[1] "Model did not converge"
0 1
8 1
[1] "Model did not converge"
0 1
8 1
[1] "Model did not converge"
0 1
8 1
[1] "Model did not converge"
0 1
8 1
[1] "Model did not converge"
0 1
8 1
[1] "Model did not converge"
0 1
8 1
[1] "Model did not converge"
0 1
8 1
[1] "Model did not converge"
0 1
8 1
[1] "Model did not converge"
0 1
8 1
[1] "Model did not converge"
0 1
8 1
[1] "Model did not converge"
0 1
8 1
[1] "Model did not converge"
0 1
8 1
[1] "Model did not converge"
0 1
8 1
[1] "Model did not converge"
0 1
8 1
[1] "Model did not converge"
0 1
8 1
[1] "Model did not converge"
0 1
8 1
[1] "Model did not converge"
0 1
8 1
[1] "Model did not converge"
0 1
8 1
[1] "Model did not converge"
0 1
8 1
[1] "Model did not converge"
0 1
8 1
[1] "Model did not converge"
0 1
8 1
[1] "Model did not converge"
0 1
8 1
[1] "Model did not converge"
0 1
8 1
[1] "Model did not converge"
0 1
8 1
[1] "Model did not converge"
0 1
8 1
[1] "Model did not converge"
0 1
8 1
[1] "Model did not converge"
0 1
8 1
[1] "Model did not converge"
0 1
8 1
[1] "Model did not converge"
0 1
8 1
[1] "Model did not converge"
0 1
8 1
[1] "Model did not converge"
0 1
8 1
[1] "Model did not converge"
0 1
8 1
[1] "Model did not converge"
0 1
8 1
[1] "Model did not converge"
0 1
8 1
[1] "Model did not converge"
0 1
8 1
[1] "Model did not converge"
0 1
8 1
[1] "Model did not converge"
0 1
8 1
[1] "Model did not converge"
0 1
8 1
[1] "Model did not converge"
0 1
8 1
[1] "Model did not converge"
0 1
2 7
[1] "Model did not converge"
0 1
2 7
[1] "Model did not converge"
0 1
2 7
[1] "Model did not converge"
0 1
2 7
[1] "Model did not converge"
0 1
2 7
[1] "Model did not converge"
0 1
2 7
[1] "Model did not converge"
0 1
2 7
[1] "Model did not converge"
0 1
2 7
[1] "Model did not converge"
0 1
2 7
[1] "Model did not converge"
0 1
2 7
[1] "Model did not converge"
0 1
2 7
[1] "Model did not converge"
0 1
2 7
[1] "Model did not converge"
0 1
2 7
[1] "Model did not converge"
0 1
2 7
[1] "Model did not converge"
0 1
2 7
[1] "Model did not converge"
0 1
2 7
[1] "Model did not converge"
0 1
2 7
[1] "Model did not converge"
0 1
2 7
[1] "Model did not converge"
0 1
2 7
[1] "Model did not converge"
0 1
2 7
[1] "Model did not converge"
0 1
2 7
[1] "Model did not converge"
0 1
2 7
[1] "Model did not converge"
0 1
2 7
[1] "Model did not converge"
0 1
2 7
[1] "Model did not converge"
0 1
2 7
[1] "Model did not converge"
0 1
2 7
[1] "Model did not converge"
0 1
2 7
[1] "Model did not converge"
0 1
2 7
[1] "Model did not converge"
0 1
6 3
[1] "Model did not converge"
0 1
6 3
[1] "Model did not converge"
0 1
6 3
[1] "Model did not converge"
0 1
6 3
[1] "Model did not converge"
0 1
6 3
[1] "Model did not converge"
0 1
6 3
[1] "Model did not converge"
0 1
6 3
[1] "Model did not converge"
0 1
6 3
[1] "Model did not converge"
0 1
6 3
[1] "Model did not converge"
0 1
6 3
[1] "Model did not converge"
0 1
6 3
[1] "Model did not converge"
0 1
6 3
[1] "Model did not converge"
0 1
6 3
[1] "Model did not converge"
0 1
6 3
[1] "Model did not converge"
0 1
6 3
[1] "Model did not converge"
0 1
6 3
[1] "Model did not converge"
0 1
6 3
[1] "Model did not converge"
0 1
6 3
[1] "Model did not converge"
0 1
6 3
[1] "Model did not converge"
0 1
6 3
[1] "Model did not converge"
0 1
6 3
[1] "Model did not converge"
0 1
6 3
[1] "Model did not converge"
0 1
6 3
[1] "Model did not converge"
0 1
6 3
[1] "Model did not converge"
0 1
6 3
[1] "Model did not converge"
0 1
6 3
[1] "Model did not converge"
0 1
6 3
[1] "Model did not converge"
0 1
6 3
[1] "Model did not converge"
0 1
6 3
[1] "Model did not converge"
0 1
6 3
[1] "Model did not converge"
0 1
6 3
[1] "Model did not converge"
0 1
6 3
[1] "Model did not converge"
0 1
6 3
[1] "Model did not converge"
0 1
6 3
[1] "Model did not converge"
0 1
6 3
[1] "Model did not converge"
0 1
6 3
[1] "Model did not converge"
0 1
6 3
[1] "Model did not converge"
0 1
6 3
[1] "Model did not converge"
0 1
6 3
[1] "Model did not converge"
0 1
6 3
[1] "Model did not converge"
0 1
6 3
[1] "Model did not converge"
0 1
6 3
[1] "Model did not converge"
0 1
6 3
[1] "Model did not converge"
0 1
6 3
[1] "Model did not converge"
0 1
6 3
[1] "Model did not converge"
0 1
6 3
[1] "Model did not converge"
0 1
6 3
[1] "Model did not converge"
0 1
6 3
[1] "Model did not converge"
0 1
6 3
[1] "Model did not converge"
0 1
6 3
[1] "Model did not converge"
0 1
8 1
[1] "Model did not converge"
0 1
8 1
[1] "Model did not converge"
0 1
8 1
[1] "Model did not converge"
0 1
8 1
[1] "Model did not converge"
0 1
8 1
[1] "Model did not converge"
0 1
8 1
[1] "Model did not converge"
0 1
8 1
[1] "Model did not converge"
0 1
8 1
[1] "Model did not converge"
0 1
8 1
[1] "Model did not converge"
0 1
8 1
[1] "Model did not converge"
0 1
8 1
[1] "Model did not converge"
0 1
8 1
[1] "Model did not converge"
0 1
8 1
[1] "Model did not converge"
0 1
8 1
[1] "Model did not converge"
0 1
8 1
[1] "Model did not converge"
0 1
8 1
[1] "Model did not converge"
0 1
8 1
[1] "Model did not converge"
0 1
8 1
[1] "Model did not converge"
0 1
8 1
[1] "Model did not converge"
0 1
8 1
[1] "Model did not converge"
0 1
8 1
[1] "Model did not converge"
0 1
8 1
[1] "Model did not converge"
0 1
8 1
[1] "Model did not converge"
0 1
8 1
[1] "Model did not converge"
0 1
8 1
[1] "Model did not converge"
0 1
8 1
[1] "Model did not converge"
0 1
8 1
[1] "Model did not converge"
0 1
8 1
[1] "Model did not converge"
0 1
8 1
[1] "Model did not converge"
0 1
8 1
[1] "Model did not converge"
0 1
8 1
[1] "Model did not converge"
0 1
8 1
[1] "Model did not converge"
0 1
8 1
[1] "Model did not converge"
0 1
8 1
[1] "Model did not converge"
0 1
8 1
[1] "Model did not converge"
0 1
8 1
[1] "Model did not converge"
0 1
8 1
[1] "Model did not converge"
0 1
8 1
[1] "Model did not converge"
0 1
8 1
[1] "Model did not converge"
0 1
8 1
[1] "Model did not converge"
0 1
8 1
[1] "Model did not converge"
0 1
8 1
[1] "Model did not converge"
0 1
8 1
[1] "Model did not converge"
0 1
8 1
[1] "Model did not converge"
0 1
8 1
[1] "Model did not converge"
0 1
8 1
[1] "Model did not converge"
0 1
8 1
[1] "Model did not converge"
0 1
8 1
[1] "Model did not converge"
0 1
8 1
[1] "Model did not converge"
0 1
8 1
[1] "Model did not converge"
0 1
3 6
[1] "Model did not converge"
0 1
3 6
[1] "Model did not converge"
0 1
3 6
[1] "Model did not converge"
0 1
3 6
[1] "Model did not converge"
0 1
3 6
[1] "Model did not converge"
0 1
3 6
[1] "Model did not converge"
0 1
3 6
[1] "Model did not converge"
0 1
3 6
[1] "Model did not converge"
0 1
3 6
[1] "Model did not converge"
0 1
3 6
[1] "Model did not converge"
0 1
3 6
[1] "Model did not converge"
0 1
3 6
[1] "Model did not converge"
0 1
3 6
[1] "Model did not converge"
0 1
3 6
[1] "Model did not converge"
0 1
3 6
[1] "Model did not converge"
0 1
3 6
[1] "Model did not converge"
0 1
3 6
[1] "Model did not converge"
0 1
3 6
[1] "Model did not converge"
0 1
3 6
[1] "Model did not converge"
0 1
1 8
[1] "Model did not converge"
0 1
1 8
[1] "Model did not converge"
0 1
1 8
[1] "Model did not converge"
0 1
1 8
[1] "Model did not converge"
0 1
1 8
[1] "Model did not converge"
0 1
1 8
[1] "Model did not converge"
0 1
1 8
[1] "Model did not converge"
0 1
1 8
[1] "Model did not converge"
0 1
1 8
[1] "Model did not converge"
0 1
1 8
[1] "Model did not converge"
0 1
1 8
[1] "Model did not converge"
0 1
1 8
[1] "Model did not converge"
0 1
1 8
[1] "Model did not converge"
0 1
1 8
[1] "Model did not converge"
0 1
1 8
[1] "Model did not converge"
0 1
1 8
[1] "Model did not converge"
0 1
1 8
[1] "Model did not converge"
0 1
1 8
[1] "Model did not converge"
0 1
1 8
[1] "Model did not converge"
0 1
1 8
[1] "Model did not converge"
0 1
1 8
[1] "Model did not converge"
0 1
1 8
[1] "Model did not converge"
0 1
1 8
[1] "Model did not converge"
0 1
1 8
[1] "Model did not converge"
0 1
1 8
[1] "Model did not converge"
0 1
1 8
[1] "Model did not converge"
0 1
1 8
[1] "Model did not converge"
0 1
1 8
[1] "Model did not converge"
0 1
1 8
[1] "Model did not converge"
0 1
1 8
[1] "Model did not converge"
0 1
1 8
[1] "Model did not converge"
0 1
1 8
[1] "Model did not converge"
0 1
1 8
[1] "Model did not converge"
0 1
1 8
[1] "Model did not converge"
0 1
1 8
[1] "Model did not converge"
0 1
1 8
[1] "Model did not converge"
0 1
1 8
[1] "Model did not converge"
0 1
8 1
[1] "Model did not converge"
0 1
8 1
[1] "Model did not converge"
0 1
8 1
[1] "Model did not converge"
0 1
8 1
[1] "Model did not converge"
0 1
8 1
[1] "Model did not converge"
0 1
8 1
[1] "Model did not converge"
0 1
8 1
[1] "Model did not converge"
0 1
8 1
[1] "Model did not converge"
0 1
8 1
[1] "Model did not converge"
0 1
8 1
[1] "Model did not converge"
0 1
8 1
[1] "Model did not converge"
0 1
8 1
[1] "Model did not converge"
0 1
8 1
[1] "Model did not converge"
0 1
8 1
[1] "Model did not converge"
0 1
8 1
[1] "Model did not converge"
0 1
8 1
[1] "Model did not converge"
0 1
8 1
[1] "Model did not converge"
0 1
8 1
[1] "Model did not converge"
0 1
8 1
[1] "Model did not converge"
0 1
8 1
[1] "Model did not converge"
0 1
8 1
[1] "Model did not converge"
0 1
8 1
[1] "Model did not converge"
0 1
8 1
[1] "Model did not converge"
0 1
8 1
[1] "Model did not converge"
0 1
8 1
[1] "Model did not converge"
0 1
8 1
[1] "Model did not converge"
0 1
8 1
[1] "Model did not converge"
0 1
8 1
[1] "Model did not converge"
0 1
8 1
[1] "Model did not converge"
0 1
8 1
[1] "Model did not converge"
0 1
8 1
[1] "Model did not converge"
0 1
8 1
[1] "Model did not converge"
0 1
8 1
[1] "Model did not converge"
0 1
8 1
[1] "Model did not converge"
0 1
8 1
[1] "Model did not converge"
0 1
8 1
[1] "Model did not converge"
0 1
8 1
[1] "Model did not converge"
0 1
1 8
[1] "Model did not converge"
0 1
1 8
[1] "Model did not converge"
0 1
1 8
[1] "Model did not converge"
0 1
1 8
[1] "Model did not converge"
0 1
1 8
[1] "Model did not converge"
0 1
1 8
[1] "Model did not converge"
0 1
1 8
[1] "Model did not converge"
0 1
1 8
[1] "Model did not converge"
0 1
1 8
[1] "Model did not converge"
0 1
1 8
[1] "Model did not converge"
0 1
1 8
[1] "Model did not converge"
0 1
1 8
[1] "Model did not converge"
0 1
1 8
[1] "Model did not converge"
0 1
1 8
[1] "Model did not converge"
0 1
1 8
[1] "Model did not converge"
0 1
1 8
[1] "Model did not converge"
0 1
1 8
[1] "Model did not converge"
0 1
1 8
[1] "Model did not converge"
0 1
1 8
[1] "Model did not converge"
0 1
1 8
[1] "Model did not converge"
0 1
1 8
[1] "Model did not converge"
0 1
1 8
[1] "Model did not converge"
0 1
1 8
[1] "Model did not converge"
0 1
1 8
[1] "Model did not converge"
0 1
1 8
[1] "Model did not converge"
0 1
1 8
[1] "Model did not converge"
0 1
1 8
[1] "Model did not converge"
0 1
1 8
[1] "Model did not converge"
0 1
1 8
[1] "Model did not converge"
0 1
1 8
[1] "Model did not converge"
0 1
1 8
[1] "Model did not converge"
0 1
1 8
[1] "Model did not converge"
0 1
1 8
[1] "Model did not converge"
0 1
1 8
[1] "Model did not converge"
0 1
1 8
[1] "Model did not converge"
0 1
1 8
[1] "Model did not converge"
0 1
1 8
[1] "Model did not converge"
0 1
7 2
[1] "Model did not converge"
0 1
7 2
[1] "Model did not converge"
0 1
7 2
[1] "Model did not converge"
0 1
7 2
[1] "Model did not converge"
0 1
7 2
[1] "Model did not converge"
0 1
7 2
[1] "Model did not converge"
0 1
7 2
[1] "Model did not converge"
0 1
7 2
[1] "Model did not converge"
0 1
7 2
[1] "Model did not converge"
0 1
7 2
[1] "Model did not converge"
0 1
7 2
[1] "Model did not converge"
0 1
7 2
[1] "Model did not converge"
0 1
7 2
[1] "Model did not converge"
0 1
7 2
[1] "Model did not converge"
0 1
7 2
[1] "Model did not converge"
0 1
7 2
[1] "Model did not converge"
0 1
7 2
[1] "Model did not converge"
0 1
7 2
[1] "Model did not converge"
0 1
7 2
[1] "Model did not converge"
0 1
7 2
[1] "Model did not converge"
0 1
7 2
[1] "Model did not converge"
0 1
7 2
[1] "Model did not converge"
0 1
7 2
[1] "Model did not converge"
0 1
7 2
[1] "Model did not converge"
0 1
7 2
[1] "Model did not converge"
0 1
7 2
[1] "Model did not converge"
0 1
7 2
[1] "Model did not converge"
0 1
7 2
[1] "Model did not converge"
0 1
7 2
[1] "Model did not converge"
0 1
7 2
[1] "Model did not converge"
0 1
7 2
[1] "Model did not converge"
0 1
7 2
[1] "Model did not converge"
0 1
7 2
[1] "Model did not converge"
0 1
7 2
[1] "Model did not converge"
0 1
7 2
[1] "Model did not converge"
0 1
7 2
[1] "Model did not converge"
0 1
7 2
[1] "Model did not converge"
0 1
7 2
[1] "Model did not converge"
0 1
7 2
[1] "Model did not converge"
0 1
7 2
[1] "Model did not converge"
0 1
7 2
[1] "Model did not converge"
0 1
7 2
[1] "Model did not converge"
0 1
7 2
[1] "Model did not converge"
0 1
7 2
[1] "Model did not converge"
0 1
7 2
[1] "Model did not converge"
0 1
7 2
[1] "Model did not converge"
0 1
7 2
[1] "Model did not converge"
0 1
7 2
[1] "Model did not converge"
0 1
7 2
[1] "Model did not converge"
0 1
7 2
[1] "Model did not converge"
0 1
7 2
[1] "Model did not converge"
0 1
7 2
[1] "Model did not converge"
0 1
7 2
[1] "Model did not converge"
0 1
7 2
[1] "Model did not converge"
0 1
7 2
[1] "Model did not converge"
0 1
7 2
[1] "Model did not converge"
0 1
7 2
[1] "Model did not converge"
0 1
7 2
[1] "Model did not converge"
0 1
7 2
[1] "Model did not converge"
0 1
7 2
[1] "Model did not converge"
0 1
7 2
[1] "Model did not converge"
0 1
7 2
[1] "Model did not converge"
0 1
7 2
[1] "Model did not converge"
0 1
7 2
[1] "Model did not converge"
0 1
7 2
[1] "Model did not converge"
0 1
7 2
[1] "Model did not converge"
0 1
7 2
[1] "Model did not converge"
0 1
7 2
[1] "Model did not converge"
0 1
7 2
[1] "Model did not converge"
0 1
7 2
[1] "Model did not converge"
0 1
7 2
[1] "Model did not converge"
0 1
7 2
[1] "Model did not converge"
0 1
7 2
[1] "Model did not converge"
0 1
7 2
[1] "Model did not converge"
0 1
7 2
[1] "Model did not converge"
0 1
7 2
[1] "Model did not converge"
0 1
7 2
[1] "Model did not converge"
0 1
7 2
[1] "Model did not converge"
0 1
7 2
[1] "Model did not converge"
0 1
7 2
[1] "Model did not converge"
0 1
7 2
[1] "Model did not converge"
0 1
7 2
[1] "Model did not converge"
0 1
7 2
[1] "Model did not converge"
0 1
7 2
[1] "Model did not converge"
0 1
7 2
[1] "Model did not converge"
0 1
7 2
[1] "Model did not converge"
0 1
7 2
[1] "Model did not converge"
0 1
7 2
[1] "Model did not converge"
0 1
7 2
[1] "Model did not converge"
0 1
7 2
[1] "Model did not converge"
0 1
7 2
[1] "Model did not converge"
0 1
7 2
[1] "Model did not converge"
0 1
7 2
[1] "Model did not converge"
0 1
7 2
[1] "Model did not converge"
0 1
7 2
[1] "Model did not converge"
0 1
7 2
[1] "Model did not converge"
0 1
7 2
[1] "Model did not converge"
0 1
7 2
[1] "Model did not converge"
0 1
7 2
[1] "Model did not converge"
0 1
7 2
[1] "Model did not converge"
0 1
6 3
[1] "Model did not converge"
0 1
6 3
[1] "Model did not converge"
0 1
6 3
[1] "Model did not converge"
0 1
6 3
[1] "Model did not converge"
0 1
6 3
[1] "Model did not converge"
0 1
6 3
[1] "Model did not converge"
0 1
6 3
[1] "Model did not converge"
0 1
6 3
[1] "Model did not converge"
0 1
6 3
[1] "Model did not converge"
0 1
6 3
[1] "Model did not converge"
0 1
6 3
[1] "Model did not converge"
0 1
6 3
[1] "Model did not converge"
0 1
6 3
[1] "Model did not converge"
0 1
6 3
[1] "Model did not converge"
0 1
6 3
[1] "Model did not converge"
0 1
6 3
[1] "Model did not converge"
0 1
6 3
[1] "Model did not converge"
0 1
6 3
[1] "Model did not converge"
0 1
6 3
[1] "Model did not converge"
0 1
6 3
[1] "Model did not converge"
0 1
6 3
[1] "Model did not converge"
0 1
6 3
[1] "Model did not converge"
0 1
3 6
[1] "Model did not converge"
0 1
3 6
[1] "Model did not converge"
0 1
3 6
[1] "Model did not converge"
0 1
3 6
[1] "Model did not converge"
0 1
3 6
[1] "Model did not converge"
0 1
3 6
[1] "Model did not converge"
0 1
3 6
[1] "Model did not converge"
0 1
3 6
[1] "Model did not converge"
0 1
3 6
[1] "Model did not converge"
0 1
3 6
[1] "Model did not converge"
0 1
3 6
[1] "Model did not converge"
0 1
3 6
[1] "Model did not converge"
0 1
3 6
[1] "Model did not converge"
0 1
3 6
[1] "Model did not converge"
0 1
3 6
[1] "Model did not converge"
0 1
3 6
[1] "Model did not converge"
0 1
3 6
[1] "Model did not converge"
0 1
3 6
[1] "Model did not converge"
0 1
3 6
[1] "Model did not converge"
0 1
3 6
[1] "Model did not converge"
0 1
3 6
[1] "Model did not converge"
0 1
3 6
[1] "Model did not converge"
0 1
3 6
[1] "Model did not converge"
0 1
3 6
[1] "Model did not converge"
0 1
3 6
[1] "Model did not converge"
0 1
3 6
[1] "Model did not converge"
0 1
3 6
[1] "Model did not converge"
0 1
3 6
[1] "Model did not converge"
0 1
4 5
[1] "Model did not converge"
0 1
4 5
[1] "Model did not converge"
0 1
4 5
[1] "Model did not converge"
0 1
4 5
[1] "Model did not converge"
0 1
4 5
[1] "Model did not converge"
0 1
4 5
[1] "Model did not converge"
0 1
4 5
[1] "Model did not converge"
0 1
4 5
[1] "Model did not converge"
0 1
4 5
[1] "Model did not converge"
0 1
4 5
[1] "Model did not converge"
0 1
4 5
[1] "Model did not converge"
0 1
4 5
[1] "Model did not converge"
0 1
4 5
[1] "Model did not converge"
0 1
4 5
[1] "Model did not converge"
0 1
4 5
[1] "Model did not converge"
0 1
4 5
[1] "Model did not converge"
0 1
4 5
[1] "Model did not converge"
0 1
4 5
[1] "Model did not converge"
0 1
4 5
[1] "Model did not converge"
0 1
4 5
[1] "Model did not converge"
0 1
4 5
[1] "Model did not converge"
0 1
4 5
[1] "Model did not converge"
0 1
4 5
[1] "Model did not converge"
0 1
4 5
[1] "Model did not converge"
0 1
4 5
[1] "Model did not converge"
0 1
4 5
[1] "Model did not converge"
0 1
4 5
[1] "Model did not converge"
0 1
4 5
[1] "Model did not converge"
0 1
4 5
[1] "Model did not converge"
0 1
4 5
[1] "Model did not converge"
0 1
4 5
[1] "Model did not converge"
0 1
4 5
[1] "Model did not converge"
0 1
4 5
[1] "Model did not converge"
0 1
4 5
[1] "Model did not converge"
0 1
4 5
[1] "Model did not converge"
0 1
4 5
[1] "Model did not converge"
0 1
4 5
[1] "Model did not converge"
0 1
5 4
[1] "Model did not converge"
0 1
5 4
[1] "Model did not converge"
0 1
5 4
[1] "Model did not converge"
0 1
5 4
[1] "Model did not converge"
0 1
5 4
[1] "Model did not converge"
0 1
5 4
[1] "Model did not converge"
0 1
5 4
[1] "Model did not converge"
0 1
5 4
[1] "Model did not converge"
0 1
5 4
[1] "Model did not converge"
0 1
5 4
[1] "Model did not converge"
0 1
5 4
[1] "Model did not converge"
0 1
5 4
[1] "Model did not converge"
0 1
5 4
[1] "Model did not converge"
0 1
5 4
[1] "Model did not converge"
0 1
5 4
[1] "Model did not converge"
0 1
5 4
[1] "Model did not converge"
0 1
5 4
[1] "Model did not converge"
0 1
5 4
[1] "Model did not converge"
0 1
5 4
[1] "Model did not converge"
0 1
5 4
[1] "Model did not converge"
0 1
5 4
[1] "Model did not converge"
0 1
5 4
[1] "Model did not converge"
0 1
5 4
[1] "Model did not converge"
0 1
5 4
[1] "Model did not converge"
0 1
5 4
[1] "Model did not converge"
0 1
5 4
[1] "Model did not converge"
0 1
5 4
[1] "Model did not converge"
0 1
5 4
[1] "Model did not converge"
0 1
8 1
[1] "Model did not converge"
0 1
8 1
[1] "Model did not converge"
0 1
8 1
[1] "Model did not converge"
0 1
8 1
[1] "Model did not converge"
0 1
8 1
[1] "Model did not converge"
0 1
8 1
[1] "Model did not converge"
0 1
8 1
[1] "Model did not converge"
0 1
8 1
[1] "Model did not converge"
0 1
8 1
[1] "Model did not converge"
0 1
8 1
[1] "Model did not converge"
0 1
8 1
[1] "Model did not converge"
0 1
8 1
[1] "Model did not converge"
0 1
8 1
[1] "Model did not converge"
0 1
8 1
[1] "Model did not converge"
0 1
8 1
[1] "Model did not converge"
0 1
8 1
[1] "Model did not converge"
0 1
8 1
[1] "Model did not converge"
0 1
8 1
[1] "Model did not converge"
0 1
8 1
[1] "Model did not converge"
0 1
8 1
[1] "Model did not converge"
0 1
8 1
[1] "Model did not converge"
0 1
8 1
[1] "Model did not converge"
0 1
8 1
[1] "Model did not converge"
0 1
8 1
[1] "Model did not converge"
0 1
8 1
[1] "Model did not converge"
0 1
8 1
[1] "Model did not converge"
0 1
8 1
[1] "Model did not converge"
0 1
8 1
[1] "Model did not converge"
0 1
8 1
[1] "Model did not converge"
0 1
8 1
[1] "Model did not converge"
0 1
8 1
[1] "Model did not converge"
0 1
8 1
[1] "Model did not converge"
0 1
8 1
[1] "Model did not converge"
0 1
8 1
[1] "Model did not converge"
0 1
8 1
[1] "Model did not converge"
0 1
8 1
[1] "Model did not converge"
0 1
8 1
[1] "Model did not converge"
0 1
8 1
[1] "Model did not converge"
0 1
8 1
[1] "Model did not converge"
0 1
8 1
[1] "Model did not converge"
0 1
8 1
[1] "Model did not converge"
0 1
8 1
[1] "Model did not converge"
0 1
8 1
[1] "Model did not converge"
0 1
8 1
[1] "Model did not converge"
0 1
8 1
[1] "Model did not converge"
0 1
8 1
[1] "Model did not converge"
0 1
8 1
[1] "Model did not converge"
0 1
8 1
[1] "Model did not converge"
0 1
8 1
[1] "Model did not converge"
0 1
8 1
[1] "Model did not converge"
0 1
8 1
[1] "Model did not converge"
0 1
8 1
[1] "Model did not converge"
0 1
8 1
[1] "Model did not converge"
0 1
8 1
[1] "Model did not converge"
0 1
8 1
[1] "Model did not converge"
0 1
8 1
[1] "Model did not converge"
0 1
8 1
[1] "Model did not converge"
0 1
8 1
[1] "Model did not converge"
0 1
8 1
[1] "Model did not converge"
0 1
8 1
[1] "Model did not converge"
0 1
8 1
[1] "Model did not converge"
0 1
8 1
[1] "Model did not converge"
0 1
8 1
[1] "Model did not converge"
0 1
8 1
[1] "Model did not converge"
0 1
8 1
[1] "Model did not converge"
0 1
8 1
[1] "Model did not converge"
0 1
8 1
[1] "Model did not converge"
0 1
8 1
[1] "Model did not converge"
0 1
8 1
[1] "Model did not converge"
0 1
8 1
[1] "Model did not converge"
0 1
8 1
[1] "Model did not converge"
0 1
8 1
[1] "Model did not converge"
0 1
8 1
[1] "Model did not converge"
0 1
8 1
[1] "Model did not converge"
0 1
8 1
[1] "Model did not converge"
0 1
8 1
[1] "Model did not converge"
0 1
8 1
[1] "Model did not converge"
0 1
8 1
[1] "Model did not converge"
0 1
8 1
[1] "Model did not converge"
0 1
8 1
[1] "Model did not converge"
0 1
8 1
[1] "Model did not converge"
0 1
8 1
[1] "Model did not converge"
0 1
8 1
[1] "Model did not converge"
0 1
8 1
[1] "Model did not converge"
0 1
8 1
[1] "Model did not converge"
0 1
8 1
[1] "Model did not converge"
0 1
8 1
[1] "Model did not converge"
0 1
7 2
[1] "Model did not converge"
0 1
7 2
[1] "Model did not converge"
0 1
7 2
[1] "Model did not converge"
0 1
7 2
[1] "Model did not converge"
0 1
7 2
[1] "Model did not converge"
0 1
7 2
[1] "Model did not converge"
0 1
7 2
[1] "Model did not converge"
0 1
7 2
[1] "Model did not converge"
0 1
7 2
[1] "Model did not converge"
0 1
7 2
[1] "Model did not converge"
0 1
7 2
[1] "Model did not converge"
0 1
7 2
[1] "Model did not converge"
0 1
7 2
[1] "Model did not converge"
0 1
7 2
[1] "Model did not converge"
0 1
7 2
[1] "Model did not converge"
0 1
7 2
[1] "Model did not converge"
0 1
7 2
[1] "Model did not converge"
0 1
7 2
[1] "Model did not converge"
0 1
7 2
[1] "Model did not converge"
0 1
7 2
[1] "Model did not converge"
0 1
7 2
[1] "Model did not converge"
0 1
7 2
[1] "Model did not converge"
0 1
2 7
[1] "Model did not converge"
0 1
2 7
[1] "Model did not converge"
0 1
2 7
[1] "Model did not converge"
0 1
2 7
[1] "Model did not converge"
0 1
2 7
[1] "Model did not converge"
0 1
2 7
[1] "Model did not converge"
0 1
2 7
[1] "Model did not converge"
0 1
2 7
[1] "Model did not converge"
0 1
2 7
[1] "Model did not converge"
0 1
2 7
[1] "Model did not converge"
0 1
2 7
[1] "Model did not converge"
0 1
2 7
[1] "Model did not converge"
0 1
2 7
[1] "Model did not converge"
0 1
2 7
[1] "Model did not converge"
0 1
2 7
[1] "Model did not converge"
0 1
2 7
[1] "Model did not converge"
0 1
2 7
[1] "Model did not converge"
0 1
2 7
[1] "Model did not converge"
0 1
2 7
[1] "Model did not converge"
0 1
2 7
[1] "Model did not converge"
0 1
2 7
[1] "Model did not converge"
0 1
2 7
[1] "Model did not converge"
0 1
2 7
[1] "Model did not converge"
0 1
2 7
[1] "Model did not converge"
0 1
2 7
[1] "Model did not converge"
0 1
2 7
[1] "Model did not converge"
0 1
2 7
[1] "Model did not converge"
0 1
2 7
[1] "Model did not converge"
0 1
2 7
[1] "Model did not converge"
0 1
2 7
[1] "Model did not converge"
0 1
2 7
[1] "Model did not converge"
0 1
2 7
[1] "Model did not converge"
0 1
2 7
[1] "Model did not converge"
0 1
2 7
[1] "Model did not converge"
0 1
2 7
[1] "Model did not converge"
0 1
2 7
[1] "Model did not converge"
0 1
2 7
[1] "Model did not converge"
0 1
7 2
[1] "Model did not converge"
0 1
7 2
[1] "Model did not converge"
0 1
7 2
[1] "Model did not converge"
0 1
7 2
[1] "Model did not converge"
0 1
7 2
[1] "Model did not converge"
0 1
7 2
[1] "Model did not converge"
0 1
7 2
[1] "Model did not converge"
0 1
7 2
[1] "Model did not converge"
0 1
7 2
[1] "Model did not converge"
0 1
7 2
[1] "Model did not converge"
0 1
7 2
[1] "Model did not converge"
0 1
7 2
[1] "Model did not converge"
0 1
7 2
[1] "Model did not converge"
0 1
7 2
[1] "Model did not converge"
0 1
7 2
[1] "Model did not converge"
0 1
7 2
[1] "Model did not converge"
0 1
7 2
[1] "Model did not converge"
0 1
7 2
[1] "Model did not converge"
0 1
7 2
[1] "Model did not converge"
0 1
7 2
[1] "Model did not converge"
0 1
7 2
[1] "Model did not converge"
0 1
7 2
[1] "Model did not converge"
0 1
7 2
[1] "Model did not converge"
0 1
7 2
[1] "Model did not converge"
0 1
7 2
[1] "Model did not converge"
0 1
7 2
[1] "Model did not converge"
0 1
7 2
[1] "Model did not converge"
0 1
7 2
[1] "Model did not converge"
0 1
7 2
[1] "Model did not converge"
0 1
7 2
[1] "Model did not converge"
0 1
7 2
[1] "Model did not converge"
0 1
7 2
[1] "Model did not converge"
0 1
7 2
[1] "Model did not converge"
0 1
7 2
[1] "Model did not converge"
0 1
7 2
[1] "Model did not converge"
0 1
7 2
[1] "Model did not converge"
0 1
7 2
[1] "Model did not converge"
0 1
7 2
[1] "Model did not converge"
0 1
7 2
[1] "Model did not converge"
0 1
7 2
[1] "Model did not converge"
0 1
7 2
[1] "Model did not converge"
0 1
7 2
[1] "Model did not converge"
0 1
7 2
[1] "Model did not converge"
0 1
7 2
[1] "Model did not converge"
0 1
7 2
[1] "Model did not converge"
0 1
7 2
[1] "Model did not converge"
0 1
7 2
[1] "Model did not converge"
0 1
7 2
[1] "Model did not converge"
0 1
7 2
[1] "Model did not converge"
0 1
7 2
[1] "Model did not converge"
0 1
2 7
[1] "Model did not converge"
0 1
2 7
[1] "Model did not converge"
0 1
2 7
[1] "Model did not converge"
0 1
2 7
[1] "Model did not converge"
0 1
2 7
[1] "Model did not converge"
0 1
2 7
[1] "Model did not converge"
0 1
2 7
[1] "Model did not converge"
0 1
2 7
[1] "Model did not converge"
0 1
2 7
[1] "Model did not converge"
0 1
2 7
[1] "Model did not converge"
0 1
2 7
[1] "Model did not converge"
0 1
2 7
[1] "Model did not converge"
0 1
2 7
[1] "Model did not converge"
0 1
2 7
[1] "Model did not converge"
0 1
2 7
[1] "Model did not converge"
0 1
2 7
[1] "Model did not converge"
0 1
4 5
[1] "Model did not converge"
0 1
4 5
[1] "Model did not converge"
0 1
4 5
[1] "Model did not converge"
0 1
4 5
[1] "Model did not converge"
0 1
4 5
[1] "Model did not converge"
0 1
4 5
[1] "Model did not converge"
0 1
4 5
[1] "Model did not converge"
0 1
4 5
[1] "Model did not converge"
0 1
4 5
[1] "Model did not converge"
0 1
4 5
[1] "Model did not converge"
0 1
4 5
[1] "Model did not converge"
0 1
4 5
[1] "Model did not converge"
0 1
4 5
[1] "Model did not converge"
0 1
4 5
[1] "Model did not converge"
0 1
4 5
[1] "Model did not converge"
0 1
4 5
[1] "Model did not converge"
0 1
4 5
[1] "Model did not converge"
0 1
4 5
[1] "Model did not converge"
0 1
4 5
[1] "Model did not converge"
0 1
4 5
[1] "Model did not converge"
0 1
4 5
[1] "Model did not converge"
0 1
4 5
[1] "Model did not converge"
0 1
4 5
[1] "Model did not converge"
0 1
4 5
[1] "Model did not converge"
0 1
4 5
[1] "Model did not converge"
0 1
4 5
[1] "Model did not converge"
0 1
4 5
[1] "Model did not converge"
0 1
4 5
[1] "Model did not converge"
0 1
4 5
[1] "Model did not converge"
0 1
4 5
[1] "Model did not converge"
0 1
4 5
[1] "Model did not converge"
0 1
4 5
[1] "Model did not converge"
0 1
4 5
[1] "Model did not converge"
0 1
4 5
[1] "Model did not converge"
0 1
4 5
[1] "Model did not converge"
0 1
4 5
[1] "Model did not converge"
0 1
4 5
[1] "Model did not converge"
0 1
5 4
[1] "Model did not converge"
0 1
5 4
[1] "Model did not converge"
0 1
5 4
[1] "Model did not converge"
0 1
5 4
[1] "Model did not converge"
0 1
5 4
[1] "Model did not converge"
0 1
5 4
[1] "Model did not converge"
0 1
5 4
[1] "Model did not converge"
0 1
5 4
[1] "Model did not converge"
0 1
5 4
[1] "Model did not converge"
0 1
5 4
[1] "Model did not converge"
0 1
5 4
[1] "Model did not converge"
0 1
5 4
[1] "Model did not converge"
0 1
5 4
[1] "Model did not converge"
0 1
5 4
[1] "Model did not converge"
0 1
5 4
[1] "Model did not converge"
0 1
5 4
[1] "Model did not converge"
0 1
5 4
[1] "Model did not converge"
0 1
5 4
[1] "Model did not converge"
0 1
5 4
[1] "Model did not converge"
0 1
5 4
[1] "Model did not converge"
0 1
5 4
[1] "Model did not converge"
0 1
5 4
[1] "Model did not converge"
0 1
5 4
[1] "Model did not converge"
0 1
5 4
[1] "Model did not converge"
0 1
5 4
[1] "Model did not converge"
0 1
5 4
[1] "Model did not converge"
0 1
5 4
[1] "Model did not converge"
0 1
5 4
[1] "Model did not converge"
0 1
5 4
[1] "Model did not converge"
0 1
5 4
[1] "Model did not converge"
0 1
5 4
[1] "Model did not converge"
0 1
5 4
[1] "Model did not converge"
0 1
5 4
[1] "Model did not converge"
0 1
5 4
[1] "Model did not converge"
0 1
5 4
[1] "Model did not converge"
0 1
5 4
[1] "Model did not converge"
0 1
5 4
[1] "Model did not converge"
0 1
8 1
[1] "Model did not converge"
0 1
8 1
[1] "Model did not converge"
0 1
8 1
[1] "Model did not converge"
0 1
8 1
[1] "Model did not converge"
0 1
8 1
[1] "Model did not converge"
0 1
8 1
[1] "Model did not converge"
0 1
8 1
[1] "Model did not converge"
0 1
8 1
[1] "Model did not converge"
0 1
8 1
[1] "Model did not converge"
0 1
8 1
[1] "Model did not converge"
0 1
8 1
[1] "Model did not converge"
0 1
8 1
[1] "Model did not converge"
0 1
8 1
[1] "Model did not converge"
0 1
8 1
[1] "Model did not converge"
0 1
8 1
[1] "Model did not converge"
0 1
8 1
[1] "Model did not converge"
0 1
8 1
[1] "Model did not converge"
0 1
8 1
[1] "Model did not converge"
0 1
8 1
[1] "Model did not converge"
0 1
8 1
[1] "Model did not converge"
0 1
8 1
[1] "Model did not converge"
0 1
8 1
[1] "Model did not converge"
0 1
8 1
[1] "Model did not converge"
0 1
8 1
[1] "Model did not converge"
0 1
8 1
[1] "Model did not converge"
0 1
8 1
[1] "Model did not converge"
0 1
8 1
[1] "Model did not converge"
0 1
8 1
[1] "Model did not converge"
0 1
8 1
[1] "Model did not converge"
0 1
8 1
[1] "Model did not converge"
0 1
8 1
[1] "Model did not converge"
0 1
8 1
[1] "Model did not converge"
0 1
8 1
[1] "Model did not converge"
0 1
8 1
[1] "Model did not converge"
0 1
8 1
[1] "Model did not converge"
0 1
8 1
[1] "Model did not converge"
0 1
8 1
[1] "Model did not converge"
0 1
1 8
[1] "Model did not converge"
0 1
1 8
[1] "Model did not converge"
0 1
1 8
[1] "Model did not converge"
0 1
1 8
[1] "Model did not converge"
0 1
1 8
[1] "Model did not converge"
0 1
1 8
[1] "Model did not converge"
0 1
1 8
[1] "Model did not converge"
0 1
1 8
[1] "Model did not converge"
0 1
1 8
[1] "Model did not converge"
0 1
1 8
[1] "Model did not converge"
0 1
1 8
[1] "Model did not converge"
0 1
1 8
[1] "Model did not converge"
0 1
1 8
[1] "Model did not converge"
0 1
1 8
[1] "Model did not converge"
0 1
1 8
[1] "Model did not converge"
0 1
1 8
[1] "Model did not converge"
0 1
1 8
[1] "Model did not converge"
0 1
1 8
[1] "Model did not converge"
0 1
1 8
[1] "Model did not converge"
0 1
1 8
[1] "Model did not converge"
0 1
1 8
[1] "Model did not converge"
0 1
1 8
[1] "Model did not converge"
0 1
1 8
[1] "Model did not converge"
0 1
1 8
[1] "Model did not converge"
0 1
1 8
[1] "Model did not converge"
0 1
1 8
[1] "Model did not converge"
0 1
1 8
[1] "Model did not converge"
0 1
1 8
[1] "Model did not converge"
0 1
1 8
[1] "Model did not converge"
0 1
1 8
[1] "Model did not converge"
0 1
1 8
[1] "Model did not converge"
0 1
1 8
[1] "Model did not converge"
0 1
1 8
[1] "Model did not converge"
0 1
1 8
[1] "Model did not converge"
0 1
1 8
[1] "Model did not converge"
0 1
1 8
[1] "Model did not converge"
0 1
1 8
[1] "Model did not converge"
0 1
3 6
[1] "Model did not converge"
0 1
3 6
[1] "Model did not converge"
0 1
3 6
[1] "Model did not converge"
0 1
3 6
[1] "Model did not converge"
0 1
3 6
[1] "Model did not converge"
0 1
3 6
[1] "Model did not converge"
0 1
3 6
[1] "Model did not converge"
0 1
3 6
[1] "Model did not converge"
0 1
3 6
[1] "Model did not converge"
0 1
3 6
[1] "Model did not converge"
0 1
3 6
[1] "Model did not converge"
0 1
3 6
[1] "Model did not converge"
0 1
3 6
[1] "Model did not converge"
0 1
3 6
[1] "Model did not converge"
0 1
3 6
[1] "Model did not converge"
0 1
3 6
[1] "Model did not converge"
0 1
3 6
[1] "Model did not converge"
0 1
3 6
[1] "Model did not converge"
0 1
3 6
[1] "Model did not converge"
0 1
3 6
[1] "Model did not converge"
0 1
3 6
[1] "Model did not converge"
0 1
3 6
[1] "Model did not converge"
0 1
3 6
[1] "Model did not converge"
0 1
3 6
[1] "Model did not converge"
0 1
3 6
[1] "Model did not converge"
0 1
3 6
[1] "Model did not converge"
0 1
3 6
[1] "Model did not converge"
0 1
3 6
[1] "Model did not converge"
0 1
8 1
[1] "Model did not converge"
0 1
8 1
[1] "Model did not converge"
0 1
8 1
[1] "Model did not converge"
0 1
8 1
[1] "Model did not converge"
0 1
8 1
[1] "Model did not converge"
0 1
8 1
[1] "Model did not converge"
0 1
8 1
[1] "Model did not converge"
0 1
8 1
[1] "Model did not converge"
0 1
8 1
[1] "Model did not converge"
0 1
8 1
[1] "Model did not converge"
0 1
8 1
[1] "Model did not converge"
0 1
8 1
[1] "Model did not converge"
0 1
8 1
[1] "Model did not converge"
0 1
8 1
[1] "Model did not converge"
0 1
8 1
[1] "Model did not converge"
0 1
8 1
[1] "Model did not converge"
0 1
8 1
[1] "Model did not converge"
0 1
8 1
[1] "Model did not converge"
0 1
8 1
[1] "Model did not converge"
0 1
8 1
[1] "Model did not converge"
0 1
8 1
[1] "Model did not converge"
0 1
8 1
[1] "Model did not converge"
0 1
8 1
[1] "Model did not converge"
0 1
8 1
[1] "Model did not converge"
0 1
8 1
[1] "Model did not converge"
0 1
8 1
[1] "Model did not converge"
0 1
8 1
[1] "Model did not converge"
0 1
8 1
[1] "Model did not converge"
0 1
8 1
[1] "Model did not converge"
0 1
8 1
[1] "Model did not converge"
0 1
8 1
[1] "Model did not converge"
0 1
8 1
[1] "Model did not converge"
0 1
8 1
[1] "Model did not converge"
0 1
8 1
[1] "Model did not converge"
0 1
8 1
[1] "Model did not converge"
0 1
8 1
[1] "Model did not converge"
0 1
8 1
[1] "Model did not converge"
0 1
6 3
[1] "Model did not converge"
0 1
6 3
[1] "Model did not converge"
0 1
6 3
[1] "Model did not converge"
0 1
6 3
[1] "Model did not converge"
0 1
6 3
[1] "Model did not converge"
0 1
6 3
[1] "Model did not converge"
0 1
6 3
[1] "Model did not converge"
0 1
6 3
[1] "Model did not converge"
0 1
6 3
[1] "Model did not converge"
0 1
6 3
[1] "Model did not converge"
0 1
6 3
[1] "Model did not converge"
0 1
6 3
[1] "Model did not converge"
0 1
6 3
[1] "Model did not converge"
0 1
6 3
[1] "Model did not converge"
0 1
6 3
[1] "Model did not converge"
0 1
6 3
[1] "Model did not converge"
0 1
6 3
[1] "Model did not converge"
0 1
6 3
[1] "Model did not converge"
0 1
6 3
[1] "Model did not converge"
0 1
6 3
[1] "Model did not converge"
0 1
6 3
[1] "Model did not converge"
0 1
6 3
[1] "Model did not converge"
0 1
6 3
[1] "Model did not converge"
0 1
6 3
[1] "Model did not converge"
0 1
6 3
[1] "Model did not converge"
0 1
6 3
[1] "Model did not converge"
0 1
6 3
[1] "Model did not converge"
0 1
6 3
[1] "Model did not converge"
0 1
6 3
[1] "Model did not converge"
0 1
6 3
[1] "Model did not converge"
0 1
6 3
[1] "Model did not converge"
0 1
6 3
[1] "Model did not converge"
0 1
6 3
[1] "Model did not converge"
0 1
6 3
[1] "Model did not converge"
0 1
6 3
[1] "Model did not converge"
0 1
6 3
[1] "Model did not converge"
0 1
6 3
[1] "Model did not converge"
0 1
4 5
[1] "Model did not converge"
0 1
4 5
[1] "Model did not converge"
0 1
4 5
[1] "Model did not converge"
0 1
4 5
[1] "Model did not converge"
0 1
4 5
[1] "Model did not converge"
0 1
4 5
[1] "Model did not converge"
0 1
4 5
[1] "Model did not converge"
0 1
4 5
[1] "Model did not converge"
0 1
4 5
[1] "Model did not converge"
0 1
4 5
[1] "Model did not converge"
0 1
4 5
[1] "Model did not converge"
0 1
4 5
[1] "Model did not converge"
0 1
5 4
[1] "Model did not converge"
0 1
5 4
[1] "Model did not converge"
0 1
5 4
[1] "Model did not converge"
0 1
5 4
[1] "Model did not converge"
0 1
5 4
[1] "Model did not converge"
0 1
5 4
[1] "Model did not converge"
0 1
5 4
[1] "Model did not converge"
0 1
5 4
[1] "Model did not converge"
0 1
5 4
[1] "Model did not converge"
0 1
5 4
[1] "Model did not converge"
0 1
5 4
[1] "Model did not converge"
0 1
5 4
[1] "Model did not converge"
0 1
5 4
[1] "Model did not converge"
0 1
5 4
[1] "Model did not converge"
0 1
5 4
[1] "Model did not converge"
0 1
5 4
[1] "Model did not converge"
0 1
5 4
[1] "Model did not converge"
0 1
5 4
[1] "Model did not converge"
0 1
5 4
[1] "Model did not converge"
0 1
5 4
[1] "Model did not converge"
0 1
5 4
[1] "Model did not converge"
0 1
5 4
[1] "Model did not converge"
0 1
5 4
[1] "Model did not converge"
0 1
5 4
[1] "Model did not converge"
0 1
5 4
[1] "Model did not converge"
0 1
5 4
[1] "Model did not converge"
0 1
5 4
[1] "Model did not converge"
0 1
5 4
[1] "Model did not converge"
0 1
5 4
[1] "Model did not converge"
0 1
5 4
[1] "Model did not converge"
0 1
5 4
[1] "Model did not converge"
0 1
5 4
[1] "Model did not converge"
0 1
5 4
[1] "Model did not converge"
0 1
5 4
[1] "Model did not converge"
0 1
5 4
[1] "Model did not converge"
0 1
5 4
[1] "Model did not converge"
0 1
5 4
[1] "Model did not converge"
0 1
5 4
[1] "Model did not converge"
0 1
5 4
[1] "Model did not converge"
0 1
5 4
[1] "Model did not converge"
0 1
5 4
[1] "Model did not converge"
0 1
5 4
[1] "Model did not converge"
0 1
5 4
[1] "Model did not converge"
0 1
5 4
[1] "Model did not converge"
0 1
5 4
[1] "Model did not converge"
0 1
5 4
[1] "Model did not converge"
0 1
5 4
[1] "Model did not converge"
0 1
5 4
[1] "Model did not converge"
0 1
5 4
[1] "Model did not converge"
0 1
5 4
[1] "Model did not converge"
0 1
5 4
[1] "Model did not converge"
0 1
5 4
[1] "Model did not converge"
0 1
5 4
[1] "Model did not converge"
0 1
5 4
[1] "Model did not converge"
0 1
5 4
[1] "Model did not converge"
0 1
5 4
[1] "Model did not converge"
0 1
5 4
[1] "Model did not converge"
0 1
5 4
[1] "Model did not converge"
0 1
5 4
[1] "Model did not converge"
0 1
5 4
[1] "Model did not converge"
0 1
5 4
[1] "Model did not converge"
0 1
5 4
[1] "Model did not converge"
0 1
5 4
[1] "Model did not converge"
0 1
5 4
[1] "Model did not converge"
0 1
5 4
[1] "Model did not converge"
0 1
8 1
[1] "Model did not converge"
0 1
8 1
[1] "Model did not converge"
0 1
8 1
[1] "Model did not converge"
0 1
8 1
[1] "Model did not converge"
0 1
8 1
[1] "Model did not converge"
0 1
8 1
[1] "Model did not converge"
0 1
8 1
[1] "Model did not converge"
0 1
8 1
[1] "Model did not converge"
0 1
8 1
[1] "Model did not converge"
0 1
8 1
[1] "Model did not converge"
0 1
8 1
[1] "Model did not converge"
0 1
8 1
[1] "Model did not converge"
0 1
8 1
[1] "Model did not converge"
0 1
8 1
[1] "Model did not converge"
0 1
8 1
[1] "Model did not converge"
0 1
8 1
[1] "Model did not converge"
0 1
8 1
[1] "Model did not converge"
0 1
8 1
[1] "Model did not converge"
0 1
8 1
[1] "Model did not converge"
0 1
8 1
[1] "Model did not converge"
0 1
8 1
[1] "Model did not converge"
0 1
8 1
[1] "Model did not converge"
0 1
8 1
[1] "Model did not converge"
0 1
8 1
[1] "Model did not converge"
0 1
8 1
[1] "Model did not converge"
0 1
8 1
[1] "Model did not converge"
0 1
8 1
[1] "Model did not converge"
0 1
8 1
[1] "Model did not converge"
0 1
8 1
[1] "Model did not converge"
0 1
8 1
[1] "Model did not converge"
0 1
8 1
[1] "Model did not converge"
0 1
8 1
[1] "Model did not converge"
0 1
8 1
[1] "Model did not converge"
0 1
8 1
[1] "Model did not converge"
0 1
8 1
[1] "Model did not converge"
0 1
8 1
[1] "Model did not converge"
0 1
8 1
[1] "Model did not converge"
0 1
8 1
[1] "Model did not converge"
0 1
8 1
[1] "Model did not converge"
0 1
8 1
[1] "Model did not converge"
0 1
8 1
[1] "Model did not converge"
0 1
8 1
[1] "Model did not converge"
0 1
8 1
[1] "Model did not converge"
0 1
8 1
[1] "Model did not converge"
0 1
8 1
[1] "Model did not converge"
0 1
8 1
[1] "Model did not converge"
0 1
8 1
[1] "Model did not converge"
0 1
8 1
[1] "Model did not converge"
0 1
8 1
[1] "Model did not converge"
0 1
8 1
[1] "Model did not converge"
0 1
8 1
[1] "Model did not converge"
0 1
8 1
[1] "Model did not converge"
0 1
8 1
[1] "Model did not converge"
0 1
8 1
[1] "Model did not converge"
0 1
8 1
[1] "Model did not converge"
0 1
8 1
[1] "Model did not converge"
0 1
8 1
[1] "Model did not converge"
0 1
8 1
[1] "Model did not converge"
0 1
8 1
[1] "Model did not converge"
0 1
8 1
[1] "Model did not converge"
0 1
8 1
[1] "Model did not converge"
0 1
8 1
[1] "Model did not converge"
0 1
8 1
[1] "Model did not converge"
0 1
8 1
[1] "Model did not converge"
0 1
8 1
[1] "Model did not converge"
0 1
8 1
[1] "Model did not converge"
0 1
8 1
[1] "Model did not converge"
0 1
8 1
[1] "Model did not converge"
0 1
8 1
[1] "Model did not converge"
0 1
8 1
[1] "Model did not converge"
0 1
8 1
[1] "Model did not converge"
0 1
8 1
[1] "Model did not converge"
0 1
8 1
[1] "Model did not converge"
0 1
8 1
[1] "Model did not converge"
0 1
8 1
[1] "Model did not converge"
0 1
8 1
[1] "Model did not converge"
0 1
8 1
[1] "Model did not converge"
0 1
8 1
[1] "Model did not converge"
0 1
8 1
[1] "Model did not converge"
0 1
8 1
[1] "Model did not converge"
0 1
8 1
[1] "Model did not converge"
0 1
8 1
[1] "Model did not converge"
0 1
8 1
[1] "Model did not converge"
0 1
8 1
[1] "Model did not converge"
0 1
8 1
[1] "Model did not converge"
0 1
8 1
[1] "Model did not converge"
0 1
8 1
[1] "Model did not converge"
0 1
8 1
[1] "Model did not converge"
0 1
8 1
[1] "Model did not converge"
0 1
8 1
[1] "Model did not converge"
0 1
8 1
[1] "Model did not converge"
0 1
8 1
[1] "Model did not converge"
0 1
8 1
[1] "Model did not converge"
0 1
8 1
[1] "Model did not converge"
0 1
8 1
[1] "Model did not converge"
0 1
8 1
[1] "Model did not converge"
0 1
8 1
[1] "Model did not converge"
0 1
8 1
[1] "Model did not converge"
0 1
8 1
[1] "Model did not converge"
0 1
8 1
[1] "Model did not converge"
0 1
7 2
[1] "Model did not converge"
0 1
7 2
[1] "Model did not converge"
0 1
7 2
[1] "Model did not converge"
0 1
7 2
[1] "Model did not converge"
0 1
7 2
[1] "Model did not converge"
0 1
7 2
[1] "Model did not converge"
0 1
7 2
[1] "Model did not converge"
0 1
7 2
[1] "Model did not converge"
0 1
7 2
[1] "Model did not converge"
0 1
7 2
[1] "Model did not converge"
0 1
7 2
[1] "Model did not converge"
0 1
7 2
[1] "Model did not converge"
0 1
7 2
[1] "Model did not converge"
0 1
7 2
[1] "Model did not converge"
0 1
7 2
[1] "Model did not converge"
0 1
7 2
[1] "Model did not converge"
0 1
7 2
[1] "Model did not converge"
0 1
7 2
[1] "Model did not converge"
0 1
7 2
[1] "Model did not converge"
0 1
7 2
[1] "Model did not converge"
0 1
7 2
[1] "Model did not converge"
0 1
7 2
[1] "Model did not converge"
0 1
7 2
[1] "Model did not converge"
0 1
7 2
[1] "Model did not converge"
0 1
7 2
[1] "Model did not converge"
0 1
7 2
[1] "Model did not converge"
0 1
7 2
[1] "Model did not converge"
0 1
7 2
[1] "Model did not converge"
0 1
7 2
[1] "Model did not converge"
0 1
7 2
[1] "Model did not converge"
0 1
7 2
[1] "Model did not converge"
0 1
7 2
[1] "Model did not converge"
0 1
7 2
[1] "Model did not converge"
0 1
7 2
[1] "Model did not converge"
0 1
7 2
[1] "Model did not converge"
0 1
7 2
[1] "Model did not converge"
0 1
7 2
[1] "Model did not converge"
0 1
7 2
[1] "Model did not converge"
0 1
7 2
[1] "Model did not converge"
0 1
7 2
[1] "Model did not converge"
0 1
7 2
[1] "Model did not converge"
0 1
7 2
[1] "Model did not converge"
0 1
7 2
[1] "Model did not converge"
0 1
7 2
[1] "Model did not converge"
0 1
7 2
[1] "Model did not converge"
0 1
7 2
[1] "Model did not converge"
0 1
7 2
[1] "Model did not converge"
0 1
7 2
[1] "Model did not converge"
0 1
7 2
[1] "Model did not converge"
0 1
7 2
[1] "Model did not converge"
0 1
5 4
[1] "Model did not converge"
0 1
5 4
[1] "Model did not converge"
0 1
5 4
[1] "Model did not converge"
0 1
5 4
[1] "Model did not converge"
0 1
5 4
[1] "Model did not converge"
0 1
5 4
[1] "Model did not converge"
0 1
5 4
[1] "Model did not converge"
0 1
5 4
[1] "Model did not converge"
0 1
5 4
[1] "Model did not converge"
0 1
5 4
[1] "Model did not converge"
0 1
5 4
[1] "Model did not converge"
0 1
5 4
[1] "Model did not converge"
0 1
5 4
[1] "Model did not converge"
0 1
5 4
[1] "Model did not converge"
0 1
5 4
[1] "Model did not converge"
0 1
5 4
[1] "Model did not converge"
0 1
5 4
[1] "Model did not converge"
0 1
5 4
[1] "Model did not converge"
0 1
5 4
[1] "Model did not converge"
0 1
5 4
[1] "Model did not converge"
0 1
5 4
[1] "Model did not converge"
0 1
5 4
[1] "Model did not converge"
0 1
5 4
[1] "Model did not converge"
0 1
5 4
[1] "Model did not converge"
0 1
5 4
[1] "Model did not converge"
0 1
5 4
[1] "Model did not converge"
0 1
5 4
[1] "Model did not converge"
0 1
5 4
[1] "Model did not converge"
0 1
5 4
[1] "Model did not converge"
0 1
5 4
[1] "Model did not converge"
0 1
5 4
[1] "Model did not converge"
0 1
5 4
[1] "Model did not converge"
0 1
5 4
[1] "Model did not converge"
0 1
5 4
[1] "Model did not converge"
0 1
5 4
[1] "Model did not converge"
0 1
5 4
[1] "Model did not converge"
0 1
5 4
[1] "Model did not converge"
0 1
8 1
[1] "Model did not converge"
0 1
8 1
[1] "Model did not converge"
0 1
8 1
[1] "Model did not converge"
0 1
8 1
[1] "Model did not converge"
0 1
8 1
[1] "Model did not converge"
0 1
8 1
[1] "Model did not converge"
0 1
8 1
[1] "Model did not converge"
0 1
8 1
[1] "Model did not converge"
0 1
8 1
[1] "Model did not converge"
0 1
8 1
[1] "Model did not converge"
0 1
8 1
[1] "Model did not converge"
0 1
8 1
[1] "Model did not converge"
0 1
8 1
[1] "Model did not converge"
0 1
8 1
[1] "Model did not converge"
0 1
8 1
[1] "Model did not converge"
0 1
8 1
[1] "Model did not converge"
0 1
8 1
[1] "Model did not converge"
0 1
8 1
[1] "Model did not converge"
0 1
8 1
[1] "Model did not converge"
0 1
8 1
[1] "Model did not converge"
0 1
8 1
[1] "Model did not converge"
0 1
8 1
[1] "Model did not converge"
0 1
8 1
[1] "Model did not converge"
0 1
8 1
[1] "Model did not converge"
0 1
8 1
[1] "Model did not converge"
0 1
8 1
[1] "Model did not converge"
0 1
8 1
[1] "Model did not converge"
0 1
8 1
[1] "Model did not converge"
0 1
8 1
[1] "Model did not converge"
0 1
8 1
[1] "Model did not converge"
0 1
8 1
[1] "Model did not converge"
0 1
8 1
[1] "Model did not converge"
0 1
8 1
[1] "Model did not converge"
0 1
8 1
[1] "Model did not converge"
0 1
8 1
[1] "Model did not converge"
0 1
8 1
[1] "Model did not converge"
0 1
8 1
[1] "Model did not converge"
0 1
8 1
[1] "Model did not converge"
0 1
8 1
[1] "Model did not converge"
0 1
8 1
[1] "Model did not converge"
0 1
8 1
[1] "Model did not converge"
0 1
8 1
[1] "Model did not converge"
0 1
8 1
[1] "Model did not converge"
0 1
8 1
[1] "Model did not converge"
0 1
8 1
[1] "Model did not converge"
0 1
8 1
[1] "Model did not converge"
0 1
8 1
[1] "Model did not converge"
0 1
8 1
[1] "Model did not converge"
0 1
8 1
[1] "Model did not converge"
0 1
8 1
[1] "Model did not converge"
0 1
7 2
[1] "Model did not converge"
0 1
7 2
[1] "Model did not converge"
0 1
7 2
[1] "Model did not converge"
0 1
7 2
[1] "Model did not converge"
0 1
7 2
[1] "Model did not converge"
0 1
7 2
[1] "Model did not converge"
0 1
7 2
[1] "Model did not converge"
0 1
7 2
[1] "Model did not converge"
0 1
7 2
[1] "Model did not converge"
0 1
7 2
[1] "Model did not converge"
0 1
7 2
[1] "Model did not converge"
0 1
7 2
[1] "Model did not converge"
0 1
7 2
[1] "Model did not converge"
0 1
7 2
[1] "Model did not converge"
0 1
7 2
[1] "Model did not converge"
0 1
7 2
[1] "Model did not converge"
0 1
7 2
[1] "Model did not converge"
0 1
7 2
[1] "Model did not converge"
0 1
7 2
[1] "Model did not converge"
0 1
7 2
[1] "Model did not converge"
0 1
7 2
[1] "Model did not converge"
0 1
7 2
[1] "Model did not converge"
0 1
7 2
[1] "Model did not converge"
0 1
7 2
[1] "Model did not converge"
0 1
7 2
[1] "Model did not converge"
0 1
7 2
[1] "Model did not converge"
0 1
7 2
[1] "Model did not converge"
0 1
7 2
[1] "Model did not converge"
0 1
7 2
[1] "Model did not converge"
0 1
7 2
[1] "Model did not converge"
0 1
7 2
[1] "Model did not converge"
0 1
7 2
[1] "Model did not converge"
0 1
7 2
[1] "Model did not converge"
0 1
7 2
[1] "Model did not converge"
0 1
7 2
[1] "Model did not converge"
0 1
7 2
[1] "Model did not converge"
0 1
7 2
[1] "Model did not converge"
0 1
7 2
[1] "Model did not converge"
0 1
7 2
[1] "Model did not converge"
0 1
7 2
[1] "Model did not converge"
0 1
7 2
[1] "Model did not converge"
0 1
7 2
[1] "Model did not converge"
0 1
7 2
[1] "Model did not converge"
0 1
7 2
[1] "Model did not converge"
0 1
7 2
[1] "Model did not converge"
0 1
7 2
[1] "Model did not converge"
0 1
7 2
[1] "Model did not converge"
0 1
7 2
[1] "Model did not converge"
0 1
7 2
[1] "Model did not converge"
0 1
7 2
|
| | 0%
|
|======================================================================| 100%
[1] 1 1 -1
[1] 0
[1] 0
[,1] [,2] [,3]
lower_bounds 0 0 0
upper_bounds 1 1 -1
|
| | 0%
|
|======================================================================| 100%
|
| | 0%
|
|======================================================================| 100%
|
| | 0%
|
|======================================================================| 100%
|
| | 0%
|
|======================================================================| 100%
|
| | 0%
|
|======================================================================| 100%
|
| | 0%
|
|======================================================================| 100%
|
| | 0%
|
|======================================================================| 100%
== testthat results ===========================================================
OK: 142 SKIPPED: 0 FAILED: 0
>
> proc.time()
user system elapsed
134.32 2.54 430.68
|
PharmacoGx.Rcheck/tests_x64/testthat.Rout
R Under development (unstable) (2019-01-10 r75962) -- "Unsuffered Consequences"
Copyright (C) 2019 The R Foundation for Statistical Computing
Platform: x86_64-w64-mingw32/x64 (64-bit)
R is free software and comes with ABSOLUTELY NO WARRANTY.
You are welcome to redistribute it under certain conditions.
Type 'license()' or 'licence()' for distribution details.
R is a collaborative project with many contributors.
Type 'contributors()' for more information and
'citation()' on how to cite R or R packages in publications.
Type 'demo()' for some demos, 'help()' for on-line help, or
'help.start()' for an HTML browser interface to help.
Type 'q()' to quit R.
> Sys.unsetenv("R_TESTS")
>
> library(testthat)
> library(PharmacoGx)
>
> test_check("PharmacoGx")
[1] NA 3
[1] 1 2 Inf
[1] NA 3
[1] 1 2 Inf
|
| | 0%
|
|======================================================================| 100%
|
| | 0%
|
|======================================================================| 100%
[1] "Model did not converge"
0 1
8 1
[1] "Model did not converge"
0 1
8 1
[1] "Model did not converge"
0 1
8 1
[1] "Model did not converge"
0 1
8 1
[1] "Model did not converge"
0 1
8 1
[1] "Model did not converge"
0 1
8 1
[1] "Model did not converge"
0 1
8 1
[1] "Model did not converge"
0 1
8 1
[1] "Model did not converge"
0 1
8 1
[1] "Model did not converge"
0 1
8 1
[1] "Model did not converge"
0 1
8 1
[1] "Model did not converge"
0 1
8 1
[1] "Model did not converge"
0 1
8 1
[1] "Model did not converge"
0 1
8 1
[1] "Model did not converge"
0 1
8 1
[1] "Model did not converge"
0 1
8 1
[1] "Model did not converge"
0 1
8 1
[1] "Model did not converge"
0 1
8 1
[1] "Model did not converge"
0 1
8 1
[1] "Model did not converge"
0 1
8 1
[1] "Model did not converge"
0 1
8 1
[1] "Model did not converge"
0 1
8 1
[1] "Model did not converge"
0 1
8 1
[1] "Model did not converge"
0 1
8 1
[1] "Model did not converge"
0 1
8 1
[1] "Model did not converge"
0 1
8 1
[1] "Model did not converge"
0 1
8 1
[1] "Model did not converge"
0 1
8 1
[1] "Model did not converge"
0 1
8 1
[1] "Model did not converge"
0 1
8 1
[1] "Model did not converge"
0 1
8 1
[1] "Model did not converge"
0 1
8 1
[1] "Model did not converge"
0 1
8 1
[1] "Model did not converge"
0 1
8 1
[1] "Model did not converge"
0 1
8 1
[1] "Model did not converge"
0 1
8 1
[1] "Model did not converge"
0 1
8 1
[1] "Model did not converge"
0 1
8 1
[1] "Model did not converge"
0 1
8 1
[1] "Model did not converge"
0 1
8 1
[1] "Model did not converge"
0 1
8 1
[1] "Model did not converge"
0 1
8 1
[1] "Model did not converge"
0 1
8 1
[1] "Model did not converge"
0 1
8 1
[1] "Model did not converge"
0 1
8 1
[1] "Model did not converge"
0 1
8 1
[1] "Model did not converge"
0 1
8 1
[1] "Model did not converge"
0 1
8 1
[1] "Model did not converge"
0 1
8 1
[1] "Model did not converge"
0 1
8 1
[1] "Model did not converge"
0 1
2 7
[1] "Model did not converge"
0 1
2 7
[1] "Model did not converge"
0 1
2 7
[1] "Model did not converge"
0 1
2 7
[1] "Model did not converge"
0 1
2 7
[1] "Model did not converge"
0 1
2 7
[1] "Model did not converge"
0 1
2 7
[1] "Model did not converge"
0 1
2 7
[1] "Model did not converge"
0 1
2 7
[1] "Model did not converge"
0 1
2 7
[1] "Model did not converge"
0 1
2 7
[1] "Model did not converge"
0 1
2 7
[1] "Model did not converge"
0 1
2 7
[1] "Model did not converge"
0 1
2 7
[1] "Model did not converge"
0 1
2 7
[1] "Model did not converge"
0 1
2 7
[1] "Model did not converge"
0 1
2 7
[1] "Model did not converge"
0 1
2 7
[1] "Model did not converge"
0 1
2 7
[1] "Model did not converge"
0 1
2 7
[1] "Model did not converge"
0 1
2 7
[1] "Model did not converge"
0 1
2 7
[1] "Model did not converge"
0 1
2 7
[1] "Model did not converge"
0 1
2 7
[1] "Model did not converge"
0 1
2 7
[1] "Model did not converge"
0 1
2 7
[1] "Model did not converge"
0 1
2 7
[1] "Model did not converge"
0 1
2 7
[1] "Model did not converge"
0 1
6 3
[1] "Model did not converge"
0 1
6 3
[1] "Model did not converge"
0 1
6 3
[1] "Model did not converge"
0 1
6 3
[1] "Model did not converge"
0 1
6 3
[1] "Model did not converge"
0 1
6 3
[1] "Model did not converge"
0 1
6 3
[1] "Model did not converge"
0 1
6 3
[1] "Model did not converge"
0 1
6 3
[1] "Model did not converge"
0 1
6 3
[1] "Model did not converge"
0 1
6 3
[1] "Model did not converge"
0 1
6 3
[1] "Model did not converge"
0 1
6 3
[1] "Model did not converge"
0 1
6 3
[1] "Model did not converge"
0 1
6 3
[1] "Model did not converge"
0 1
6 3
[1] "Model did not converge"
0 1
6 3
[1] "Model did not converge"
0 1
6 3
[1] "Model did not converge"
0 1
6 3
[1] "Model did not converge"
0 1
6 3
[1] "Model did not converge"
0 1
6 3
[1] "Model did not converge"
0 1
6 3
[1] "Model did not converge"
0 1
6 3
[1] "Model did not converge"
0 1
6 3
[1] "Model did not converge"
0 1
6 3
[1] "Model did not converge"
0 1
6 3
[1] "Model did not converge"
0 1
6 3
[1] "Model did not converge"
0 1
6 3
[1] "Model did not converge"
0 1
6 3
[1] "Model did not converge"
0 1
6 3
[1] "Model did not converge"
0 1
6 3
[1] "Model did not converge"
0 1
6 3
[1] "Model did not converge"
0 1
6 3
[1] "Model did not converge"
0 1
6 3
[1] "Model did not converge"
0 1
6 3
[1] "Model did not converge"
0 1
6 3
[1] "Model did not converge"
0 1
6 3
[1] "Model did not converge"
0 1
6 3
[1] "Model did not converge"
0 1
6 3
[1] "Model did not converge"
0 1
6 3
[1] "Model did not converge"
0 1
6 3
[1] "Model did not converge"
0 1
6 3
[1] "Model did not converge"
0 1
6 3
[1] "Model did not converge"
0 1
6 3
[1] "Model did not converge"
0 1
6 3
[1] "Model did not converge"
0 1
6 3
[1] "Model did not converge"
0 1
6 3
[1] "Model did not converge"
0 1
6 3
[1] "Model did not converge"
0 1
6 3
[1] "Model did not converge"
0 1
6 3
[1] "Model did not converge"
0 1
8 1
[1] "Model did not converge"
0 1
8 1
[1] "Model did not converge"
0 1
8 1
[1] "Model did not converge"
0 1
8 1
[1] "Model did not converge"
0 1
8 1
[1] "Model did not converge"
0 1
8 1
[1] "Model did not converge"
0 1
8 1
[1] "Model did not converge"
0 1
8 1
[1] "Model did not converge"
0 1
8 1
[1] "Model did not converge"
0 1
8 1
[1] "Model did not converge"
0 1
8 1
[1] "Model did not converge"
0 1
8 1
[1] "Model did not converge"
0 1
8 1
[1] "Model did not converge"
0 1
8 1
[1] "Model did not converge"
0 1
8 1
[1] "Model did not converge"
0 1
8 1
[1] "Model did not converge"
0 1
8 1
[1] "Model did not converge"
0 1
8 1
[1] "Model did not converge"
0 1
8 1
[1] "Model did not converge"
0 1
8 1
[1] "Model did not converge"
0 1
8 1
[1] "Model did not converge"
0 1
8 1
[1] "Model did not converge"
0 1
8 1
[1] "Model did not converge"
0 1
8 1
[1] "Model did not converge"
0 1
8 1
[1] "Model did not converge"
0 1
8 1
[1] "Model did not converge"
0 1
8 1
[1] "Model did not converge"
0 1
8 1
[1] "Model did not converge"
0 1
8 1
[1] "Model did not converge"
0 1
8 1
[1] "Model did not converge"
0 1
8 1
[1] "Model did not converge"
0 1
8 1
[1] "Model did not converge"
0 1
8 1
[1] "Model did not converge"
0 1
8 1
[1] "Model did not converge"
0 1
8 1
[1] "Model did not converge"
0 1
8 1
[1] "Model did not converge"
0 1
8 1
[1] "Model did not converge"
0 1
8 1
[1] "Model did not converge"
0 1
8 1
[1] "Model did not converge"
0 1
8 1
[1] "Model did not converge"
0 1
8 1
[1] "Model did not converge"
0 1
8 1
[1] "Model did not converge"
0 1
8 1
[1] "Model did not converge"
0 1
8 1
[1] "Model did not converge"
0 1
8 1
[1] "Model did not converge"
0 1
8 1
[1] "Model did not converge"
0 1
8 1
[1] "Model did not converge"
0 1
8 1
[1] "Model did not converge"
0 1
8 1
[1] "Model did not converge"
0 1
8 1
[1] "Model did not converge"
0 1
3 6
[1] "Model did not converge"
0 1
3 6
[1] "Model did not converge"
0 1
3 6
[1] "Model did not converge"
0 1
3 6
[1] "Model did not converge"
0 1
3 6
[1] "Model did not converge"
0 1
3 6
[1] "Model did not converge"
0 1
3 6
[1] "Model did not converge"
0 1
3 6
[1] "Model did not converge"
0 1
3 6
[1] "Model did not converge"
0 1
3 6
[1] "Model did not converge"
0 1
3 6
[1] "Model did not converge"
0 1
3 6
[1] "Model did not converge"
0 1
3 6
[1] "Model did not converge"
0 1
3 6
[1] "Model did not converge"
0 1
3 6
[1] "Model did not converge"
0 1
3 6
[1] "Model did not converge"
0 1
3 6
[1] "Model did not converge"
0 1
3 6
[1] "Model did not converge"
0 1
3 6
[1] "Model did not converge"
0 1
1 8
[1] "Model did not converge"
0 1
1 8
[1] "Model did not converge"
0 1
1 8
[1] "Model did not converge"
0 1
1 8
[1] "Model did not converge"
0 1
1 8
[1] "Model did not converge"
0 1
1 8
[1] "Model did not converge"
0 1
1 8
[1] "Model did not converge"
0 1
1 8
[1] "Model did not converge"
0 1
1 8
[1] "Model did not converge"
0 1
1 8
[1] "Model did not converge"
0 1
1 8
[1] "Model did not converge"
0 1
1 8
[1] "Model did not converge"
0 1
1 8
[1] "Model did not converge"
0 1
1 8
[1] "Model did not converge"
0 1
1 8
[1] "Model did not converge"
0 1
1 8
[1] "Model did not converge"
0 1
1 8
[1] "Model did not converge"
0 1
1 8
[1] "Model did not converge"
0 1
1 8
[1] "Model did not converge"
0 1
1 8
[1] "Model did not converge"
0 1
1 8
[1] "Model did not converge"
0 1
1 8
[1] "Model did not converge"
0 1
1 8
[1] "Model did not converge"
0 1
1 8
[1] "Model did not converge"
0 1
1 8
[1] "Model did not converge"
0 1
1 8
[1] "Model did not converge"
0 1
1 8
[1] "Model did not converge"
0 1
1 8
[1] "Model did not converge"
0 1
1 8
[1] "Model did not converge"
0 1
1 8
[1] "Model did not converge"
0 1
1 8
[1] "Model did not converge"
0 1
1 8
[1] "Model did not converge"
0 1
1 8
[1] "Model did not converge"
0 1
1 8
[1] "Model did not converge"
0 1
1 8
[1] "Model did not converge"
0 1
1 8
[1] "Model did not converge"
0 1
1 8
[1] "Model did not converge"
0 1
8 1
[1] "Model did not converge"
0 1
8 1
[1] "Model did not converge"
0 1
8 1
[1] "Model did not converge"
0 1
8 1
[1] "Model did not converge"
0 1
8 1
[1] "Model did not converge"
0 1
8 1
[1] "Model did not converge"
0 1
8 1
[1] "Model did not converge"
0 1
8 1
[1] "Model did not converge"
0 1
8 1
[1] "Model did not converge"
0 1
8 1
[1] "Model did not converge"
0 1
8 1
[1] "Model did not converge"
0 1
8 1
[1] "Model did not converge"
0 1
8 1
[1] "Model did not converge"
0 1
8 1
[1] "Model did not converge"
0 1
8 1
[1] "Model did not converge"
0 1
8 1
[1] "Model did not converge"
0 1
8 1
[1] "Model did not converge"
0 1
8 1
[1] "Model did not converge"
0 1
8 1
[1] "Model did not converge"
0 1
8 1
[1] "Model did not converge"
0 1
8 1
[1] "Model did not converge"
0 1
8 1
[1] "Model did not converge"
0 1
8 1
[1] "Model did not converge"
0 1
8 1
[1] "Model did not converge"
0 1
8 1
[1] "Model did not converge"
0 1
8 1
[1] "Model did not converge"
0 1
8 1
[1] "Model did not converge"
0 1
8 1
[1] "Model did not converge"
0 1
8 1
[1] "Model did not converge"
0 1
8 1
[1] "Model did not converge"
0 1
8 1
[1] "Model did not converge"
0 1
8 1
[1] "Model did not converge"
0 1
8 1
[1] "Model did not converge"
0 1
8 1
[1] "Model did not converge"
0 1
8 1
[1] "Model did not converge"
0 1
8 1
[1] "Model did not converge"
0 1
8 1
[1] "Model did not converge"
0 1
1 8
[1] "Model did not converge"
0 1
1 8
[1] "Model did not converge"
0 1
1 8
[1] "Model did not converge"
0 1
1 8
[1] "Model did not converge"
0 1
1 8
[1] "Model did not converge"
0 1
1 8
[1] "Model did not converge"
0 1
1 8
[1] "Model did not converge"
0 1
1 8
[1] "Model did not converge"
0 1
1 8
[1] "Model did not converge"
0 1
1 8
[1] "Model did not converge"
0 1
1 8
[1] "Model did not converge"
0 1
1 8
[1] "Model did not converge"
0 1
1 8
[1] "Model did not converge"
0 1
1 8
[1] "Model did not converge"
0 1
1 8
[1] "Model did not converge"
0 1
1 8
[1] "Model did not converge"
0 1
1 8
[1] "Model did not converge"
0 1
1 8
[1] "Model did not converge"
0 1
1 8
[1] "Model did not converge"
0 1
1 8
[1] "Model did not converge"
0 1
1 8
[1] "Model did not converge"
0 1
1 8
[1] "Model did not converge"
0 1
1 8
[1] "Model did not converge"
0 1
1 8
[1] "Model did not converge"
0 1
1 8
[1] "Model did not converge"
0 1
1 8
[1] "Model did not converge"
0 1
1 8
[1] "Model did not converge"
0 1
1 8
[1] "Model did not converge"
0 1
1 8
[1] "Model did not converge"
0 1
1 8
[1] "Model did not converge"
0 1
1 8
[1] "Model did not converge"
0 1
1 8
[1] "Model did not converge"
0 1
1 8
[1] "Model did not converge"
0 1
1 8
[1] "Model did not converge"
0 1
1 8
[1] "Model did not converge"
0 1
1 8
[1] "Model did not converge"
0 1
1 8
[1] "Model did not converge"
0 1
7 2
[1] "Model did not converge"
0 1
7 2
[1] "Model did not converge"
0 1
7 2
[1] "Model did not converge"
0 1
7 2
[1] "Model did not converge"
0 1
7 2
[1] "Model did not converge"
0 1
7 2
[1] "Model did not converge"
0 1
7 2
[1] "Model did not converge"
0 1
7 2
[1] "Model did not converge"
0 1
7 2
[1] "Model did not converge"
0 1
7 2
[1] "Model did not converge"
0 1
7 2
[1] "Model did not converge"
0 1
7 2
[1] "Model did not converge"
0 1
7 2
[1] "Model did not converge"
0 1
7 2
[1] "Model did not converge"
0 1
7 2
[1] "Model did not converge"
0 1
7 2
[1] "Model did not converge"
0 1
7 2
[1] "Model did not converge"
0 1
7 2
[1] "Model did not converge"
0 1
7 2
[1] "Model did not converge"
0 1
7 2
[1] "Model did not converge"
0 1
7 2
[1] "Model did not converge"
0 1
7 2
[1] "Model did not converge"
0 1
7 2
[1] "Model did not converge"
0 1
7 2
[1] "Model did not converge"
0 1
7 2
[1] "Model did not converge"
0 1
7 2
[1] "Model did not converge"
0 1
7 2
[1] "Model did not converge"
0 1
7 2
[1] "Model did not converge"
0 1
7 2
[1] "Model did not converge"
0 1
7 2
[1] "Model did not converge"
0 1
7 2
[1] "Model did not converge"
0 1
7 2
[1] "Model did not converge"
0 1
7 2
[1] "Model did not converge"
0 1
7 2
[1] "Model did not converge"
0 1
7 2
[1] "Model did not converge"
0 1
7 2
[1] "Model did not converge"
0 1
7 2
[1] "Model did not converge"
0 1
7 2
[1] "Model did not converge"
0 1
7 2
[1] "Model did not converge"
0 1
7 2
[1] "Model did not converge"
0 1
7 2
[1] "Model did not converge"
0 1
7 2
[1] "Model did not converge"
0 1
7 2
[1] "Model did not converge"
0 1
7 2
[1] "Model did not converge"
0 1
7 2
[1] "Model did not converge"
0 1
7 2
[1] "Model did not converge"
0 1
7 2
[1] "Model did not converge"
0 1
7 2
[1] "Model did not converge"
0 1
7 2
[1] "Model did not converge"
0 1
7 2
[1] "Model did not converge"
0 1
7 2
[1] "Model did not converge"
0 1
7 2
[1] "Model did not converge"
0 1
7 2
[1] "Model did not converge"
0 1
7 2
[1] "Model did not converge"
0 1
7 2
[1] "Model did not converge"
0 1
7 2
[1] "Model did not converge"
0 1
7 2
[1] "Model did not converge"
0 1
7 2
[1] "Model did not converge"
0 1
7 2
[1] "Model did not converge"
0 1
7 2
[1] "Model did not converge"
0 1
7 2
[1] "Model did not converge"
0 1
7 2
[1] "Model did not converge"
0 1
7 2
[1] "Model did not converge"
0 1
7 2
[1] "Model did not converge"
0 1
7 2
[1] "Model did not converge"
0 1
7 2
[1] "Model did not converge"
0 1
7 2
[1] "Model did not converge"
0 1
7 2
[1] "Model did not converge"
0 1
7 2
[1] "Model did not converge"
0 1
7 2
[1] "Model did not converge"
0 1
7 2
[1] "Model did not converge"
0 1
7 2
[1] "Model did not converge"
0 1
7 2
[1] "Model did not converge"
0 1
7 2
[1] "Model did not converge"
0 1
7 2
[1] "Model did not converge"
0 1
7 2
[1] "Model did not converge"
0 1
7 2
[1] "Model did not converge"
0 1
7 2
[1] "Model did not converge"
0 1
7 2
[1] "Model did not converge"
0 1
7 2
[1] "Model did not converge"
0 1
7 2
[1] "Model did not converge"
0 1
7 2
[1] "Model did not converge"
0 1
7 2
[1] "Model did not converge"
0 1
7 2
[1] "Model did not converge"
0 1
7 2
[1] "Model did not converge"
0 1
7 2
[1] "Model did not converge"
0 1
7 2
[1] "Model did not converge"
0 1
7 2
[1] "Model did not converge"
0 1
7 2
[1] "Model did not converge"
0 1
7 2
[1] "Model did not converge"
0 1
7 2
[1] "Model did not converge"
0 1
7 2
[1] "Model did not converge"
0 1
7 2
[1] "Model did not converge"
0 1
7 2
[1] "Model did not converge"
0 1
7 2
[1] "Model did not converge"
0 1
7 2
[1] "Model did not converge"
0 1
7 2
[1] "Model did not converge"
0 1
7 2
[1] "Model did not converge"
0 1
7 2
[1] "Model did not converge"
0 1
7 2
[1] "Model did not converge"
0 1
6 3
[1] "Model did not converge"
0 1
6 3
[1] "Model did not converge"
0 1
6 3
[1] "Model did not converge"
0 1
6 3
[1] "Model did not converge"
0 1
6 3
[1] "Model did not converge"
0 1
6 3
[1] "Model did not converge"
0 1
6 3
[1] "Model did not converge"
0 1
6 3
[1] "Model did not converge"
0 1
6 3
[1] "Model did not converge"
0 1
6 3
[1] "Model did not converge"
0 1
6 3
[1] "Model did not converge"
0 1
6 3
[1] "Model did not converge"
0 1
6 3
[1] "Model did not converge"
0 1
6 3
[1] "Model did not converge"
0 1
6 3
[1] "Model did not converge"
0 1
6 3
[1] "Model did not converge"
0 1
6 3
[1] "Model did not converge"
0 1
6 3
[1] "Model did not converge"
0 1
6 3
[1] "Model did not converge"
0 1
6 3
[1] "Model did not converge"
0 1
6 3
[1] "Model did not converge"
0 1
6 3
[1] "Model did not converge"
0 1
3 6
[1] "Model did not converge"
0 1
3 6
[1] "Model did not converge"
0 1
3 6
[1] "Model did not converge"
0 1
3 6
[1] "Model did not converge"
0 1
3 6
[1] "Model did not converge"
0 1
3 6
[1] "Model did not converge"
0 1
3 6
[1] "Model did not converge"
0 1
3 6
[1] "Model did not converge"
0 1
3 6
[1] "Model did not converge"
0 1
3 6
[1] "Model did not converge"
0 1
3 6
[1] "Model did not converge"
0 1
3 6
[1] "Model did not converge"
0 1
3 6
[1] "Model did not converge"
0 1
3 6
[1] "Model did not converge"
0 1
3 6
[1] "Model did not converge"
0 1
3 6
[1] "Model did not converge"
0 1
3 6
[1] "Model did not converge"
0 1
3 6
[1] "Model did not converge"
0 1
3 6
[1] "Model did not converge"
0 1
3 6
[1] "Model did not converge"
0 1
3 6
[1] "Model did not converge"
0 1
3 6
[1] "Model did not converge"
0 1
3 6
[1] "Model did not converge"
0 1
3 6
[1] "Model did not converge"
0 1
3 6
[1] "Model did not converge"
0 1
3 6
[1] "Model did not converge"
0 1
3 6
[1] "Model did not converge"
0 1
3 6
[1] "Model did not converge"
0 1
4 5
[1] "Model did not converge"
0 1
4 5
[1] "Model did not converge"
0 1
4 5
[1] "Model did not converge"
0 1
4 5
[1] "Model did not converge"
0 1
4 5
[1] "Model did not converge"
0 1
4 5
[1] "Model did not converge"
0 1
4 5
[1] "Model did not converge"
0 1
4 5
[1] "Model did not converge"
0 1
4 5
[1] "Model did not converge"
0 1
4 5
[1] "Model did not converge"
0 1
4 5
[1] "Model did not converge"
0 1
4 5
[1] "Model did not converge"
0 1
4 5
[1] "Model did not converge"
0 1
4 5
[1] "Model did not converge"
0 1
4 5
[1] "Model did not converge"
0 1
4 5
[1] "Model did not converge"
0 1
4 5
[1] "Model did not converge"
0 1
4 5
[1] "Model did not converge"
0 1
4 5
[1] "Model did not converge"
0 1
4 5
[1] "Model did not converge"
0 1
4 5
[1] "Model did not converge"
0 1
4 5
[1] "Model did not converge"
0 1
4 5
[1] "Model did not converge"
0 1
4 5
[1] "Model did not converge"
0 1
4 5
[1] "Model did not converge"
0 1
4 5
[1] "Model did not converge"
0 1
4 5
[1] "Model did not converge"
0 1
4 5
[1] "Model did not converge"
0 1
4 5
[1] "Model did not converge"
0 1
4 5
[1] "Model did not converge"
0 1
4 5
[1] "Model did not converge"
0 1
4 5
[1] "Model did not converge"
0 1
4 5
[1] "Model did not converge"
0 1
4 5
[1] "Model did not converge"
0 1
4 5
[1] "Model did not converge"
0 1
4 5
[1] "Model did not converge"
0 1
4 5
[1] "Model did not converge"
0 1
5 4
[1] "Model did not converge"
0 1
5 4
[1] "Model did not converge"
0 1
5 4
[1] "Model did not converge"
0 1
5 4
[1] "Model did not converge"
0 1
5 4
[1] "Model did not converge"
0 1
5 4
[1] "Model did not converge"
0 1
5 4
[1] "Model did not converge"
0 1
5 4
[1] "Model did not converge"
0 1
5 4
[1] "Model did not converge"
0 1
5 4
[1] "Model did not converge"
0 1
5 4
[1] "Model did not converge"
0 1
5 4
[1] "Model did not converge"
0 1
5 4
[1] "Model did not converge"
0 1
5 4
[1] "Model did not converge"
0 1
5 4
[1] "Model did not converge"
0 1
5 4
[1] "Model did not converge"
0 1
5 4
[1] "Model did not converge"
0 1
5 4
[1] "Model did not converge"
0 1
5 4
[1] "Model did not converge"
0 1
5 4
[1] "Model did not converge"
0 1
5 4
[1] "Model did not converge"
0 1
5 4
[1] "Model did not converge"
0 1
5 4
[1] "Model did not converge"
0 1
5 4
[1] "Model did not converge"
0 1
5 4
[1] "Model did not converge"
0 1
5 4
[1] "Model did not converge"
0 1
5 4
[1] "Model did not converge"
0 1
5 4
[1] "Model did not converge"
0 1
8 1
[1] "Model did not converge"
0 1
8 1
[1] "Model did not converge"
0 1
8 1
[1] "Model did not converge"
0 1
8 1
[1] "Model did not converge"
0 1
8 1
[1] "Model did not converge"
0 1
8 1
[1] "Model did not converge"
0 1
8 1
[1] "Model did not converge"
0 1
8 1
[1] "Model did not converge"
0 1
8 1
[1] "Model did not converge"
0 1
8 1
[1] "Model did not converge"
0 1
8 1
[1] "Model did not converge"
0 1
8 1
[1] "Model did not converge"
0 1
8 1
[1] "Model did not converge"
0 1
8 1
[1] "Model did not converge"
0 1
8 1
[1] "Model did not converge"
0 1
8 1
[1] "Model did not converge"
0 1
8 1
[1] "Model did not converge"
0 1
8 1
[1] "Model did not converge"
0 1
8 1
[1] "Model did not converge"
0 1
8 1
[1] "Model did not converge"
0 1
8 1
[1] "Model did not converge"
0 1
8 1
[1] "Model did not converge"
0 1
8 1
[1] "Model did not converge"
0 1
8 1
[1] "Model did not converge"
0 1
8 1
[1] "Model did not converge"
0 1
8 1
[1] "Model did not converge"
0 1
8 1
[1] "Model did not converge"
0 1
8 1
[1] "Model did not converge"
0 1
8 1
[1] "Model did not converge"
0 1
8 1
[1] "Model did not converge"
0 1
8 1
[1] "Model did not converge"
0 1
8 1
[1] "Model did not converge"
0 1
8 1
[1] "Model did not converge"
0 1
8 1
[1] "Model did not converge"
0 1
8 1
[1] "Model did not converge"
0 1
8 1
[1] "Model did not converge"
0 1
8 1
[1] "Model did not converge"
0 1
8 1
[1] "Model did not converge"
0 1
8 1
[1] "Model did not converge"
0 1
8 1
[1] "Model did not converge"
0 1
8 1
[1] "Model did not converge"
0 1
8 1
[1] "Model did not converge"
0 1
8 1
[1] "Model did not converge"
0 1
8 1
[1] "Model did not converge"
0 1
8 1
[1] "Model did not converge"
0 1
8 1
[1] "Model did not converge"
0 1
8 1
[1] "Model did not converge"
0 1
8 1
[1] "Model did not converge"
0 1
8 1
[1] "Model did not converge"
0 1
8 1
[1] "Model did not converge"
0 1
8 1
[1] "Model did not converge"
0 1
8 1
[1] "Model did not converge"
0 1
8 1
[1] "Model did not converge"
0 1
8 1
[1] "Model did not converge"
0 1
8 1
[1] "Model did not converge"
0 1
8 1
[1] "Model did not converge"
0 1
8 1
[1] "Model did not converge"
0 1
8 1
[1] "Model did not converge"
0 1
8 1
[1] "Model did not converge"
0 1
8 1
[1] "Model did not converge"
0 1
8 1
[1] "Model did not converge"
0 1
8 1
[1] "Model did not converge"
0 1
8 1
[1] "Model did not converge"
0 1
8 1
[1] "Model did not converge"
0 1
8 1
[1] "Model did not converge"
0 1
8 1
[1] "Model did not converge"
0 1
8 1
[1] "Model did not converge"
0 1
8 1
[1] "Model did not converge"
0 1
8 1
[1] "Model did not converge"
0 1
8 1
[1] "Model did not converge"
0 1
8 1
[1] "Model did not converge"
0 1
8 1
[1] "Model did not converge"
0 1
8 1
[1] "Model did not converge"
0 1
8 1
[1] "Model did not converge"
0 1
8 1
[1] "Model did not converge"
0 1
8 1
[1] "Model did not converge"
0 1
8 1
[1] "Model did not converge"
0 1
8 1
[1] "Model did not converge"
0 1
8 1
[1] "Model did not converge"
0 1
8 1
[1] "Model did not converge"
0 1
8 1
[1] "Model did not converge"
0 1
8 1
[1] "Model did not converge"
0 1
8 1
[1] "Model did not converge"
0 1
8 1
[1] "Model did not converge"
0 1
8 1
[1] "Model did not converge"
0 1
8 1
[1] "Model did not converge"
0 1
8 1
[1] "Model did not converge"
0 1
7 2
[1] "Model did not converge"
0 1
7 2
[1] "Model did not converge"
0 1
7 2
[1] "Model did not converge"
0 1
7 2
[1] "Model did not converge"
0 1
7 2
[1] "Model did not converge"
0 1
7 2
[1] "Model did not converge"
0 1
7 2
[1] "Model did not converge"
0 1
7 2
[1] "Model did not converge"
0 1
7 2
[1] "Model did not converge"
0 1
7 2
[1] "Model did not converge"
0 1
7 2
[1] "Model did not converge"
0 1
7 2
[1] "Model did not converge"
0 1
7 2
[1] "Model did not converge"
0 1
7 2
[1] "Model did not converge"
0 1
7 2
[1] "Model did not converge"
0 1
7 2
[1] "Model did not converge"
0 1
7 2
[1] "Model did not converge"
0 1
7 2
[1] "Model did not converge"
0 1
7 2
[1] "Model did not converge"
0 1
7 2
[1] "Model did not converge"
0 1
7 2
[1] "Model did not converge"
0 1
7 2
[1] "Model did not converge"
0 1
2 7
[1] "Model did not converge"
0 1
2 7
[1] "Model did not converge"
0 1
2 7
[1] "Model did not converge"
0 1
2 7
[1] "Model did not converge"
0 1
2 7
[1] "Model did not converge"
0 1
2 7
[1] "Model did not converge"
0 1
2 7
[1] "Model did not converge"
0 1
2 7
[1] "Model did not converge"
0 1
2 7
[1] "Model did not converge"
0 1
2 7
[1] "Model did not converge"
0 1
2 7
[1] "Model did not converge"
0 1
2 7
[1] "Model did not converge"
0 1
2 7
[1] "Model did not converge"
0 1
2 7
[1] "Model did not converge"
0 1
2 7
[1] "Model did not converge"
0 1
2 7
[1] "Model did not converge"
0 1
2 7
[1] "Model did not converge"
0 1
2 7
[1] "Model did not converge"
0 1
2 7
[1] "Model did not converge"
0 1
2 7
[1] "Model did not converge"
0 1
2 7
[1] "Model did not converge"
0 1
2 7
[1] "Model did not converge"
0 1
2 7
[1] "Model did not converge"
0 1
2 7
[1] "Model did not converge"
0 1
2 7
[1] "Model did not converge"
0 1
2 7
[1] "Model did not converge"
0 1
2 7
[1] "Model did not converge"
0 1
2 7
[1] "Model did not converge"
0 1
2 7
[1] "Model did not converge"
0 1
2 7
[1] "Model did not converge"
0 1
2 7
[1] "Model did not converge"
0 1
2 7
[1] "Model did not converge"
0 1
2 7
[1] "Model did not converge"
0 1
2 7
[1] "Model did not converge"
0 1
2 7
[1] "Model did not converge"
0 1
2 7
[1] "Model did not converge"
0 1
2 7
[1] "Model did not converge"
0 1
7 2
[1] "Model did not converge"
0 1
7 2
[1] "Model did not converge"
0 1
7 2
[1] "Model did not converge"
0 1
7 2
[1] "Model did not converge"
0 1
7 2
[1] "Model did not converge"
0 1
7 2
[1] "Model did not converge"
0 1
7 2
[1] "Model did not converge"
0 1
7 2
[1] "Model did not converge"
0 1
7 2
[1] "Model did not converge"
0 1
7 2
[1] "Model did not converge"
0 1
7 2
[1] "Model did not converge"
0 1
7 2
[1] "Model did not converge"
0 1
7 2
[1] "Model did not converge"
0 1
7 2
[1] "Model did not converge"
0 1
7 2
[1] "Model did not converge"
0 1
7 2
[1] "Model did not converge"
0 1
7 2
[1] "Model did not converge"
0 1
7 2
[1] "Model did not converge"
0 1
7 2
[1] "Model did not converge"
0 1
7 2
[1] "Model did not converge"
0 1
7 2
[1] "Model did not converge"
0 1
7 2
[1] "Model did not converge"
0 1
7 2
[1] "Model did not converge"
0 1
7 2
[1] "Model did not converge"
0 1
7 2
[1] "Model did not converge"
0 1
7 2
[1] "Model did not converge"
0 1
7 2
[1] "Model did not converge"
0 1
7 2
[1] "Model did not converge"
0 1
7 2
[1] "Model did not converge"
0 1
7 2
[1] "Model did not converge"
0 1
7 2
[1] "Model did not converge"
0 1
7 2
[1] "Model did not converge"
0 1
7 2
[1] "Model did not converge"
0 1
7 2
[1] "Model did not converge"
0 1
7 2
[1] "Model did not converge"
0 1
7 2
[1] "Model did not converge"
0 1
7 2
[1] "Model did not converge"
0 1
7 2
[1] "Model did not converge"
0 1
7 2
[1] "Model did not converge"
0 1
7 2
[1] "Model did not converge"
0 1
7 2
[1] "Model did not converge"
0 1
7 2
[1] "Model did not converge"
0 1
7 2
[1] "Model did not converge"
0 1
7 2
[1] "Model did not converge"
0 1
7 2
[1] "Model did not converge"
0 1
7 2
[1] "Model did not converge"
0 1
7 2
[1] "Model did not converge"
0 1
7 2
[1] "Model did not converge"
0 1
7 2
[1] "Model did not converge"
0 1
7 2
[1] "Model did not converge"
0 1
2 7
[1] "Model did not converge"
0 1
2 7
[1] "Model did not converge"
0 1
2 7
[1] "Model did not converge"
0 1
2 7
[1] "Model did not converge"
0 1
2 7
[1] "Model did not converge"
0 1
2 7
[1] "Model did not converge"
0 1
2 7
[1] "Model did not converge"
0 1
2 7
[1] "Model did not converge"
0 1
2 7
[1] "Model did not converge"
0 1
2 7
[1] "Model did not converge"
0 1
2 7
[1] "Model did not converge"
0 1
2 7
[1] "Model did not converge"
0 1
2 7
[1] "Model did not converge"
0 1
2 7
[1] "Model did not converge"
0 1
2 7
[1] "Model did not converge"
0 1
2 7
[1] "Model did not converge"
0 1
4 5
[1] "Model did not converge"
0 1
4 5
[1] "Model did not converge"
0 1
4 5
[1] "Model did not converge"
0 1
4 5
[1] "Model did not converge"
0 1
4 5
[1] "Model did not converge"
0 1
4 5
[1] "Model did not converge"
0 1
4 5
[1] "Model did not converge"
0 1
4 5
[1] "Model did not converge"
0 1
4 5
[1] "Model did not converge"
0 1
4 5
[1] "Model did not converge"
0 1
4 5
[1] "Model did not converge"
0 1
4 5
[1] "Model did not converge"
0 1
4 5
[1] "Model did not converge"
0 1
4 5
[1] "Model did not converge"
0 1
4 5
[1] "Model did not converge"
0 1
4 5
[1] "Model did not converge"
0 1
4 5
[1] "Model did not converge"
0 1
4 5
[1] "Model did not converge"
0 1
4 5
[1] "Model did not converge"
0 1
4 5
[1] "Model did not converge"
0 1
4 5
[1] "Model did not converge"
0 1
4 5
[1] "Model did not converge"
0 1
4 5
[1] "Model did not converge"
0 1
4 5
[1] "Model did not converge"
0 1
4 5
[1] "Model did not converge"
0 1
4 5
[1] "Model did not converge"
0 1
4 5
[1] "Model did not converge"
0 1
4 5
[1] "Model did not converge"
0 1
4 5
[1] "Model did not converge"
0 1
4 5
[1] "Model did not converge"
0 1
4 5
[1] "Model did not converge"
0 1
4 5
[1] "Model did not converge"
0 1
4 5
[1] "Model did not converge"
0 1
4 5
[1] "Model did not converge"
0 1
4 5
[1] "Model did not converge"
0 1
4 5
[1] "Model did not converge"
0 1
4 5
[1] "Model did not converge"
0 1
5 4
[1] "Model did not converge"
0 1
5 4
[1] "Model did not converge"
0 1
5 4
[1] "Model did not converge"
0 1
5 4
[1] "Model did not converge"
0 1
5 4
[1] "Model did not converge"
0 1
5 4
[1] "Model did not converge"
0 1
5 4
[1] "Model did not converge"
0 1
5 4
[1] "Model did not converge"
0 1
5 4
[1] "Model did not converge"
0 1
5 4
[1] "Model did not converge"
0 1
5 4
[1] "Model did not converge"
0 1
5 4
[1] "Model did not converge"
0 1
5 4
[1] "Model did not converge"
0 1
5 4
[1] "Model did not converge"
0 1
5 4
[1] "Model did not converge"
0 1
5 4
[1] "Model did not converge"
0 1
5 4
[1] "Model did not converge"
0 1
5 4
[1] "Model did not converge"
0 1
5 4
[1] "Model did not converge"
0 1
5 4
[1] "Model did not converge"
0 1
5 4
[1] "Model did not converge"
0 1
5 4
[1] "Model did not converge"
0 1
5 4
[1] "Model did not converge"
0 1
5 4
[1] "Model did not converge"
0 1
5 4
[1] "Model did not converge"
0 1
5 4
[1] "Model did not converge"
0 1
5 4
[1] "Model did not converge"
0 1
5 4
[1] "Model did not converge"
0 1
5 4
[1] "Model did not converge"
0 1
5 4
[1] "Model did not converge"
0 1
5 4
[1] "Model did not converge"
0 1
5 4
[1] "Model did not converge"
0 1
5 4
[1] "Model did not converge"
0 1
5 4
[1] "Model did not converge"
0 1
5 4
[1] "Model did not converge"
0 1
5 4
[1] "Model did not converge"
0 1
5 4
[1] "Model did not converge"
0 1
8 1
[1] "Model did not converge"
0 1
8 1
[1] "Model did not converge"
0 1
8 1
[1] "Model did not converge"
0 1
8 1
[1] "Model did not converge"
0 1
8 1
[1] "Model did not converge"
0 1
8 1
[1] "Model did not converge"
0 1
8 1
[1] "Model did not converge"
0 1
8 1
[1] "Model did not converge"
0 1
8 1
[1] "Model did not converge"
0 1
8 1
[1] "Model did not converge"
0 1
8 1
[1] "Model did not converge"
0 1
8 1
[1] "Model did not converge"
0 1
8 1
[1] "Model did not converge"
0 1
8 1
[1] "Model did not converge"
0 1
8 1
[1] "Model did not converge"
0 1
8 1
[1] "Model did not converge"
0 1
8 1
[1] "Model did not converge"
0 1
8 1
[1] "Model did not converge"
0 1
8 1
[1] "Model did not converge"
0 1
8 1
[1] "Model did not converge"
0 1
8 1
[1] "Model did not converge"
0 1
8 1
[1] "Model did not converge"
0 1
8 1
[1] "Model did not converge"
0 1
8 1
[1] "Model did not converge"
0 1
8 1
[1] "Model did not converge"
0 1
8 1
[1] "Model did not converge"
0 1
8 1
[1] "Model did not converge"
0 1
8 1
[1] "Model did not converge"
0 1
8 1
[1] "Model did not converge"
0 1
8 1
[1] "Model did not converge"
0 1
8 1
[1] "Model did not converge"
0 1
8 1
[1] "Model did not converge"
0 1
8 1
[1] "Model did not converge"
0 1
8 1
[1] "Model did not converge"
0 1
8 1
[1] "Model did not converge"
0 1
8 1
[1] "Model did not converge"
0 1
8 1
[1] "Model did not converge"
0 1
1 8
[1] "Model did not converge"
0 1
1 8
[1] "Model did not converge"
0 1
1 8
[1] "Model did not converge"
0 1
1 8
[1] "Model did not converge"
0 1
1 8
[1] "Model did not converge"
0 1
1 8
[1] "Model did not converge"
0 1
1 8
[1] "Model did not converge"
0 1
1 8
[1] "Model did not converge"
0 1
1 8
[1] "Model did not converge"
0 1
1 8
[1] "Model did not converge"
0 1
1 8
[1] "Model did not converge"
0 1
1 8
[1] "Model did not converge"
0 1
1 8
[1] "Model did not converge"
0 1
1 8
[1] "Model did not converge"
0 1
1 8
[1] "Model did not converge"
0 1
1 8
[1] "Model did not converge"
0 1
1 8
[1] "Model did not converge"
0 1
1 8
[1] "Model did not converge"
0 1
1 8
[1] "Model did not converge"
0 1
1 8
[1] "Model did not converge"
0 1
1 8
[1] "Model did not converge"
0 1
1 8
[1] "Model did not converge"
0 1
1 8
[1] "Model did not converge"
0 1
1 8
[1] "Model did not converge"
0 1
1 8
[1] "Model did not converge"
0 1
1 8
[1] "Model did not converge"
0 1
1 8
[1] "Model did not converge"
0 1
1 8
[1] "Model did not converge"
0 1
1 8
[1] "Model did not converge"
0 1
1 8
[1] "Model did not converge"
0 1
1 8
[1] "Model did not converge"
0 1
1 8
[1] "Model did not converge"
0 1
1 8
[1] "Model did not converge"
0 1
1 8
[1] "Model did not converge"
0 1
1 8
[1] "Model did not converge"
0 1
1 8
[1] "Model did not converge"
0 1
1 8
[1] "Model did not converge"
0 1
3 6
[1] "Model did not converge"
0 1
3 6
[1] "Model did not converge"
0 1
3 6
[1] "Model did not converge"
0 1
3 6
[1] "Model did not converge"
0 1
3 6
[1] "Model did not converge"
0 1
3 6
[1] "Model did not converge"
0 1
3 6
[1] "Model did not converge"
0 1
3 6
[1] "Model did not converge"
0 1
3 6
[1] "Model did not converge"
0 1
3 6
[1] "Model did not converge"
0 1
3 6
[1] "Model did not converge"
0 1
3 6
[1] "Model did not converge"
0 1
3 6
[1] "Model did not converge"
0 1
3 6
[1] "Model did not converge"
0 1
3 6
[1] "Model did not converge"
0 1
3 6
[1] "Model did not converge"
0 1
3 6
[1] "Model did not converge"
0 1
3 6
[1] "Model did not converge"
0 1
3 6
[1] "Model did not converge"
0 1
3 6
[1] "Model did not converge"
0 1
3 6
[1] "Model did not converge"
0 1
3 6
[1] "Model did not converge"
0 1
3 6
[1] "Model did not converge"
0 1
3 6
[1] "Model did not converge"
0 1
3 6
[1] "Model did not converge"
0 1
3 6
[1] "Model did not converge"
0 1
3 6
[1] "Model did not converge"
0 1
3 6
[1] "Model did not converge"
0 1
8 1
[1] "Model did not converge"
0 1
8 1
[1] "Model did not converge"
0 1
8 1
[1] "Model did not converge"
0 1
8 1
[1] "Model did not converge"
0 1
8 1
[1] "Model did not converge"
0 1
8 1
[1] "Model did not converge"
0 1
8 1
[1] "Model did not converge"
0 1
8 1
[1] "Model did not converge"
0 1
8 1
[1] "Model did not converge"
0 1
8 1
[1] "Model did not converge"
0 1
8 1
[1] "Model did not converge"
0 1
8 1
[1] "Model did not converge"
0 1
8 1
[1] "Model did not converge"
0 1
8 1
[1] "Model did not converge"
0 1
8 1
[1] "Model did not converge"
0 1
8 1
[1] "Model did not converge"
0 1
8 1
[1] "Model did not converge"
0 1
8 1
[1] "Model did not converge"
0 1
8 1
[1] "Model did not converge"
0 1
8 1
[1] "Model did not converge"
0 1
8 1
[1] "Model did not converge"
0 1
8 1
[1] "Model did not converge"
0 1
8 1
[1] "Model did not converge"
0 1
8 1
[1] "Model did not converge"
0 1
8 1
[1] "Model did not converge"
0 1
8 1
[1] "Model did not converge"
0 1
8 1
[1] "Model did not converge"
0 1
8 1
[1] "Model did not converge"
0 1
8 1
[1] "Model did not converge"
0 1
8 1
[1] "Model did not converge"
0 1
8 1
[1] "Model did not converge"
0 1
8 1
[1] "Model did not converge"
0 1
8 1
[1] "Model did not converge"
0 1
8 1
[1] "Model did not converge"
0 1
8 1
[1] "Model did not converge"
0 1
8 1
[1] "Model did not converge"
0 1
8 1
[1] "Model did not converge"
0 1
6 3
[1] "Model did not converge"
0 1
6 3
[1] "Model did not converge"
0 1
6 3
[1] "Model did not converge"
0 1
6 3
[1] "Model did not converge"
0 1
6 3
[1] "Model did not converge"
0 1
6 3
[1] "Model did not converge"
0 1
6 3
[1] "Model did not converge"
0 1
6 3
[1] "Model did not converge"
0 1
6 3
[1] "Model did not converge"
0 1
6 3
[1] "Model did not converge"
0 1
6 3
[1] "Model did not converge"
0 1
6 3
[1] "Model did not converge"
0 1
6 3
[1] "Model did not converge"
0 1
6 3
[1] "Model did not converge"
0 1
6 3
[1] "Model did not converge"
0 1
6 3
[1] "Model did not converge"
0 1
6 3
[1] "Model did not converge"
0 1
6 3
[1] "Model did not converge"
0 1
6 3
[1] "Model did not converge"
0 1
6 3
[1] "Model did not converge"
0 1
6 3
[1] "Model did not converge"
0 1
6 3
[1] "Model did not converge"
0 1
6 3
[1] "Model did not converge"
0 1
6 3
[1] "Model did not converge"
0 1
6 3
[1] "Model did not converge"
0 1
6 3
[1] "Model did not converge"
0 1
6 3
[1] "Model did not converge"
0 1
6 3
[1] "Model did not converge"
0 1
6 3
[1] "Model did not converge"
0 1
6 3
[1] "Model did not converge"
0 1
6 3
[1] "Model did not converge"
0 1
6 3
[1] "Model did not converge"
0 1
6 3
[1] "Model did not converge"
0 1
6 3
[1] "Model did not converge"
0 1
6 3
[1] "Model did not converge"
0 1
6 3
[1] "Model did not converge"
0 1
6 3
[1] "Model did not converge"
0 1
4 5
[1] "Model did not converge"
0 1
4 5
[1] "Model did not converge"
0 1
4 5
[1] "Model did not converge"
0 1
4 5
[1] "Model did not converge"
0 1
4 5
[1] "Model did not converge"
0 1
4 5
[1] "Model did not converge"
0 1
4 5
[1] "Model did not converge"
0 1
4 5
[1] "Model did not converge"
0 1
4 5
[1] "Model did not converge"
0 1
4 5
[1] "Model did not converge"
0 1
4 5
[1] "Model did not converge"
0 1
4 5
[1] "Model did not converge"
0 1
5 4
[1] "Model did not converge"
0 1
5 4
[1] "Model did not converge"
0 1
5 4
[1] "Model did not converge"
0 1
5 4
[1] "Model did not converge"
0 1
5 4
[1] "Model did not converge"
0 1
5 4
[1] "Model did not converge"
0 1
5 4
[1] "Model did not converge"
0 1
5 4
[1] "Model did not converge"
0 1
5 4
[1] "Model did not converge"
0 1
5 4
[1] "Model did not converge"
0 1
5 4
[1] "Model did not converge"
0 1
5 4
[1] "Model did not converge"
0 1
5 4
[1] "Model did not converge"
0 1
5 4
[1] "Model did not converge"
0 1
5 4
[1] "Model did not converge"
0 1
5 4
[1] "Model did not converge"
0 1
5 4
[1] "Model did not converge"
0 1
5 4
[1] "Model did not converge"
0 1
5 4
[1] "Model did not converge"
0 1
5 4
[1] "Model did not converge"
0 1
5 4
[1] "Model did not converge"
0 1
5 4
[1] "Model did not converge"
0 1
5 4
[1] "Model did not converge"
0 1
5 4
[1] "Model did not converge"
0 1
5 4
[1] "Model did not converge"
0 1
5 4
[1] "Model did not converge"
0 1
5 4
[1] "Model did not converge"
0 1
5 4
[1] "Model did not converge"
0 1
5 4
[1] "Model did not converge"
0 1
5 4
[1] "Model did not converge"
0 1
5 4
[1] "Model did not converge"
0 1
5 4
[1] "Model did not converge"
0 1
5 4
[1] "Model did not converge"
0 1
5 4
[1] "Model did not converge"
0 1
5 4
[1] "Model did not converge"
0 1
5 4
[1] "Model did not converge"
0 1
5 4
[1] "Model did not converge"
0 1
5 4
[1] "Model did not converge"
0 1
5 4
[1] "Model did not converge"
0 1
5 4
[1] "Model did not converge"
0 1
5 4
[1] "Model did not converge"
0 1
5 4
[1] "Model did not converge"
0 1
5 4
[1] "Model did not converge"
0 1
5 4
[1] "Model did not converge"
0 1
5 4
[1] "Model did not converge"
0 1
5 4
[1] "Model did not converge"
0 1
5 4
[1] "Model did not converge"
0 1
5 4
[1] "Model did not converge"
0 1
5 4
[1] "Model did not converge"
0 1
5 4
[1] "Model did not converge"
0 1
5 4
[1] "Model did not converge"
0 1
5 4
[1] "Model did not converge"
0 1
5 4
[1] "Model did not converge"
0 1
5 4
[1] "Model did not converge"
0 1
5 4
[1] "Model did not converge"
0 1
5 4
[1] "Model did not converge"
0 1
5 4
[1] "Model did not converge"
0 1
5 4
[1] "Model did not converge"
0 1
5 4
[1] "Model did not converge"
0 1
5 4
[1] "Model did not converge"
0 1
5 4
[1] "Model did not converge"
0 1
5 4
[1] "Model did not converge"
0 1
5 4
[1] "Model did not converge"
0 1
5 4
[1] "Model did not converge"
0 1
5 4
[1] "Model did not converge"
0 1
8 1
[1] "Model did not converge"
0 1
8 1
[1] "Model did not converge"
0 1
8 1
[1] "Model did not converge"
0 1
8 1
[1] "Model did not converge"
0 1
8 1
[1] "Model did not converge"
0 1
8 1
[1] "Model did not converge"
0 1
8 1
[1] "Model did not converge"
0 1
8 1
[1] "Model did not converge"
0 1
8 1
[1] "Model did not converge"
0 1
8 1
[1] "Model did not converge"
0 1
8 1
[1] "Model did not converge"
0 1
8 1
[1] "Model did not converge"
0 1
8 1
[1] "Model did not converge"
0 1
8 1
[1] "Model did not converge"
0 1
8 1
[1] "Model did not converge"
0 1
8 1
[1] "Model did not converge"
0 1
8 1
[1] "Model did not converge"
0 1
8 1
[1] "Model did not converge"
0 1
8 1
[1] "Model did not converge"
0 1
8 1
[1] "Model did not converge"
0 1
8 1
[1] "Model did not converge"
0 1
8 1
[1] "Model did not converge"
0 1
8 1
[1] "Model did not converge"
0 1
8 1
[1] "Model did not converge"
0 1
8 1
[1] "Model did not converge"
0 1
8 1
[1] "Model did not converge"
0 1
8 1
[1] "Model did not converge"
0 1
8 1
[1] "Model did not converge"
0 1
8 1
[1] "Model did not converge"
0 1
8 1
[1] "Model did not converge"
0 1
8 1
[1] "Model did not converge"
0 1
8 1
[1] "Model did not converge"
0 1
8 1
[1] "Model did not converge"
0 1
8 1
[1] "Model did not converge"
0 1
8 1
[1] "Model did not converge"
0 1
8 1
[1] "Model did not converge"
0 1
8 1
[1] "Model did not converge"
0 1
8 1
[1] "Model did not converge"
0 1
8 1
[1] "Model did not converge"
0 1
8 1
[1] "Model did not converge"
0 1
8 1
[1] "Model did not converge"
0 1
8 1
[1] "Model did not converge"
0 1
8 1
[1] "Model did not converge"
0 1
8 1
[1] "Model did not converge"
0 1
8 1
[1] "Model did not converge"
0 1
8 1
[1] "Model did not converge"
0 1
8 1
[1] "Model did not converge"
0 1
8 1
[1] "Model did not converge"
0 1
8 1
[1] "Model did not converge"
0 1
8 1
[1] "Model did not converge"
0 1
8 1
[1] "Model did not converge"
0 1
8 1
[1] "Model did not converge"
0 1
8 1
[1] "Model did not converge"
0 1
8 1
[1] "Model did not converge"
0 1
8 1
[1] "Model did not converge"
0 1
8 1
[1] "Model did not converge"
0 1
8 1
[1] "Model did not converge"
0 1
8 1
[1] "Model did not converge"
0 1
8 1
[1] "Model did not converge"
0 1
8 1
[1] "Model did not converge"
0 1
8 1
[1] "Model did not converge"
0 1
8 1
[1] "Model did not converge"
0 1
8 1
[1] "Model did not converge"
0 1
8 1
[1] "Model did not converge"
0 1
8 1
[1] "Model did not converge"
0 1
8 1
[1] "Model did not converge"
0 1
8 1
[1] "Model did not converge"
0 1
8 1
[1] "Model did not converge"
0 1
8 1
[1] "Model did not converge"
0 1
8 1
[1] "Model did not converge"
0 1
8 1
[1] "Model did not converge"
0 1
8 1
[1] "Model did not converge"
0 1
8 1
[1] "Model did not converge"
0 1
8 1
[1] "Model did not converge"
0 1
8 1
[1] "Model did not converge"
0 1
8 1
[1] "Model did not converge"
0 1
8 1
[1] "Model did not converge"
0 1
8 1
[1] "Model did not converge"
0 1
8 1
[1] "Model did not converge"
0 1
8 1
[1] "Model did not converge"
0 1
8 1
[1] "Model did not converge"
0 1
8 1
[1] "Model did not converge"
0 1
8 1
[1] "Model did not converge"
0 1
8 1
[1] "Model did not converge"
0 1
8 1
[1] "Model did not converge"
0 1
8 1
[1] "Model did not converge"
0 1
8 1
[1] "Model did not converge"
0 1
8 1
[1] "Model did not converge"
0 1
8 1
[1] "Model did not converge"
0 1
8 1
[1] "Model did not converge"
0 1
8 1
[1] "Model did not converge"
0 1
8 1
[1] "Model did not converge"
0 1
8 1
[1] "Model did not converge"
0 1
8 1
[1] "Model did not converge"
0 1
8 1
[1] "Model did not converge"
0 1
8 1
[1] "Model did not converge"
0 1
8 1
[1] "Model did not converge"
0 1
8 1
[1] "Model did not converge"
0 1
8 1
[1] "Model did not converge"
0 1
8 1
[1] "Model did not converge"
0 1
7 2
[1] "Model did not converge"
0 1
7 2
[1] "Model did not converge"
0 1
7 2
[1] "Model did not converge"
0 1
7 2
[1] "Model did not converge"
0 1
7 2
[1] "Model did not converge"
0 1
7 2
[1] "Model did not converge"
0 1
7 2
[1] "Model did not converge"
0 1
7 2
[1] "Model did not converge"
0 1
7 2
[1] "Model did not converge"
0 1
7 2
[1] "Model did not converge"
0 1
7 2
[1] "Model did not converge"
0 1
7 2
[1] "Model did not converge"
0 1
7 2
[1] "Model did not converge"
0 1
7 2
[1] "Model did not converge"
0 1
7 2
[1] "Model did not converge"
0 1
7 2
[1] "Model did not converge"
0 1
7 2
[1] "Model did not converge"
0 1
7 2
[1] "Model did not converge"
0 1
7 2
[1] "Model did not converge"
0 1
7 2
[1] "Model did not converge"
0 1
7 2
[1] "Model did not converge"
0 1
7 2
[1] "Model did not converge"
0 1
7 2
[1] "Model did not converge"
0 1
7 2
[1] "Model did not converge"
0 1
7 2
[1] "Model did not converge"
0 1
7 2
[1] "Model did not converge"
0 1
7 2
[1] "Model did not converge"
0 1
7 2
[1] "Model did not converge"
0 1
7 2
[1] "Model did not converge"
0 1
7 2
[1] "Model did not converge"
0 1
7 2
[1] "Model did not converge"
0 1
7 2
[1] "Model did not converge"
0 1
7 2
[1] "Model did not converge"
0 1
7 2
[1] "Model did not converge"
0 1
7 2
[1] "Model did not converge"
0 1
7 2
[1] "Model did not converge"
0 1
7 2
[1] "Model did not converge"
0 1
7 2
[1] "Model did not converge"
0 1
7 2
[1] "Model did not converge"
0 1
7 2
[1] "Model did not converge"
0 1
7 2
[1] "Model did not converge"
0 1
7 2
[1] "Model did not converge"
0 1
7 2
[1] "Model did not converge"
0 1
7 2
[1] "Model did not converge"
0 1
7 2
[1] "Model did not converge"
0 1
7 2
[1] "Model did not converge"
0 1
7 2
[1] "Model did not converge"
0 1
7 2
[1] "Model did not converge"
0 1
7 2
[1] "Model did not converge"
0 1
7 2
[1] "Model did not converge"
0 1
5 4
[1] "Model did not converge"
0 1
5 4
[1] "Model did not converge"
0 1
5 4
[1] "Model did not converge"
0 1
5 4
[1] "Model did not converge"
0 1
5 4
[1] "Model did not converge"
0 1
5 4
[1] "Model did not converge"
0 1
5 4
[1] "Model did not converge"
0 1
5 4
[1] "Model did not converge"
0 1
5 4
[1] "Model did not converge"
0 1
5 4
[1] "Model did not converge"
0 1
5 4
[1] "Model did not converge"
0 1
5 4
[1] "Model did not converge"
0 1
5 4
[1] "Model did not converge"
0 1
5 4
[1] "Model did not converge"
0 1
5 4
[1] "Model did not converge"
0 1
5 4
[1] "Model did not converge"
0 1
5 4
[1] "Model did not converge"
0 1
5 4
[1] "Model did not converge"
0 1
5 4
[1] "Model did not converge"
0 1
5 4
[1] "Model did not converge"
0 1
5 4
[1] "Model did not converge"
0 1
5 4
[1] "Model did not converge"
0 1
5 4
[1] "Model did not converge"
0 1
5 4
[1] "Model did not converge"
0 1
5 4
[1] "Model did not converge"
0 1
5 4
[1] "Model did not converge"
0 1
5 4
[1] "Model did not converge"
0 1
5 4
[1] "Model did not converge"
0 1
5 4
[1] "Model did not converge"
0 1
5 4
[1] "Model did not converge"
0 1
5 4
[1] "Model did not converge"
0 1
5 4
[1] "Model did not converge"
0 1
5 4
[1] "Model did not converge"
0 1
5 4
[1] "Model did not converge"
0 1
5 4
[1] "Model did not converge"
0 1
5 4
[1] "Model did not converge"
0 1
5 4
[1] "Model did not converge"
0 1
8 1
[1] "Model did not converge"
0 1
8 1
[1] "Model did not converge"
0 1
8 1
[1] "Model did not converge"
0 1
8 1
[1] "Model did not converge"
0 1
8 1
[1] "Model did not converge"
0 1
8 1
[1] "Model did not converge"
0 1
8 1
[1] "Model did not converge"
0 1
8 1
[1] "Model did not converge"
0 1
8 1
[1] "Model did not converge"
0 1
8 1
[1] "Model did not converge"
0 1
8 1
[1] "Model did not converge"
0 1
8 1
[1] "Model did not converge"
0 1
8 1
[1] "Model did not converge"
0 1
8 1
[1] "Model did not converge"
0 1
8 1
[1] "Model did not converge"
0 1
8 1
[1] "Model did not converge"
0 1
8 1
[1] "Model did not converge"
0 1
8 1
[1] "Model did not converge"
0 1
8 1
[1] "Model did not converge"
0 1
8 1
[1] "Model did not converge"
0 1
8 1
[1] "Model did not converge"
0 1
8 1
[1] "Model did not converge"
0 1
8 1
[1] "Model did not converge"
0 1
8 1
[1] "Model did not converge"
0 1
8 1
[1] "Model did not converge"
0 1
8 1
[1] "Model did not converge"
0 1
8 1
[1] "Model did not converge"
0 1
8 1
[1] "Model did not converge"
0 1
8 1
[1] "Model did not converge"
0 1
8 1
[1] "Model did not converge"
0 1
8 1
[1] "Model did not converge"
0 1
8 1
[1] "Model did not converge"
0 1
8 1
[1] "Model did not converge"
0 1
8 1
[1] "Model did not converge"
0 1
8 1
[1] "Model did not converge"
0 1
8 1
[1] "Model did not converge"
0 1
8 1
[1] "Model did not converge"
0 1
8 1
[1] "Model did not converge"
0 1
8 1
[1] "Model did not converge"
0 1
8 1
[1] "Model did not converge"
0 1
8 1
[1] "Model did not converge"
0 1
8 1
[1] "Model did not converge"
0 1
8 1
[1] "Model did not converge"
0 1
8 1
[1] "Model did not converge"
0 1
8 1
[1] "Model did not converge"
0 1
8 1
[1] "Model did not converge"
0 1
8 1
[1] "Model did not converge"
0 1
8 1
[1] "Model did not converge"
0 1
8 1
[1] "Model did not converge"
0 1
8 1
[1] "Model did not converge"
0 1
7 2
[1] "Model did not converge"
0 1
7 2
[1] "Model did not converge"
0 1
7 2
[1] "Model did not converge"
0 1
7 2
[1] "Model did not converge"
0 1
7 2
[1] "Model did not converge"
0 1
7 2
[1] "Model did not converge"
0 1
7 2
[1] "Model did not converge"
0 1
7 2
[1] "Model did not converge"
0 1
7 2
[1] "Model did not converge"
0 1
7 2
[1] "Model did not converge"
0 1
7 2
[1] "Model did not converge"
0 1
7 2
[1] "Model did not converge"
0 1
7 2
[1] "Model did not converge"
0 1
7 2
[1] "Model did not converge"
0 1
7 2
[1] "Model did not converge"
0 1
7 2
[1] "Model did not converge"
0 1
7 2
[1] "Model did not converge"
0 1
7 2
[1] "Model did not converge"
0 1
7 2
[1] "Model did not converge"
0 1
7 2
[1] "Model did not converge"
0 1
7 2
[1] "Model did not converge"
0 1
7 2
[1] "Model did not converge"
0 1
7 2
[1] "Model did not converge"
0 1
7 2
[1] "Model did not converge"
0 1
7 2
[1] "Model did not converge"
0 1
7 2
[1] "Model did not converge"
0 1
7 2
[1] "Model did not converge"
0 1
7 2
[1] "Model did not converge"
0 1
7 2
[1] "Model did not converge"
0 1
7 2
[1] "Model did not converge"
0 1
7 2
[1] "Model did not converge"
0 1
7 2
[1] "Model did not converge"
0 1
7 2
[1] "Model did not converge"
0 1
7 2
[1] "Model did not converge"
0 1
7 2
[1] "Model did not converge"
0 1
7 2
[1] "Model did not converge"
0 1
7 2
[1] "Model did not converge"
0 1
7 2
[1] "Model did not converge"
0 1
7 2
[1] "Model did not converge"
0 1
7 2
[1] "Model did not converge"
0 1
7 2
[1] "Model did not converge"
0 1
7 2
[1] "Model did not converge"
0 1
7 2
[1] "Model did not converge"
0 1
7 2
[1] "Model did not converge"
0 1
7 2
[1] "Model did not converge"
0 1
7 2
[1] "Model did not converge"
0 1
7 2
[1] "Model did not converge"
0 1
7 2
[1] "Model did not converge"
0 1
7 2
[1] "Model did not converge"
0 1
7 2
|
| | 0%
|
|======================================================================| 100%
[1] 1 1 -1
[1] 0
[1] 0
[,1] [,2] [,3]
lower_bounds 0 0 0
upper_bounds 1 1 -1
|
| | 0%
|
|======================================================================| 100%
|
| | 0%
|
|======================================================================| 100%
|
| | 0%
|
|======================================================================| 100%
|
| | 0%
|
|======================================================================| 100%
|
| | 0%
|
|======================================================================| 100%
|
| | 0%
|
|======================================================================| 100%
|
| | 0%
|
|======================================================================| 100%
== testthat results ===========================================================
OK: 142 SKIPPED: 0 FAILED: 0
>
> proc.time()
user system elapsed
135.39 1.96 492.59
|
|
PharmacoGx.Rcheck/examples_i386/PharmacoGx-Ex.timings
|
PharmacoGx.Rcheck/examples_x64/PharmacoGx-Ex.timings
|