| Back to Multiple platform build/check report for BioC 3.9 |
|
This page was generated on 2019-04-09 12:25:55 -0400 (Tue, 09 Apr 2019).
| Package 1163/1703 | Hostname | OS / Arch | INSTALL | BUILD | CHECK | BUILD BIN | ||||||
| PCAN 1.11.0 Matthew Page
| malbec2 | Linux (Ubuntu 18.04.2 LTS) / x86_64 | OK | OK | OK | |||||||
| tokay2 | Windows Server 2012 R2 Standard / x64 | OK | OK | [ OK ] | OK | |||||||
| celaya2 | OS X 10.11.6 El Capitan / x86_64 | OK | OK | OK | OK | |||||||
| merida2 | OS X 10.11.6 El Capitan / x86_64 | OK | OK | OK | OK |
| Package: PCAN |
| Version: 1.11.0 |
| Command: C:\Users\biocbuild\bbs-3.9-bioc\R\bin\R.exe CMD check --force-multiarch --install=check:PCAN.install-out.txt --library=C:\Users\biocbuild\bbs-3.9-bioc\R\library --no-vignettes --timings PCAN_1.11.0.tar.gz |
| StartedAt: 2019-04-09 04:49:56 -0400 (Tue, 09 Apr 2019) |
| EndedAt: 2019-04-09 04:57:05 -0400 (Tue, 09 Apr 2019) |
| EllapsedTime: 429.1 seconds |
| RetCode: 0 |
| Status: OK |
| CheckDir: PCAN.Rcheck |
| Warnings: 0 |
##############################################################################
##############################################################################
###
### Running command:
###
### C:\Users\biocbuild\bbs-3.9-bioc\R\bin\R.exe CMD check --force-multiarch --install=check:PCAN.install-out.txt --library=C:\Users\biocbuild\bbs-3.9-bioc\R\library --no-vignettes --timings PCAN_1.11.0.tar.gz
###
##############################################################################
##############################################################################
* using log directory 'C:/Users/biocbuild/bbs-3.9-bioc/meat/PCAN.Rcheck'
* using R Under development (unstable) (2019-03-09 r76216)
* using platform: x86_64-w64-mingw32 (64-bit)
* using session charset: ISO8859-1
* using option '--no-vignettes'
* checking for file 'PCAN/DESCRIPTION' ... OK
* this is package 'PCAN' version '1.11.0'
* checking package namespace information ... OK
* checking package dependencies ... OK
* checking if this is a source package ... OK
* checking if there is a namespace ... OK
* checking for hidden files and directories ... OK
* checking for portable file names ... OK
* checking whether package 'PCAN' can be installed ... OK
* checking installed package size ... OK
* checking package directory ... OK
* checking 'build' directory ... OK
* checking DESCRIPTION meta-information ... OK
* checking top-level files ... OK
* checking for left-over files ... OK
* checking index information ... OK
* checking package subdirectories ... OK
* checking R files for non-ASCII characters ... OK
* checking R files for syntax errors ... OK
* loading checks for arch 'i386'
** checking whether the package can be loaded ... OK
** checking whether the package can be loaded with stated dependencies ... OK
** checking whether the package can be unloaded cleanly ... OK
** checking whether the namespace can be loaded with stated dependencies ... OK
** checking whether the namespace can be unloaded cleanly ... OK
* loading checks for arch 'x64'
** checking whether the package can be loaded ... OK
** checking whether the package can be loaded with stated dependencies ... OK
** checking whether the package can be unloaded cleanly ... OK
** checking whether the namespace can be loaded with stated dependencies ... OK
** checking whether the namespace can be unloaded cleanly ... OK
* checking dependencies in R code ... OK
* checking S3 generic/method consistency ... OK
* checking replacement functions ... OK
* checking foreign function calls ... OK
* checking R code for possible problems ... OK
* checking Rd files ... OK
* checking Rd metadata ... OK
* checking Rd cross-references ... OK
* checking for missing documentation entries ... OK
* checking for code/documentation mismatches ... OK
* checking Rd \usage sections ... OK
* checking Rd contents ... OK
* checking for unstated dependencies in examples ... OK
* checking contents of 'data' directory ... OK
* checking data for non-ASCII characters ... OK
* checking data for ASCII and uncompressed saves ... OK
* checking files in 'vignettes' ... OK
* checking examples ...
** running examples for arch 'i386' ... OK
Examples with CPU or elapsed time > 5s
user system elapsed
compareHPSets 58.17 0.31 59.01
hpGeneHeatmap 52.30 0.20 52.61
hpGeneListComp 42.26 0.16 42.42
** running examples for arch 'x64' ... OK
Examples with CPU or elapsed time > 5s
user system elapsed
hpGeneListComp 56.03 0.18 56.22
compareHPSets 55.33 0.18 55.50
hpGeneHeatmap 52.87 0.28 53.17
* checking for unstated dependencies in vignettes ... OK
* checking package vignettes in 'inst/doc' ... OK
* checking running R code from vignettes ... SKIPPED
* checking re-building of vignette outputs ... SKIPPED
* checking PDF version of manual ... OK
* DONE
Status: OK
PCAN.Rcheck/00install.out
##############################################################################
##############################################################################
###
### Running command:
###
### C:\cygwin\bin\curl.exe -O https://malbec2.bioconductor.org/BBS/3.9/bioc/src/contrib/PCAN_1.11.0.tar.gz && rm -rf PCAN.buildbin-libdir && mkdir PCAN.buildbin-libdir && C:\Users\biocbuild\bbs-3.9-bioc\R\bin\R.exe CMD INSTALL --merge-multiarch --build --library=PCAN.buildbin-libdir PCAN_1.11.0.tar.gz && C:\Users\biocbuild\bbs-3.9-bioc\R\bin\R.exe CMD INSTALL PCAN_1.11.0.zip && rm PCAN_1.11.0.tar.gz PCAN_1.11.0.zip
###
##############################################################################
##############################################################################
% Total % Received % Xferd Average Speed Time Time Time Current
Dload Upload Total Spent Left Speed
0 0 0 0 0 0 0 0 --:--:-- --:--:-- --:--:-- 0
55 1859k 55 1024k 0 0 14.8M 0 --:--:-- --:--:-- --:--:-- 15.8M
100 1859k 100 1859k 0 0 17.0M 0 --:--:-- --:--:-- --:--:-- 17.8M
install for i386
* installing *source* package 'PCAN' ...
** R
** data
** inst
** byte-compile and prepare package for lazy loading
** help
*** installing help indices
converting help for package 'PCAN'
finding HTML links ... done
calcHpSim html
compareHPSets html
finding level-2 HTML links ... done
computeHpIC html
geneByHp html
geneByTrait html
geneDef html
hpByTrait html
hpDef html
hpGeneHeatmap html
hpGeneListComp html
hpSetCompBestMatch html
hpSetCompSummary html
hp_ancestors html
hp_class html
hp_descendants html
hqStrNw html
hsEntrezByRPath html
rPath html
traitDef html
** building package indices
** installing vignettes
** testing if installed package can be loaded from temporary location
** testing if installed package can be loaded from final location
** testing if installed package keeps a record of temporary installation path
install for x64
* installing *source* package 'PCAN' ...
** testing if installed package can be loaded
* MD5 sums
packaged installation of 'PCAN' as PCAN_1.11.0.zip
* DONE (PCAN)
* installing to library 'C:/Users/biocbuild/bbs-3.9-bioc/R/library'
package 'PCAN' successfully unpacked and MD5 sums checked
|
PCAN.Rcheck/examples_i386/PCAN-Ex.timings
|
PCAN.Rcheck/examples_x64/PCAN-Ex.timings
|