| Back to Multiple platform build/check report for BioC 3.9 |
|
This page was generated on 2019-04-07 13:27:58 -0400 (Sun, 07 Apr 2019).
| Package 1127/1703 | Hostname | OS / Arch | INSTALL | BUILD | CHECK | BUILD BIN | ||||||
| ORFik 1.3.13 Kornel Labun
| malbec2 | Linux (Ubuntu 18.04.2 LTS) / x86_64 | OK | OK | OK | |||||||
| tokay2 | Windows Server 2012 R2 Standard / x64 | OK | OK | OK | OK | |||||||
| celaya2 | OS X 10.11.6 El Capitan / x86_64 | OK | OK | OK | OK | |||||||
| merida2 | OS X 10.11.6 El Capitan / x86_64 | OK | OK | [ OK ] | OK |
| Package: ORFik |
| Version: 1.3.13 |
| Command: /Library/Frameworks/R.framework/Versions/Current/Resources/bin/R CMD check --install=check:ORFik.install-out.txt --library=/Library/Frameworks/R.framework/Versions/Current/Resources/library --no-vignettes --timings ORFik_1.3.13.tar.gz |
| StartedAt: 2019-04-07 03:05:50 -0400 (Sun, 07 Apr 2019) |
| EndedAt: 2019-04-07 03:12:52 -0400 (Sun, 07 Apr 2019) |
| EllapsedTime: 422.3 seconds |
| RetCode: 0 |
| Status: OK |
| CheckDir: ORFik.Rcheck |
| Warnings: 0 |
##############################################################################
##############################################################################
###
### Running command:
###
### /Library/Frameworks/R.framework/Versions/Current/Resources/bin/R CMD check --install=check:ORFik.install-out.txt --library=/Library/Frameworks/R.framework/Versions/Current/Resources/library --no-vignettes --timings ORFik_1.3.13.tar.gz
###
##############################################################################
##############################################################################
* using log directory ‘/Users/biocbuild/bbs-3.9-bioc/meat/ORFik.Rcheck’
* using R Under development (unstable) (2018-11-27 r75683)
* using platform: x86_64-apple-darwin15.6.0 (64-bit)
* using session charset: UTF-8
* using option ‘--no-vignettes’
* checking for file ‘ORFik/DESCRIPTION’ ... OK
* checking extension type ... Package
* this is package ‘ORFik’ version ‘1.3.13’
* package encoding: UTF-8
* checking package namespace information ... OK
* checking package dependencies ... OK
* checking if this is a source package ... OK
* checking if there is a namespace ... OK
* checking for hidden files and directories ... OK
* checking for portable file names ... OK
* checking for sufficient/correct file permissions ... OK
* checking whether package ‘ORFik’ can be installed ... OK
* checking installed package size ... OK
* checking package directory ... OK
* checking ‘build’ directory ... OK
* checking DESCRIPTION meta-information ... OK
* checking top-level files ... OK
* checking for left-over files ... OK
* checking index information ... OK
* checking package subdirectories ... OK
* checking R files for non-ASCII characters ... OK
* checking R files for syntax errors ... OK
* checking whether the package can be loaded ... OK
* checking whether the package can be loaded with stated dependencies ... OK
* checking whether the package can be unloaded cleanly ... OK
* checking whether the namespace can be loaded with stated dependencies ... OK
* checking whether the namespace can be unloaded cleanly ... OK
* checking dependencies in R code ... OK
* checking S3 generic/method consistency ... OK
* checking replacement functions ... OK
* checking foreign function calls ... OK
* checking R code for possible problems ... NOTE
allFeaturesHelper: no visible binding for global variable ‘entropyRFP’
allFeaturesHelper: no visible binding for global variable
‘disengagementScores’
allFeaturesHelper: no visible binding for global variable ‘RRS’
allFeaturesHelper: no visible binding for global variable ‘RSS’
allFeaturesHelper: no visible binding for global variable
‘fractionLengths’
allFeaturesHelper: no visible binding for global variable ‘te’
allFeaturesHelper: no visible binding for global variable ‘fpkmRFP’
allFeaturesHelper: no visible binding for global variable ‘fpkmRNA’
allFeaturesHelper: no visible binding for global variable ‘ORFScores’
allFeaturesHelper: no visible binding for global variable ‘ioScore’
allFeaturesHelper: no visible binding for global variable ‘inFrameCDS’
allFeaturesHelper: no visible binding for global variable
‘isOverlappingCds’
allFeaturesHelper: no visible binding for global variable ‘rankInTx’
convertToOneBasedRanges: no visible global function definition for ‘.’
coverageHeatMap: no visible binding for global variable ‘position’
coverageHeatMap: no visible binding for global variable ‘fraction’
coveragePerTiling: no visible binding for global variable ‘ones’
coveragePerTiling: no visible binding for global variable ‘position’
coveragePerTiling: no visible binding for global variable ‘frame’
coverageScorings: no visible binding for global variable ‘count’
coverageScorings: no visible binding for global variable ‘zscore’
coverageScorings: no visible binding for global variable ‘windowMean’
coverageScorings: no visible binding for global variable ‘windowSD’
coverageScorings: no visible global function definition for ‘.’
coverageScorings: no visible binding for global variable ‘gene_sum’
detectRibosomeShifts: no visible global function definition for ‘.’
detectRibosomeShifts: no visible binding for global variable ‘fraction’
entropy: no visible binding for global variable ‘Hx’
entropy: no visible binding for global variable ‘codonSums’
entropy: no visible global function definition for ‘.’
gSort: no visible binding for global variable ‘grnames’
initiationScore: no visible global function definition for ‘.’
initiationScore: no visible binding for global variable ‘dif’
initiationScore: no visible binding for global variable ‘fraction’
initiationScore: no visible binding for global variable ‘difPer’
longestORFs: no visible global function definition for ‘.’
metaWindow: no visible binding for global variable ‘position’
metaWindow: no visible binding for global variable ‘frame’
orfScore: no visible binding for global variable ‘frame’
orfScore: no visible binding for global variable ‘frame_one_RP’
orfScore: no visible binding for global variable ‘frame_two_RP’
pSitePlot: no visible binding for global variable ‘position’
pSitePlot: no visible binding for global variable ‘frame’
remakeTxdbExonIds: no visible global function definition for ‘.’
remakeTxdbExonIds: no visible binding for global variable ‘chr’
removeTxdbExons: no visible binding for global variable ‘exon_rank’
removeTxdbExons: no visible binding for global variable ‘ranks’
scaledWindowPositions: no visible binding for global variable
‘scalingFactor’
scaledWindowPositions: no visible binding for global variable
‘position’
scaledWindowPositions: no visible global function definition for ‘.’
windowCoveragePlot: no visible binding for global variable ‘feature’
windowCoveragePlot: no visible binding for global variable ‘fraction’
windowCoveragePlot: no visible binding for global variable ‘position’
windowCoveragePlot: no visible binding for global variable
‘fraction_min’
Undefined global functions or variables:
. Hx ORFScores RRS RSS chr codonSums count dif difPer
disengagementScores entropyRFP exon_rank feature fpkmRFP fpkmRNA
fraction fractionLengths fraction_min frame frame_one_RP frame_two_RP
gene_sum grnames inFrameCDS ioScore isOverlappingCds ones position
rankInTx ranks scalingFactor te windowMean windowSD zscore
Consider adding
importFrom("graphics", "frame")
to your NAMESPACE file.
* checking Rd files ... OK
* checking Rd metadata ... OK
* checking Rd cross-references ... OK
* checking for missing documentation entries ... OK
* checking for code/documentation mismatches ... OK
* checking Rd \usage sections ... OK
* checking Rd contents ... OK
* checking for unstated dependencies in examples ... OK
* checking line endings in C/C++/Fortran sources/headers ... OK
* checking line endings in Makefiles ... OK
* checking compilation flags in Makevars ... OK
* checking for GNU extensions in Makefiles ... OK
* checking for portable use of $(BLAS_LIBS) and $(LAPACK_LIBS) ... OK
* checking compiled code ... NOTE
Note: information on .o files is not available
* checking files in ‘vignettes’ ... OK
* checking examples ... OK
Examples with CPU or elapsed time > 5s
user system elapsed
computeFeatures 12.680 8.409 7.879
orfScore 2.194 3.068 0.920
* checking for unstated dependencies in ‘tests’ ... OK
* checking tests ...
Running ‘testthat.R’
OK
* checking for unstated dependencies in vignettes ... OK
* checking package vignettes in ‘inst/doc’ ... OK
* checking running R code from vignettes ... SKIPPED
* checking re-building of vignette outputs ... SKIPPED
* checking PDF version of manual ... OK
* DONE
Status: 2 NOTEs
See
‘/Users/biocbuild/bbs-3.9-bioc/meat/ORFik.Rcheck/00check.log’
for details.
ORFik.Rcheck/00install.out
############################################################################## ############################################################################## ### ### Running command: ### ### /Library/Frameworks/R.framework/Versions/Current/Resources/bin/R CMD INSTALL ORFik ### ############################################################################## ############################################################################## * installing to library ‘/Library/Frameworks/R.framework/Versions/3.6/Resources/library’ * installing *source* package ‘ORFik’ ... ** libs clang++ -std=gnu++11 -I"/Library/Frameworks/R.framework/Resources/include" -DNDEBUG -I"/Library/Frameworks/R.framework/Versions/3.6/Resources/library/Rcpp/include" -I/usr/local/include -fPIC -Wall -g -O2 -c RcppExports.cpp -o RcppExports.o clang++ -std=gnu++11 -I"/Library/Frameworks/R.framework/Resources/include" -DNDEBUG -I"/Library/Frameworks/R.framework/Versions/3.6/Resources/library/Rcpp/include" -I/usr/local/include -fPIC -Wall -g -O2 -c findORFsHelpers.cpp -o findORFsHelpers.o clang++ -std=gnu++11 -I"/Library/Frameworks/R.framework/Resources/include" -DNDEBUG -I"/Library/Frameworks/R.framework/Versions/3.6/Resources/library/Rcpp/include" -I/usr/local/include -fPIC -Wall -g -O2 -c findOrfs.cpp -o findOrfs.o clang++ -std=gnu++11 -I"/Library/Frameworks/R.framework/Resources/include" -DNDEBUG -I"/Library/Frameworks/R.framework/Versions/3.6/Resources/library/Rcpp/include" -I/usr/local/include -fPIC -Wall -g -O2 -c findOrfsFasta.cpp -o findOrfsFasta.o clang++ -std=gnu++11 -I"/Library/Frameworks/R.framework/Resources/include" -DNDEBUG -I"/Library/Frameworks/R.framework/Versions/3.6/Resources/library/Rcpp/include" -I/usr/local/include -fPIC -Wall -g -O2 -c pmapFromTranscripts.cpp -o pmapFromTranscripts.o clang++ -std=gnu++11 -dynamiclib -Wl,-headerpad_max_install_names -undefined dynamic_lookup -single_module -multiply_defined suppress -L/Library/Frameworks/R.framework/Resources/lib -L/usr/local/lib -o ORFik.so RcppExports.o findORFsHelpers.o findOrfs.o findOrfsFasta.o pmapFromTranscripts.o -F/Library/Frameworks/R.framework/.. -framework R -Wl,-framework -Wl,CoreFoundation installing to /Library/Frameworks/R.framework/Versions/3.6/Resources/library/ORFik/libs ** R ** inst ** byte-compile and prepare package for lazy loading ** help *** installing help indices ** building package indices ** installing vignettes ** testing if installed package can be loaded * DONE (ORFik)
ORFik.Rcheck/tests/testthat.Rout
R Under development (unstable) (2018-11-27 r75683) -- "Unsuffered Consequences"
Copyright (C) 2018 The R Foundation for Statistical Computing
Platform: x86_64-apple-darwin15.6.0 (64-bit)
R is free software and comes with ABSOLUTELY NO WARRANTY.
You are welcome to redistribute it under certain conditions.
Type 'license()' or 'licence()' for distribution details.
R is a collaborative project with many contributors.
Type 'contributors()' for more information and
'citation()' on how to cite R or R packages in publications.
Type 'demo()' for some demos, 'help()' for on-line help, or
'help.start()' for an HTML browser interface to help.
Type 'q()' to quit R.
> library(testthat)
> library(ORFik)
Loading required package: IRanges
Loading required package: BiocGenerics
Loading required package: parallel
Attaching package: 'BiocGenerics'
The following objects are masked from 'package:parallel':
clusterApply, clusterApplyLB, clusterCall, clusterEvalQ,
clusterExport, clusterMap, parApply, parCapply, parLapply,
parLapplyLB, parRapply, parSapply, parSapplyLB
The following objects are masked from 'package:stats':
IQR, mad, sd, var, xtabs
The following objects are masked from 'package:base':
Filter, Find, Map, Position, Reduce, anyDuplicated, append,
as.data.frame, basename, cbind, colMeans, colSums, colnames,
dirname, do.call, duplicated, eval, evalq, get, grep, grepl,
intersect, is.unsorted, lapply, mapply, match, mget, order, paste,
pmax, pmax.int, pmin, pmin.int, rank, rbind, rowMeans, rowSums,
rownames, sapply, setdiff, sort, table, tapply, union, unique,
unsplit, which, which.max, which.min
Loading required package: S4Vectors
Loading required package: stats4
Attaching package: 'S4Vectors'
The following object is masked from 'package:base':
expand.grid
Loading required package: GenomicRanges
Loading required package: GenomeInfoDb
Loading required package: GenomicAlignments
Loading required package: SummarizedExperiment
Loading required package: Biobase
Welcome to Bioconductor
Vignettes contain introductory material; view with
'browseVignettes()'. To cite Bioconductor, see
'citation("Biobase")', and for packages 'citation("pkgname")'.
Loading required package: DelayedArray
Loading required package: matrixStats
Attaching package: 'matrixStats'
The following objects are masked from 'package:Biobase':
anyMissing, rowMedians
Loading required package: BiocParallel
Attaching package: 'DelayedArray'
The following objects are masked from 'package:matrixStats':
colMaxs, colMins, colRanges, rowMaxs, rowMins, rowRanges
The following objects are masked from 'package:base':
aperm, apply, rowsum
Loading required package: Biostrings
Loading required package: XVector
Attaching package: 'Biostrings'
The following object is masked from 'package:DelayedArray':
type
The following object is masked from 'package:base':
strsplit
Loading required package: Rsamtools
>
> test_check("ORFik")
══ testthat results ═══════════════════════════════════════════════════════════
OK: 255 SKIPPED: 0 FAILED: 0
>
> proc.time()
user system elapsed
99.237 49.226 68.386
ORFik.Rcheck/ORFik-Ex.timings
| name | user | system | elapsed | |
| assignTSSByCage | 0 | 0 | 0 | |
| computeFeatures | 12.680 | 8.409 | 7.879 | |
| computeFeaturesCage | 0.001 | 0.000 | 0.000 | |
| coverageHeatMap | 2.177 | 0.938 | 1.425 | |
| coveragePerTiling | 0.445 | 0.003 | 0.456 | |
| coverageScorings | 0.051 | 0.031 | 0.023 | |
| defineTrailer | 0.548 | 0.341 | 0.247 | |
| detectRibosomeShifts | 0.001 | 0.000 | 0.000 | |
| disengagementScore | 0.600 | 0.003 | 0.616 | |
| distToCds | 0.279 | 0.005 | 0.298 | |
| distToTSS | 0.261 | 0.001 | 0.264 | |
| entropy | 2.642 | 1.732 | 1.230 | |
| extendLeaders | 1.756 | 1.066 | 0.921 | |
| filterTranscripts | 1.641 | 0.237 | 1.442 | |
| findMapORFs | 2.039 | 1.144 | 0.933 | |
| findORFs | 0.368 | 0.196 | 0.168 | |
| findORFsFasta | 0.191 | 0.101 | 0.099 | |
| firstEndPerGroup | 0.291 | 0.192 | 0.112 | |
| firstExonPerGroup | 0.117 | 0.029 | 0.091 | |
| firstStartPerGroup | 0.090 | 0.001 | 0.091 | |
| floss | 0.245 | 0.001 | 0.247 | |
| fpkm | 0.081 | 0.000 | 0.082 | |
| fractionLength | 0.075 | 0.001 | 0.077 | |
| fread.bed | 0.041 | 0.009 | 0.050 | |
| gcContent | 1.491 | 0.917 | 0.811 | |
| groupGRangesBy | 0.080 | 0.002 | 0.087 | |
| groupings | 0.063 | 0.001 | 0.063 | |
| initiationScore | 1.853 | 0.546 | 1.486 | |
| insideOutsideORF | 2.225 | 1.557 | 1.317 | |
| isInFrame | 0.499 | 0.372 | 0.304 | |
| isOverlapping | 0.279 | 0.001 | 0.285 | |
| kozakSequenceScore | 1.340 | 0.721 | 0.946 | |
| lastExonEndPerGroup | 0.097 | 0.003 | 0.106 | |
| lastExonPerGroup | 0.100 | 0.003 | 0.110 | |
| lastExonStartPerGroup | 0.084 | 0.001 | 0.087 | |
| loadTxdb | 0.140 | 0.004 | 0.146 | |
| longestORFs | 0.209 | 0.063 | 0.167 | |
| makeORFNames | 0.334 | 0.386 | 0.105 | |
| metaWindow | 1.034 | 1.313 | 0.434 | |
| numExonsPerGroup | 0.196 | 0.275 | 0.063 | |
| orfScore | 2.194 | 3.068 | 0.920 | |
| overlapsToCoverage | 0.188 | 0.256 | 0.061 | |
| pSitePlot | 0.846 | 0.524 | 0.594 | |
| pmapFromTranscriptF | 0.152 | 0.003 | 0.166 | |
| rankOrder | 0.106 | 0.003 | 0.113 | |
| reassignTSSbyCage | 1.225 | 0.856 | 0.769 | |
| reassignTxDbByCage | 0.000 | 0.000 | 0.001 | |
| reduceKeepAttr | 0.768 | 0.802 | 0.327 | |
| ribosomeReleaseScore | 0.183 | 0.003 | 0.194 | |
| ribosomeStallingScore | 0.360 | 0.007 | 0.384 | |
| scaledWindowPositions | 1.516 | 1.249 | 0.709 | |
| seqnamesPerGroup | 0.412 | 0.394 | 0.131 | |
| shiftFootprints | 0.002 | 0.002 | 0.000 | |
| sortPerGroup | 1.068 | 0.934 | 0.373 | |
| startCodons | 1.613 | 1.298 | 0.773 | |
| startDefinition | 0.001 | 0.001 | 0.002 | |
| startSites | 1.210 | 1.122 | 0.487 | |
| stopCodons | 1.455 | 0.764 | 0.877 | |
| stopDefinition | 0.001 | 0.000 | 0.000 | |
| stopSites | 1.100 | 0.844 | 0.486 | |
| strandBool | 0.009 | 0.000 | 0.010 | |
| strandPerGroup | 0.099 | 0.002 | 0.102 | |
| tile1 | 0.248 | 0.008 | 0.264 | |
| translationalEff | 0.158 | 0.007 | 0.171 | |
| txNames | 0.072 | 0.006 | 0.080 | |
| uORFSearchSpace | 1.979 | 0.551 | 1.619 | |
| uniqueGroups | 0.207 | 0.005 | 0.225 | |
| uniqueOrder | 0.787 | 0.473 | 0.409 | |
| unlistGrl | 0.136 | 0.104 | 0.046 | |
| widthPerGroup | 0.220 | 0.158 | 0.075 | |
| windowCoveragePlot | 0.831 | 0.512 | 0.417 | |
| windowPerGroup | 0.338 | 0.004 | 0.349 | |