| Back to Multiple platform build/check report for BioC 3.9 |
|
This page was generated on 2019-04-09 13:22:43 -0400 (Tue, 09 Apr 2019).
| Package 1103/1703 | Hostname | OS / Arch | INSTALL | BUILD | CHECK | BUILD BIN | ||||||
| OLIN 1.61.0 Matthias Futschik
| malbec2 | Linux (Ubuntu 18.04.2 LTS) / x86_64 | OK | OK | OK | |||||||
| tokay2 | Windows Server 2012 R2 Standard / x64 | OK | OK | OK | OK | |||||||
| celaya2 | OS X 10.11.6 El Capitan / x86_64 | OK | OK | OK | OK | |||||||
| merida2 | OS X 10.11.6 El Capitan / x86_64 | OK | OK | [ OK ] | OK |
| Package: OLIN |
| Version: 1.61.0 |
| Command: /Library/Frameworks/R.framework/Versions/Current/Resources/bin/R CMD check --install=check:OLIN.install-out.txt --library=/Library/Frameworks/R.framework/Versions/Current/Resources/library --no-vignettes --timings OLIN_1.61.0.tar.gz |
| StartedAt: 2019-04-09 02:35:10 -0400 (Tue, 09 Apr 2019) |
| EndedAt: 2019-04-09 02:36:22 -0400 (Tue, 09 Apr 2019) |
| EllapsedTime: 71.7 seconds |
| RetCode: 0 |
| Status: OK |
| CheckDir: OLIN.Rcheck |
| Warnings: 0 |
##############################################################################
##############################################################################
###
### Running command:
###
### /Library/Frameworks/R.framework/Versions/Current/Resources/bin/R CMD check --install=check:OLIN.install-out.txt --library=/Library/Frameworks/R.framework/Versions/Current/Resources/library --no-vignettes --timings OLIN_1.61.0.tar.gz
###
##############################################################################
##############################################################################
* using log directory ‘/Users/biocbuild/bbs-3.9-bioc/meat/OLIN.Rcheck’
* using R Under development (unstable) (2018-11-27 r75683)
* using platform: x86_64-apple-darwin15.6.0 (64-bit)
* using session charset: UTF-8
* using option ‘--no-vignettes’
* checking for file ‘OLIN/DESCRIPTION’ ... OK
* this is package ‘OLIN’ version ‘1.61.0’
* checking package namespace information ... OK
* checking package dependencies ... OK
* checking if this is a source package ... OK
* checking if there is a namespace ... OK
* checking for hidden files and directories ... OK
* checking for portable file names ... OK
* checking for sufficient/correct file permissions ... OK
* checking whether package ‘OLIN’ can be installed ... OK
* checking installed package size ... OK
* checking package directory ... OK
* checking ‘build’ directory ... OK
* checking DESCRIPTION meta-information ... NOTE
Malformed Description field: should contain one or more complete sentences.
Packages listed in more than one of Depends, Imports, Suggests, Enhances:
‘marray’ ‘methods’
A package should be listed in only one of these fields.
* checking top-level files ... OK
* checking for left-over files ... OK
* checking index information ... OK
* checking package subdirectories ... OK
* checking R files for non-ASCII characters ... OK
* checking R files for syntax errors ... OK
* checking whether the package can be loaded ... OK
* checking whether the package can be loaded with stated dependencies ... OK
* checking whether the package can be unloaded cleanly ... OK
* checking whether the namespace can be loaded with stated dependencies ... OK
* checking whether the namespace can be unloaded cleanly ... OK
* checking dependencies in R code ... NOTE
'library' or 'require' call to ‘convert’ in package code.
Please use :: or requireNamespace() instead.
See section 'Suggested packages' in the 'Writing R Extensions' manual.
Package in Depends field not imported from: ‘locfit’
These packages need to be imported from (in the NAMESPACE file)
for when this namespace is loaded but not attached.
* checking S3 generic/method consistency ... OK
* checking replacement functions ... OK
* checking foreign function calls ... OK
* checking R code for possible problems ... NOTE
ino: no visible global function definition for ‘locfit’
ino: no visible global function definition for ‘predict’
lin: no visible global function definition for ‘locfit’
lin: no visible global function definition for ‘predict’
oin: no visible global function definition for ‘gcvplot’
oin: no visible global function definition for ‘locfit’
oin: no visible global function definition for ‘predict’
olin: no visible global function definition for ‘gcv’
olin: no visible global function definition for ‘locfit’
olin: no visible global function definition for ‘predict’
Undefined global functions or variables:
gcv gcvplot locfit predict
Consider adding
importFrom("stats", "predict")
to your NAMESPACE file.
* checking Rd files ... OK
* checking Rd metadata ... OK
* checking Rd cross-references ... OK
* checking for missing documentation entries ... OK
* checking for code/documentation mismatches ... OK
* checking Rd \usage sections ... OK
* checking Rd contents ... OK
* checking for unstated dependencies in examples ... OK
* checking contents of ‘data’ directory ... OK
* checking data for non-ASCII characters ... OK
* checking data for ASCII and uncompressed saves ... OK
* checking sizes of PDF files under ‘inst/doc’ ... OK
* checking files in ‘vignettes’ ... OK
* checking examples ... OK
Examples with CPU or elapsed time > 5s
user system elapsed
olin 23.872 0.174 24.278
* checking for unstated dependencies in vignettes ... OK
* checking package vignettes in ‘inst/doc’ ... OK
* checking running R code from vignettes ... SKIPPED
* checking re-building of vignette outputs ... SKIPPED
* checking PDF version of manual ... OK
* DONE
Status: 3 NOTEs
See
‘/Users/biocbuild/bbs-3.9-bioc/meat/OLIN.Rcheck/00check.log’
for details.
OLIN.Rcheck/00install.out
############################################################################## ############################################################################## ### ### Running command: ### ### /Library/Frameworks/R.framework/Versions/Current/Resources/bin/R CMD INSTALL OLIN ### ############################################################################## ############################################################################## * installing to library ‘/Library/Frameworks/R.framework/Versions/3.6/Resources/library’ * installing *source* package ‘OLIN’ ... ** R ** data ** inst ** byte-compile and prepare package for lazy loading ** help *** installing help indices ** building package indices ** installing vignettes ** testing if installed package can be loaded * DONE (OLIN)
OLIN.Rcheck/OLIN-Ex.timings
| name | user | system | elapsed | |
| anovaint | 0.143 | 0.025 | 0.171 | |
| anovapin | 0.111 | 0.017 | 0.131 | |
| anovaplate | 0.150 | 0.015 | 0.169 | |
| anovaspatial | 0.262 | 0.024 | 0.294 | |
| backgroundCorrect2 | 0.566 | 0.050 | 0.626 | |
| bas | 0.096 | 0.007 | 0.104 | |
| colorbar.mxy | 0.064 | 0.010 | 0.076 | |
| fdr.int | 0.000 | 0.000 | 0.001 | |
| fdr.int2 | 0 | 0 | 0 | |
| fdr.spatial | 0 | 0 | 0 | |
| fdr.spatial2 | 0.001 | 0.000 | 0.001 | |
| fgbg.visu | 0.124 | 0.014 | 0.138 | |
| ino | 0.229 | 0.039 | 0.275 | |
| lin | 0.803 | 0.065 | 0.877 | |
| m2v | 0.069 | 0.010 | 0.081 | |
| ma.matrix | 0.352 | 0.009 | 0.363 | |
| ma.vector | 0.493 | 0.022 | 0.523 | |
| mxy.abs.plot | 0.127 | 0.012 | 0.143 | |
| mxy.plot | 0.085 | 0.010 | 0.096 | |
| mxy2.plot | 0.097 | 0.013 | 0.112 | |
| oin | 1.054 | 0.039 | 1.105 | |
| olin | 23.872 | 0.174 | 24.278 | |
| p.int | 0 | 0 | 0 | |
| p.int2 | 0 | 0 | 0 | |
| p.spatial | 0 | 0 | 0 | |
| p.spatial2 | 0.000 | 0.001 | 0.000 | |
| sig.mask | 0.000 | 0.000 | 0.001 | |
| sigint.plot | 0.001 | 0.000 | 0.000 | |
| sigint.plot2 | 0.001 | 0.000 | 0.000 | |
| sigxy.plot | 0.001 | 0.000 | 0.000 | |
| sigxy.plot2 | 0.001 | 0.001 | 0.001 | |
| v2m | 0.063 | 0.005 | 0.068 | |