| Back to Multiple platform build/check report for BioC 3.9 |
|
This page was generated on 2019-04-09 11:59:34 -0400 (Tue, 09 Apr 2019).
| Package 1089/1703 | Hostname | OS / Arch | INSTALL | BUILD | CHECK | BUILD BIN | ||||||
| NormqPCR 1.29.0 James Perkins
| malbec2 | Linux (Ubuntu 18.04.2 LTS) / x86_64 | OK | OK | OK | |||||||
| tokay2 | Windows Server 2012 R2 Standard / x64 | OK | OK | WARNINGS | [ OK ] | |||||||
| celaya2 | OS X 10.11.6 El Capitan / x86_64 | OK | OK | WARNINGS | OK | |||||||
| merida2 | OS X 10.11.6 El Capitan / x86_64 | OK | OK | WARNINGS | OK |
| Package: NormqPCR |
| Version: 1.29.0 |
| Command: rm -rf NormqPCR.buildbin-libdir && mkdir NormqPCR.buildbin-libdir && C:\Users\biocbuild\bbs-3.9-bioc\R\bin\R.exe CMD INSTALL --merge-multiarch --build --library=NormqPCR.buildbin-libdir NormqPCR_1.29.0.tar.gz |
| StartedAt: 2019-04-09 08:34:39 -0400 (Tue, 09 Apr 2019) |
| EndedAt: 2019-04-09 08:35:19 -0400 (Tue, 09 Apr 2019) |
| EllapsedTime: 40.9 seconds |
| RetCode: 0 |
| Status: OK |
| PackageFile: NormqPCR_1.29.0.zip |
| PackageFileSize: 437.5 KiB |
##############################################################################
##############################################################################
###
### Running command:
###
### rm -rf NormqPCR.buildbin-libdir && mkdir NormqPCR.buildbin-libdir && C:\Users\biocbuild\bbs-3.9-bioc\R\bin\R.exe CMD INSTALL --merge-multiarch --build --library=NormqPCR.buildbin-libdir NormqPCR_1.29.0.tar.gz
###
##############################################################################
##############################################################################
install for i386
* installing *source* package 'NormqPCR' ...
** R
** data
*** moving datasets to lazyload DB
** inst
** byte-compile and prepare package for lazy loading
** help
*** installing help indices
converting help for package 'NormqPCR'
finding HTML links ... done
Bladder html
BladderRepro html
Colon html
ComputeNRQs html
Rd warning: C:/Users/biocbuild/bbs-3.9-bioc/tmpdir/Rtmp2vh6wK/R.INSTALL18b81b2c6a2/NormqPCR/man/ComputeNRQs.Rd:14: file link 'qPCRBatch' in package 'ReadqPCR' does not exist and so has been treated as a topic
CqValues html
Rd warning: C:/Users/biocbuild/bbs-3.9-bioc/tmpdir/Rtmp2vh6wK/R.INSTALL18b81b2c6a2/NormqPCR/man/CqValues.Rd:23: file link 'CyclesSet' in package 'ReadqPCR' does not exist and so has been treated as a topic
NormqPCR-package html
combineTechReps html
combineTechRepsSD html
deltaCt html
deltaDeltaCt html
geNorm html
geomMean html
makeAllNAs html
makeAllNewVal html
replaceAboveCutOff html
replaceNAs html
selectHKs html
stabMeasureM html
stabMeasureRho html
** building package indices
** installing vignettes
** testing if installed package can be loaded from temporary location
** testing if installed package can be loaded from final location
** testing if installed package keeps a record of temporary installation path
install for x64
* installing *source* package 'NormqPCR' ...
** testing if installed package can be loaded
* MD5 sums
packaged installation of 'NormqPCR' as NormqPCR_1.29.0.zip
* DONE (NormqPCR)