| Back to Multiple platform build/check report for BioC 3.9 |
|
This page was generated on 2019-04-09 12:21:03 -0400 (Tue, 09 Apr 2019).
| Package 1083/1703 | Hostname | OS / Arch | INSTALL | BUILD | CHECK | BUILD BIN | ||||||
Xiaobei Zhao
| malbec2 | Linux (Ubuntu 18.04.2 LTS) / x86_64 | ERROR | ERROR | skipped | |||||||
| tokay2 | Windows Server 2012 R2 Standard / x64 | [ ERROR ] | ERROR | skipped | skipped | |||||||
| celaya2 | OS X 10.11.6 El Capitan / x86_64 | ERROR | ERROR | skipped | skipped | |||||||
| merida2 | OS X 10.11.6 El Capitan / x86_64 | ERROR | ERROR | skipped | skipped |
| Package: NGScopy |
| Version: 1.17.2 |
| Command: C:\cygwin\bin\curl.exe -O https://malbec2.bioconductor.org/BBS/3.9/bioc/src/contrib/NGScopy_1.17.2.tar.gz && rm -rf NGScopy.buildbin-libdir && mkdir NGScopy.buildbin-libdir && C:\Users\biocbuild\bbs-3.9-bioc\R\bin\R.exe CMD INSTALL --merge-multiarch --build --library=NGScopy.buildbin-libdir NGScopy_1.17.2.tar.gz && C:\Users\biocbuild\bbs-3.9-bioc\R\bin\R.exe CMD INSTALL NGScopy_1.17.2.zip && rm NGScopy_1.17.2.tar.gz NGScopy_1.17.2.zip |
| StartedAt: 2019-04-08 20:52:38 -0400 (Mon, 08 Apr 2019) |
| EndedAt: 2019-04-08 20:52:39 -0400 (Mon, 08 Apr 2019) |
| EllapsedTime: 1.5 seconds |
| RetCode: 1 |
| Status: ERROR |
##############################################################################
##############################################################################
###
### Running command:
###
### C:\cygwin\bin\curl.exe -O https://malbec2.bioconductor.org/BBS/3.9/bioc/src/contrib/NGScopy_1.17.2.tar.gz && rm -rf NGScopy.buildbin-libdir && mkdir NGScopy.buildbin-libdir && C:\Users\biocbuild\bbs-3.9-bioc\R\bin\R.exe CMD INSTALL --merge-multiarch --build --library=NGScopy.buildbin-libdir NGScopy_1.17.2.tar.gz && C:\Users\biocbuild\bbs-3.9-bioc\R\bin\R.exe CMD INSTALL NGScopy_1.17.2.zip && rm NGScopy_1.17.2.tar.gz NGScopy_1.17.2.zip
###
##############################################################################
##############################################################################
% Total % Received % Xferd Average Speed Time Time Time Current
Dload Upload Total Spent Left Speed
0 0 0 0 0 0 0 0 --:--:-- --:--:-- --:--:-- 0
100 1822k 100 1822k 0 0 18.1M 0 --:--:-- --:--:-- --:--:-- 19.3M
install for i386
ERROR: dependency 'rbamtools' is not available for package 'NGScopy'
* removing 'C:/Users/biocbuild/bbs-3.9-bioc/meat/NGScopy.buildbin-libdir/NGScopy'