| Back to Multiple platform build/check report for BioC 3.9 |
|
This page was generated on 2019-04-09 12:35:36 -0400 (Tue, 09 Apr 2019).
| Package 950/1703 | Hostname | OS / Arch | INSTALL | BUILD | CHECK | BUILD BIN | ||||||
| MetaNeighbor 1.3.1 Manthan Shah
| malbec2 | Linux (Ubuntu 18.04.2 LTS) / x86_64 | ERROR | ERROR | skipped | |||||||
| tokay2 | Windows Server 2012 R2 Standard / x64 | [ ERROR ] | ERROR | skipped | skipped | |||||||
| celaya2 | OS X 10.11.6 El Capitan / x86_64 | OK | ERROR | skipped | skipped | |||||||
| merida2 | OS X 10.11.6 El Capitan / x86_64 | OK | ERROR | skipped | skipped |
| Package: MetaNeighbor |
| Version: 1.3.1 |
| Command: C:\cygwin\bin\curl.exe -O https://malbec2.bioconductor.org/BBS/3.9/bioc/src/contrib/MetaNeighbor_1.3.1.tar.gz && rm -rf MetaNeighbor.buildbin-libdir && mkdir MetaNeighbor.buildbin-libdir && C:\Users\biocbuild\bbs-3.9-bioc\R\bin\R.exe CMD INSTALL --merge-multiarch --build --library=MetaNeighbor.buildbin-libdir MetaNeighbor_1.3.1.tar.gz && C:\Users\biocbuild\bbs-3.9-bioc\R\bin\R.exe CMD INSTALL MetaNeighbor_1.3.1.zip && rm MetaNeighbor_1.3.1.tar.gz MetaNeighbor_1.3.1.zip |
| StartedAt: 2019-04-08 18:59:55 -0400 (Mon, 08 Apr 2019) |
| EndedAt: 2019-04-08 19:00:29 -0400 (Mon, 08 Apr 2019) |
| EllapsedTime: 34.6 seconds |
| RetCode: 1 |
| Status: ERROR |
##############################################################################
##############################################################################
###
### Running command:
###
### C:\cygwin\bin\curl.exe -O https://malbec2.bioconductor.org/BBS/3.9/bioc/src/contrib/MetaNeighbor_1.3.1.tar.gz && rm -rf MetaNeighbor.buildbin-libdir && mkdir MetaNeighbor.buildbin-libdir && C:\Users\biocbuild\bbs-3.9-bioc\R\bin\R.exe CMD INSTALL --merge-multiarch --build --library=MetaNeighbor.buildbin-libdir MetaNeighbor_1.3.1.tar.gz && C:\Users\biocbuild\bbs-3.9-bioc\R\bin\R.exe CMD INSTALL MetaNeighbor_1.3.1.zip && rm MetaNeighbor_1.3.1.tar.gz MetaNeighbor_1.3.1.zip
###
##############################################################################
##############################################################################
% Total % Received % Xferd Average Speed Time Time Time Current
Dload Upload Total Spent Left Speed
0 0 0 0 0 0 0 0 --:--:-- --:--:-- --:--:-- 0
100 3267k 100 3267k 0 0 30.3M 0 --:--:-- --:--:-- --:--:-- 32.5M
install for i386
* installing *source* package 'MetaNeighbor' ...
** libs
make: Nothing to be done for `all'.
installing to C:/Users/biocbuild/bbs-3.9-bioc/meat/MetaNeighbor.buildbin-libdir/00LOCK-MetaNeighbor/00new/MetaNeighbor/libs/i386
** R
** data
*** moving datasets to lazyload DB
** inst
** byte-compile and prepare package for lazy loading
** help
*** installing help indices
converting help for package 'MetaNeighbor'
finding HTML links ... done
GOhuman html
GOmouse html
MetaNeighbor html
MetaNeighborUS html
mn_data html
neighborVoting html
topHits html
variableGenes html
** building package indices
** installing vignettes
** testing if installed package can be loaded from temporary location
Error: package or namespace load failed for 'MetaNeighbor' in inDL(x, as.logical(local), as.logical(now), ...):
unable to load shared object 'C:/Users/biocbuild/bbs-3.9-bioc/meat/MetaNeighbor.buildbin-libdir/00LOCK-MetaNeighbor/00new/MetaNeighbor/libs/i386/MetaNeighbor.dll':
LoadLibrary failure: %1 is not a valid Win32 application.
Error: loading failed
Execution halted
ERROR: loading failed
* removing 'C:/Users/biocbuild/bbs-3.9-bioc/meat/MetaNeighbor.buildbin-libdir/MetaNeighbor'