| Back to Multiple platform build/check report for BioC 3.9 |
|
This page was generated on 2019-04-09 12:39:12 -0400 (Tue, 09 Apr 2019).
| Package 1042/1703 | Hostname | OS / Arch | INSTALL | BUILD | CHECK | BUILD BIN | ||||||
| MSstatsQCgui 1.3.1 Eralp Dogu
| malbec2 | Linux (Ubuntu 18.04.2 LTS) / x86_64 | OK | OK | OK | |||||||
| tokay2 | Windows Server 2012 R2 Standard / x64 | [ OK ] | OK | OK | OK | |||||||
| celaya2 | OS X 10.11.6 El Capitan / x86_64 | OK | OK | OK | OK | |||||||
| merida2 | OS X 10.11.6 El Capitan / x86_64 | OK | OK | OK | OK |
| Package: MSstatsQCgui |
| Version: 1.3.1 |
| Command: C:\cygwin\bin\curl.exe -O https://malbec2.bioconductor.org/BBS/3.9/bioc/src/contrib/MSstatsQCgui_1.3.1.tar.gz && rm -rf MSstatsQCgui.buildbin-libdir && mkdir MSstatsQCgui.buildbin-libdir && C:\Users\biocbuild\bbs-3.9-bioc\R\bin\R.exe CMD INSTALL --merge-multiarch --build --library=MSstatsQCgui.buildbin-libdir MSstatsQCgui_1.3.1.tar.gz && C:\Users\biocbuild\bbs-3.9-bioc\R\bin\R.exe CMD INSTALL MSstatsQCgui_1.3.1.zip && rm MSstatsQCgui_1.3.1.tar.gz MSstatsQCgui_1.3.1.zip |
| StartedAt: 2019-04-08 20:19:13 -0400 (Mon, 08 Apr 2019) |
| EndedAt: 2019-04-08 20:20:01 -0400 (Mon, 08 Apr 2019) |
| EllapsedTime: 48.4 seconds |
| RetCode: 0 |
| Status: OK |
##############################################################################
##############################################################################
###
### Running command:
###
### C:\cygwin\bin\curl.exe -O https://malbec2.bioconductor.org/BBS/3.9/bioc/src/contrib/MSstatsQCgui_1.3.1.tar.gz && rm -rf MSstatsQCgui.buildbin-libdir && mkdir MSstatsQCgui.buildbin-libdir && C:\Users\biocbuild\bbs-3.9-bioc\R\bin\R.exe CMD INSTALL --merge-multiarch --build --library=MSstatsQCgui.buildbin-libdir MSstatsQCgui_1.3.1.tar.gz && C:\Users\biocbuild\bbs-3.9-bioc\R\bin\R.exe CMD INSTALL MSstatsQCgui_1.3.1.zip && rm MSstatsQCgui_1.3.1.tar.gz MSstatsQCgui_1.3.1.zip
###
##############################################################################
##############################################################################
% Total % Received % Xferd Average Speed Time Time Time Current
Dload Upload Total Spent Left Speed
0 0 0 0 0 0 0 0 --:--:-- --:--:-- --:--:-- 0
100 95969 100 95969 0 0 1384k 0 --:--:-- --:--:-- --:--:-- 1561k
install for i386
* installing *source* package 'MSstatsQCgui' ...
** R
** data
*** moving datasets to lazyload DB
** inst
** byte-compile and prepare package for lazy loading
** help
*** installing help indices
converting help for package 'MSstatsQCgui'
finding HTML links ... done
RunMSstatsQC html
S9Site54 html
** building package indices
** installing vignettes
** testing if installed package can be loaded from temporary location
** testing if installed package can be loaded from final location
** testing if installed package keeps a record of temporary installation path
install for x64
* installing *source* package 'MSstatsQCgui' ...
** testing if installed package can be loaded
* MD5 sums
packaged installation of 'MSstatsQCgui' as MSstatsQCgui_1.3.1.zip
* DONE (MSstatsQCgui)
* installing to library 'C:/Users/biocbuild/bbs-3.9-bioc/R/library'
package 'MSstatsQCgui' successfully unpacked and MD5 sums checked