| Back to Multiple platform build/check report for BioC 3.9 |
|
This page was generated on 2019-04-09 12:26:59 -0400 (Tue, 09 Apr 2019).
| Package 1013/1703 | Hostname | OS / Arch | INSTALL | BUILD | CHECK | BUILD BIN | ||||||
| MODA 1.9.0 Dong Li
| malbec2 | Linux (Ubuntu 18.04.2 LTS) / x86_64 | OK | OK | OK | |||||||
| tokay2 | Windows Server 2012 R2 Standard / x64 | [ OK ] | OK | OK | OK | |||||||
| celaya2 | OS X 10.11.6 El Capitan / x86_64 | OK | OK | OK | OK | |||||||
| merida2 | OS X 10.11.6 El Capitan / x86_64 | OK | OK | OK | OK |
| Package: MODA |
| Version: 1.9.0 |
| Command: C:\cygwin\bin\curl.exe -O https://malbec2.bioconductor.org/BBS/3.9/bioc/src/contrib/MODA_1.9.0.tar.gz && rm -rf MODA.buildbin-libdir && mkdir MODA.buildbin-libdir && C:\Users\biocbuild\bbs-3.9-bioc\R\bin\R.exe CMD INSTALL --merge-multiarch --build --library=MODA.buildbin-libdir MODA_1.9.0.tar.gz && C:\Users\biocbuild\bbs-3.9-bioc\R\bin\R.exe CMD INSTALL MODA_1.9.0.zip && rm MODA_1.9.0.tar.gz MODA_1.9.0.zip |
| StartedAt: 2019-04-08 19:01:37 -0400 (Mon, 08 Apr 2019) |
| EndedAt: 2019-04-08 19:02:41 -0400 (Mon, 08 Apr 2019) |
| EllapsedTime: 63.6 seconds |
| RetCode: 0 |
| Status: OK |
##############################################################################
##############################################################################
###
### Running command:
###
### C:\cygwin\bin\curl.exe -O https://malbec2.bioconductor.org/BBS/3.9/bioc/src/contrib/MODA_1.9.0.tar.gz && rm -rf MODA.buildbin-libdir && mkdir MODA.buildbin-libdir && C:\Users\biocbuild\bbs-3.9-bioc\R\bin\R.exe CMD INSTALL --merge-multiarch --build --library=MODA.buildbin-libdir MODA_1.9.0.tar.gz && C:\Users\biocbuild\bbs-3.9-bioc\R\bin\R.exe CMD INSTALL MODA_1.9.0.zip && rm MODA_1.9.0.tar.gz MODA_1.9.0.zip
###
##############################################################################
##############################################################################
% Total % Received % Xferd Average Speed Time Time Time Current
Dload Upload Total Spent Left Speed
0 0 0 0 0 0 0 0 --:--:-- --:--:-- --:--:-- 0
100 288k 100 288k 0 0 2914k 0 --:--:-- --:--:-- --:--:-- 3064k
install for i386
* installing *source* package 'MODA' ...
** R
** data
** inst
** byte-compile and prepare package for lazy loading
** help
*** installing help indices
converting help for package 'MODA'
finding HTML links ... done
CompareAllNets html
MIcondition html
ModuleFrequency html
NMImatrix html
PartitionDensity html
PartitionModularity html
WeightedModulePartitionAmoutain html
WeightedModulePartitionHierarchical html
WeightedModulePartitionLouvain html
WeightedModulePartitionSpectral html
comparemodulestwonets html
datExpr1 html
datExpr2 html
getPartition html
modulesRank html
recursiveigraph html
** building package indices
** installing vignettes
** testing if installed package can be loaded from temporary location
** testing if installed package can be loaded from final location
** testing if installed package keeps a record of temporary installation path
install for x64
* installing *source* package 'MODA' ...
** testing if installed package can be loaded
* MD5 sums
packaged installation of 'MODA' as MODA_1.9.0.zip
* DONE (MODA)
* installing to library 'C:/Users/biocbuild/bbs-3.9-bioc/R/library'
package 'MODA' successfully unpacked and MD5 sums checked