| Back to Multiple platform build/check report for BioC 3.9 |
|
This page was generated on 2019-04-09 12:30:09 -0400 (Tue, 09 Apr 2019).
| Package 981/1703 | Hostname | OS / Arch | INSTALL | BUILD | CHECK | BUILD BIN | ||||||
| MIGSA 1.7.2 Juan C. Rodriguez
| malbec2 | Linux (Ubuntu 18.04.2 LTS) / x86_64 | OK | OK | OK | |||||||
| tokay2 | Windows Server 2012 R2 Standard / x64 | OK | OK | OK | [ OK ] | |||||||
| celaya2 | OS X 10.11.6 El Capitan / x86_64 | OK | OK | OK | OK | |||||||
| merida2 | OS X 10.11.6 El Capitan / x86_64 | OK | OK | OK | OK |
| Package: MIGSA |
| Version: 1.7.2 |
| Command: rm -rf MIGSA.buildbin-libdir && mkdir MIGSA.buildbin-libdir && C:\Users\biocbuild\bbs-3.9-bioc\R\bin\R.exe CMD INSTALL --merge-multiarch --build --library=MIGSA.buildbin-libdir MIGSA_1.7.2.tar.gz |
| StartedAt: 2019-04-09 08:28:27 -0400 (Tue, 09 Apr 2019) |
| EndedAt: 2019-04-09 08:29:12 -0400 (Tue, 09 Apr 2019) |
| EllapsedTime: 45.6 seconds |
| RetCode: 0 |
| Status: OK |
| PackageFile: MIGSA_1.7.2.zip |
| PackageFileSize: 3.227 MiB |
##############################################################################
##############################################################################
###
### Running command:
###
### rm -rf MIGSA.buildbin-libdir && mkdir MIGSA.buildbin-libdir && C:\Users\biocbuild\bbs-3.9-bioc\R\bin\R.exe CMD INSTALL --merge-multiarch --build --library=MIGSA.buildbin-libdir MIGSA_1.7.2.tar.gz
###
##############################################################################
##############################################################################
install for i386
* installing *source* package 'MIGSA' ...
** R
** data
** inst
** byte-compile and prepare package for lazy loading
** help
*** installing help indices
converting help for package 'MIGSA'
finding HTML links ... done
ExprData-class html
FitOptions-class html
GSEAparams-class html
Genesets-as.Genesets html
Genesets-enrichr html
Genesets-geneSetsFromFile html
Genesets-loadGo html
IGSAinput-class html
IGSAinput-getDEGenes html
IGSAinput-getterSetters html
MIGSA html
MIGSAPackage html
MIGSAmGSZ html
MIGSAres-GoAnalysis html
MIGSAres-class html
MIGSAres-common html
MIGSAres-genesManipulation html
MIGSAres-getAdditionalInfo html
MIGSAres-plots html
MIGSAres-setEnrCutoff html
SEAparams-class html
bcMigsaRes html
migsaRes html
summaryFunctions html
** building package indices
** installing vignettes
** testing if installed package can be loaded from temporary location
** testing if installed package can be loaded from final location
** testing if installed package keeps a record of temporary installation path
install for x64
* installing *source* package 'MIGSA' ...
** testing if installed package can be loaded
* MD5 sums
packaged installation of 'MIGSA' as MIGSA_1.7.2.zip
* DONE (MIGSA)