| Back to Multiple platform build/check report for BioC 3.9 |
|
This page was generated on 2019-04-09 13:33:54 -0400 (Tue, 09 Apr 2019).
| Package 858/1703 | Hostname | OS / Arch | INSTALL | BUILD | CHECK | BUILD BIN | ||||||
| LINC 1.11.0 Manuel Goepferich
| malbec2 | Linux (Ubuntu 18.04.2 LTS) / x86_64 | OK | OK | OK | |||||||
| tokay2 | Windows Server 2012 R2 Standard / x64 | OK | OK | OK | OK | |||||||
| celaya2 | OS X 10.11.6 El Capitan / x86_64 | OK | OK | OK | OK | |||||||
| merida2 | OS X 10.11.6 El Capitan / x86_64 | [ OK ] | OK | OK | OK |
| Package: LINC |
| Version: 1.11.0 |
| Command: /Library/Frameworks/R.framework/Versions/Current/Resources/bin/R CMD INSTALL LINC |
| StartedAt: 2019-04-08 18:56:33 -0400 (Mon, 08 Apr 2019) |
| EndedAt: 2019-04-08 18:57:25 -0400 (Mon, 08 Apr 2019) |
| EllapsedTime: 51.6 seconds |
| RetCode: 0 |
| Status: OK |
##############################################################################
##############################################################################
###
### Running command:
###
### /Library/Frameworks/R.framework/Versions/Current/Resources/bin/R CMD INSTALL LINC
###
##############################################################################
##############################################################################
* installing to library ‘/Library/Frameworks/R.framework/Versions/3.6/Resources/library’
* installing *source* package ‘LINC’ ...
** libs
clang++ -std=gnu++11 -I"/Library/Frameworks/R.framework/Resources/include" -DNDEBUG -I"/Library/Frameworks/R.framework/Versions/3.6/Resources/library/Rcpp/include" -I/usr/local/include -fPIC -Wall -g -O2 -c Cppspear.cpp -o Cppspear.o
Cppspear.cpp:78:14: warning: unused variable 'qspear' [-Wunused-variable]
double qspear;double nfraction;
^
1 warning generated.
clang -I"/Library/Frameworks/R.framework/Resources/include" -DNDEBUG -I"/Library/Frameworks/R.framework/Versions/3.6/Resources/library/Rcpp/include" -I/usr/local/include -fPIC -Wall -g -O2 -c LINC_init.c -o LINC_init.o
clang++ -std=gnu++11 -I"/Library/Frameworks/R.framework/Resources/include" -DNDEBUG -I"/Library/Frameworks/R.framework/Versions/3.6/Resources/library/Rcpp/include" -I/usr/local/include -fPIC -Wall -g -O2 -c RcppExports.cpp -o RcppExports.o
clang++ -std=gnu++11 -I"/Library/Frameworks/R.framework/Resources/include" -DNDEBUG -I"/Library/Frameworks/R.framework/Versions/3.6/Resources/library/Rcpp/include" -I/usr/local/include -fPIC -Wall -g -O2 -c docdd.cpp -o docdd.o
clang++ -std=gnu++11 -I"/Library/Frameworks/R.framework/Resources/include" -DNDEBUG -I"/Library/Frameworks/R.framework/Versions/3.6/Resources/library/Rcpp/include" -I/usr/local/include -fPIC -Wall -g -O2 -c doesd.cpp -o doesd.o
clang++ -std=gnu++11 -dynamiclib -Wl,-headerpad_max_install_names -undefined dynamic_lookup -single_module -multiply_defined suppress -L/Library/Frameworks/R.framework/Resources/lib -L/usr/local/lib -o LINC.so Cppspear.o LINC_init.o RcppExports.o docdd.o doesd.o -F/Library/Frameworks/R.framework/.. -framework R -Wl,-framework -Wl,CoreFoundation
installing to /Library/Frameworks/R.framework/Versions/3.6/Resources/library/LINC/libs
** R
** data
** inst
** byte-compile and prepare package for lazy loading
Creating a new generic function for ‘history’ in package ‘LINC’
** help
*** installing help indices
** building package indices
** installing vignettes
** testing if installed package can be loaded
* DONE (LINC)