| Back to Multiple platform build/check report for BioC 3.9 |
|
This page was generated on 2019-04-09 11:29:37 -0400 (Tue, 09 Apr 2019).
| Package 816/1703 | Hostname | OS / Arch | INSTALL | BUILD | CHECK | BUILD BIN | ||||||
| IPPD 1.31.0 Martin Slawski
| malbec2 | Linux (Ubuntu 18.04.2 LTS) / x86_64 | [ OK ] | OK | OK | |||||||
| tokay2 | Windows Server 2012 R2 Standard / x64 | OK | OK | OK | OK | |||||||
| celaya2 | OS X 10.11.6 El Capitan / x86_64 | OK | OK | OK | OK | |||||||
| merida2 | OS X 10.11.6 El Capitan / x86_64 | OK | OK | OK | OK |
| Package: IPPD |
| Version: 1.31.0 |
| Command: /home/biocbuild/bbs-3.9-bioc/R/bin/R CMD INSTALL IPPD |
| StartedAt: 2019-04-08 18:04:26 -0400 (Mon, 08 Apr 2019) |
| EndedAt: 2019-04-08 18:04:43 -0400 (Mon, 08 Apr 2019) |
| EllapsedTime: 16.4 seconds |
| RetCode: 0 |
| Status: OK |
##############################################################################
##############################################################################
###
### Running command:
###
### /home/biocbuild/bbs-3.9-bioc/R/bin/R CMD INSTALL IPPD
###
##############################################################################
##############################################################################
* installing to library ‘/home/biocbuild/bbs-3.9-bioc/R/library’
* installing *source* package ‘IPPD’ ...
** using staged installation
** libs
gcc -I"/home/biocbuild/bbs-3.9-bioc/R/include" -DNDEBUG -I/usr/local/include -fpic -g -O2 -Wall -c R_init_IPPD.c -o R_init_IPPD.o
R_init_IPPD.c:17:40: warning: missing braces around initializer [-Wmissing-braces]
static const R_CMethodDef cmethods[] = {
^
gcc -shared -L/home/biocbuild/bbs-3.9-bioc/R/lib -L/usr/local/lib -o IPPD.so R_init_IPPD.o -L/home/biocbuild/bbs-3.9-bioc/R/lib -lR
installing to /home/biocbuild/bbs-3.9-bioc/R/library/00LOCK-IPPD/00new/IPPD/libs
** R
** data
** inst
** byte-compile and prepare package for lazy loading
** help
*** installing help indices
** building package indices
** installing vignettes
** testing if installed package can be loaded from temporary location
** checking absolute paths in shared objects and dynamic libraries
** testing if installed package can be loaded from final location
** testing if installed package keeps a record of temporary installation path
* DONE (IPPD)