| Back to Multiple platform build/check report for BioC 3.9 |
|
This page was generated on 2019-04-09 12:42:29 -0400 (Tue, 09 Apr 2019).
| Package 751/1703 | Hostname | OS / Arch | INSTALL | BUILD | CHECK | BUILD BIN | ||||||
| HIREewas 1.1.2 Xiangyu Luo
| malbec2 | Linux (Ubuntu 18.04.2 LTS) / x86_64 | OK | OK | OK | |||||||
| tokay2 | Windows Server 2012 R2 Standard / x64 | OK | OK | OK | [ OK ] | |||||||
| celaya2 | OS X 10.11.6 El Capitan / x86_64 | OK | OK | OK | OK | |||||||
| merida2 | OS X 10.11.6 El Capitan / x86_64 | OK | OK | OK | OK |
| Package: HIREewas |
| Version: 1.1.2 |
| Command: rm -rf HIREewas.buildbin-libdir && mkdir HIREewas.buildbin-libdir && C:\Users\biocbuild\bbs-3.9-bioc\R\bin\R.exe CMD INSTALL --merge-multiarch --build --library=HIREewas.buildbin-libdir HIREewas_1.1.2.tar.gz |
| StartedAt: 2019-04-09 08:13:59 -0400 (Tue, 09 Apr 2019) |
| EndedAt: 2019-04-09 08:14:28 -0400 (Tue, 09 Apr 2019) |
| EllapsedTime: 29.5 seconds |
| RetCode: 0 |
| Status: OK |
| PackageFile: HIREewas_1.1.2.zip |
| PackageFileSize: 279.7 KiB |
##############################################################################
##############################################################################
###
### Running command:
###
### rm -rf HIREewas.buildbin-libdir && mkdir HIREewas.buildbin-libdir && C:\Users\biocbuild\bbs-3.9-bioc\R\bin\R.exe CMD INSTALL --merge-multiarch --build --library=HIREewas.buildbin-libdir HIREewas_1.1.2.tar.gz
###
##############################################################################
##############################################################################
install for i386
* installing *source* package 'HIREewas' ...
** libs
C:/Rtools/mingw_32/bin/gcc -I"C:/Users/BIOCBU˜1/BBS-3˜1.9-B/R/include" -DNDEBUG -I"C:/extsoft/include" -O3 -Wall -std=gnu99 -mtune=generic -c HIRE.c -o HIRE.o
C:/Rtools/mingw_32/bin/gcc -shared -s -static-libgcc -o HIREewas.dll tmp.def HIRE.o -LC:/extsoft/lib/i386 -LC:/extsoft/lib -LC:/Users/BIOCBU˜1/BBS-3˜1.9-B/R/bin/i386 -lR
installing to C:/Users/biocbuild/bbs-3.9-bioc/meat/HIREewas.buildbin-libdir/00LOCK-HIREewas/00new/HIREewas/libs/i386
** R
** inst
** byte-compile and prepare package for lazy loading
** help
*** installing help indices
converting help for package 'HIREewas'
finding HTML links ... done
HIRE html
HIREewas-package html
riskCpGpattern html
** building package indices
** installing vignettes
** testing if installed package can be loaded from temporary location
** testing if installed package can be loaded from final location
** testing if installed package keeps a record of temporary installation path
install for x64
* installing *source* package 'HIREewas' ...
** libs
C:/Rtools/mingw_64/bin/gcc -I"C:/Users/BIOCBU˜1/BBS-3˜1.9-B/R/include" -DNDEBUG -I"C:/extsoft/include" -O2 -Wall -std=gnu99 -mtune=generic -c HIRE.c -o HIRE.o
C:/Rtools/mingw_64/bin/gcc -shared -s -static-libgcc -o HIREewas.dll tmp.def HIRE.o -LC:/extsoft/lib/x64 -LC:/extsoft/lib -LC:/Users/BIOCBU˜1/BBS-3˜1.9-B/R/bin/x64 -lR
installing to C:/Users/biocbuild/bbs-3.9-bioc/meat/HIREewas.buildbin-libdir/HIREewas/libs/x64
** testing if installed package can be loaded
* MD5 sums
packaged installation of 'HIREewas' as HIREewas_1.1.2.zip
* DONE (HIREewas)