| Back to Multiple platform build/check report for BioC 3.9 |
|
This page was generated on 2019-04-09 12:20:07 -0400 (Tue, 09 Apr 2019).
| Package 712/1703 | Hostname | OS / Arch | INSTALL | BUILD | CHECK | BUILD BIN | ||||||
| GSAR 1.17.1 Yasir Rahmatallah
| malbec2 | Linux (Ubuntu 18.04.2 LTS) / x86_64 | OK | OK | OK | |||||||
| tokay2 | Windows Server 2012 R2 Standard / x64 | OK | OK | OK | [ OK ] | |||||||
| celaya2 | OS X 10.11.6 El Capitan / x86_64 | OK | OK | OK | OK | |||||||
| merida2 | OS X 10.11.6 El Capitan / x86_64 | OK | OK | OK | OK |
| Package: GSAR |
| Version: 1.17.1 |
| Command: rm -rf GSAR.buildbin-libdir && mkdir GSAR.buildbin-libdir && C:\Users\biocbuild\bbs-3.9-bioc\R\bin\R.exe CMD INSTALL --merge-multiarch --build --library=GSAR.buildbin-libdir GSAR_1.17.1.tar.gz |
| StartedAt: 2019-04-09 08:09:24 -0400 (Tue, 09 Apr 2019) |
| EndedAt: 2019-04-09 08:10:11 -0400 (Tue, 09 Apr 2019) |
| EllapsedTime: 47.4 seconds |
| RetCode: 0 |
| Status: OK |
| PackageFile: GSAR_1.17.1.zip |
| PackageFileSize: 3.567 MiB |
##############################################################################
##############################################################################
###
### Running command:
###
### rm -rf GSAR.buildbin-libdir && mkdir GSAR.buildbin-libdir && C:\Users\biocbuild\bbs-3.9-bioc\R\bin\R.exe CMD INSTALL --merge-multiarch --build --library=GSAR.buildbin-libdir GSAR_1.17.1.tar.gz
###
##############################################################################
##############################################################################
install for i386
* installing *source* package 'GSAR' ...
** R
** data
*** moving datasets to lazyload DB
** inst
** byte-compile and prepare package for lazy loading
** help
*** installing help indices
converting help for package 'GSAR'
finding HTML links ... done
AggrFtest html
GSAR-package html
finding level-2 HTML links ... done
GSNCAtest html
HDP.ranking html
KStest html
MDtest html
RKStest html
RMDtest html
TestGeneSets html
WWtest html
findMST2.PPI html
findMST2 html
p53DataSet html
plotMST2.pathway html
radial.ranking html
** building package indices
** installing vignettes
** testing if installed package can be loaded from temporary location
** testing if installed package can be loaded from final location
** testing if installed package keeps a record of temporary installation path
install for x64
* installing *source* package 'GSAR' ...
** testing if installed package can be loaded
* MD5 sums
packaged installation of 'GSAR' as GSAR_1.17.1.zip
* DONE (GSAR)