This page was generated on 2019-04-09 11:17:48 -0400 (Tue, 09 Apr 2019).
GSAR 1.17.1 Yasir Rahmatallah , Galina Glazko
| Snapshot Date: 2019-04-08 17:01:18 -0400 (Mon, 08 Apr 2019) |
| URL: https://git.bioconductor.org/packages/GSAR |
| Branch: master |
| Last Commit: 5257253 |
| Last Changed Date: 2019-03-28 14:39:26 -0400 (Thu, 28 Mar 2019) |
| malbec2 | Linux (Ubuntu 18.04.2 LTS) / x86_64 | OK | OK | OK | |  |
| tokay2 | Windows Server 2012 R2 Standard / x64 | OK | OK | OK | OK |  |
| celaya2 | OS X 10.11.6 El Capitan / x86_64 | OK | OK | OK | OK |  |
| merida2 | OS X 10.11.6 El Capitan / x86_64 | OK | OK | OK | OK | |