| Back to Multiple platform build/check report for BioC 3.9 |
|
This page was generated on 2019-04-09 12:25:29 -0400 (Tue, 09 Apr 2019).
| Package 711/1703 | Hostname | OS / Arch | INSTALL | BUILD | CHECK | BUILD BIN | ||||||
| GSALightning 1.11.0 Billy Heung Wing Chang
| malbec2 | Linux (Ubuntu 18.04.2 LTS) / x86_64 | OK | OK | OK | |||||||
| tokay2 | Windows Server 2012 R2 Standard / x64 | OK | OK | OK | [ OK ] | |||||||
| celaya2 | OS X 10.11.6 El Capitan / x86_64 | OK | OK | OK | OK | |||||||
| merida2 | OS X 10.11.6 El Capitan / x86_64 | OK | OK | OK | OK |
| Package: GSALightning |
| Version: 1.11.0 |
| Command: rm -rf GSALightning.buildbin-libdir && mkdir GSALightning.buildbin-libdir && C:\Users\biocbuild\bbs-3.9-bioc\R\bin\R.exe CMD INSTALL --merge-multiarch --build --library=GSALightning.buildbin-libdir GSALightning_1.11.0.tar.gz |
| StartedAt: 2019-04-09 08:09:20 -0400 (Tue, 09 Apr 2019) |
| EndedAt: 2019-04-09 08:10:18 -0400 (Tue, 09 Apr 2019) |
| EllapsedTime: 58.1 seconds |
| RetCode: 0 |
| Status: OK |
| PackageFile: GSALightning_1.11.0.zip |
| PackageFileSize: 4.27 MiB |
##############################################################################
##############################################################################
###
### Running command:
###
### rm -rf GSALightning.buildbin-libdir && mkdir GSALightning.buildbin-libdir && C:\Users\biocbuild\bbs-3.9-bioc\R\bin\R.exe CMD INSTALL --merge-multiarch --build --library=GSALightning.buildbin-libdir GSALightning_1.11.0.tar.gz
###
##############################################################################
##############################################################################
install for i386
* installing *source* package 'GSALightning' ...
** R
** data
** inst
** byte-compile and prepare package for lazy loading
** help
*** installing help indices
converting help for package 'GSALightning'
finding HTML links ... done
GSALight html
GSALightning-package html
expression html
permTestLight html
sampleInfo html
targetGenes html
wilcoxTest html
** building package indices
** installing vignettes
** testing if installed package can be loaded from temporary location
** testing if installed package can be loaded from final location
** testing if installed package keeps a record of temporary installation path
install for x64
* installing *source* package 'GSALightning' ...
** testing if installed package can be loaded
* MD5 sums
packaged installation of 'GSALightning' as GSALightning_1.11.0.zip
* DONE (GSALightning)