| Back to Multiple platform build/check report for BioC 3.9 |
|
This page was generated on 2019-04-09 12:40:21 -0400 (Tue, 09 Apr 2019).
| Package 680/1703 | Hostname | OS / Arch | INSTALL | BUILD | CHECK | BUILD BIN | ||||||
| GMRP 1.11.1 Yuan-De Tan
| malbec2 | Linux (Ubuntu 18.04.2 LTS) / x86_64 | OK | OK | WARNINGS | |||||||
| tokay2 | Windows Server 2012 R2 Standard / x64 | [ OK ] | OK | WARNINGS | OK | |||||||
| celaya2 | OS X 10.11.6 El Capitan / x86_64 | OK | OK | WARNINGS | OK | |||||||
| merida2 | OS X 10.11.6 El Capitan / x86_64 | OK | OK | WARNINGS | OK |
| Package: GMRP |
| Version: 1.11.1 |
| Command: C:\cygwin\bin\curl.exe -O https://malbec2.bioconductor.org/BBS/3.9/bioc/src/contrib/GMRP_1.11.1.tar.gz && rm -rf GMRP.buildbin-libdir && mkdir GMRP.buildbin-libdir && C:\Users\biocbuild\bbs-3.9-bioc\R\bin\R.exe CMD INSTALL --merge-multiarch --build --library=GMRP.buildbin-libdir GMRP_1.11.1.tar.gz && C:\Users\biocbuild\bbs-3.9-bioc\R\bin\R.exe CMD INSTALL GMRP_1.11.1.zip && rm GMRP_1.11.1.tar.gz GMRP_1.11.1.zip |
| StartedAt: 2019-04-08 19:37:13 -0400 (Mon, 08 Apr 2019) |
| EndedAt: 2019-04-08 19:37:55 -0400 (Mon, 08 Apr 2019) |
| EllapsedTime: 41.7 seconds |
| RetCode: 0 |
| Status: OK |
##############################################################################
##############################################################################
###
### Running command:
###
### C:\cygwin\bin\curl.exe -O https://malbec2.bioconductor.org/BBS/3.9/bioc/src/contrib/GMRP_1.11.1.tar.gz && rm -rf GMRP.buildbin-libdir && mkdir GMRP.buildbin-libdir && C:\Users\biocbuild\bbs-3.9-bioc\R\bin\R.exe CMD INSTALL --merge-multiarch --build --library=GMRP.buildbin-libdir GMRP_1.11.1.tar.gz && C:\Users\biocbuild\bbs-3.9-bioc\R\bin\R.exe CMD INSTALL GMRP_1.11.1.zip && rm GMRP_1.11.1.tar.gz GMRP_1.11.1.zip
###
##############################################################################
##############################################################################
% Total % Received % Xferd Average Speed Time Time Time Current
Dload Upload Total Spent Left Speed
0 0 0 0 0 0 0 0 --:--:-- --:--:-- --:--:-- 0
100 372k 100 372k 0 0 4247k 0 --:--:-- --:--:-- --:--:-- 4599k
install for i386
* installing *source* package 'GMRP' ...
** R
** data
** inst
** byte-compile and prepare package for lazy loading
Warning: replacing previous import 'grDevices::windows' by 'GenomicRanges::windows' when loading 'GMRP'
** help
*** installing help indices
converting help for package 'GMRP'
finding HTML links ... done
GMRP-package html
SNP358.data html
SNP368annot.data html
beta.data html
cad.data html
chrp html
fmerge html
lpd.data html
mktable html
path html
pathdiagram html
pathdiagram2 html
snpPositAnnot html
ucscannot html
** building package indices
** installing vignettes
'GMRP.Rnw'
** testing if installed package can be loaded from temporary location
Warning: replacing previous import 'grDevices::windows' by 'GenomicRanges::windows' when loading 'GMRP'
Warning: Package 'GMRP' is deprecated and will be removed from Bioconductor
version 3.7
** testing if installed package can be loaded from final location
Warning: replacing previous import 'grDevices::windows' by 'GenomicRanges::windows' when loading 'GMRP'
Warning: Package 'GMRP' is deprecated and will be removed from Bioconductor
version 3.7
** testing if installed package keeps a record of temporary installation path
install for x64
* installing *source* package 'GMRP' ...
** testing if installed package can be loaded
Warning: replacing previous import 'grDevices::windows' by 'GenomicRanges::windows' when loading 'GMRP'
Warning: Package 'GMRP' is deprecated and will be removed from Bioconductor
version 3.7
* MD5 sums
packaged installation of 'GMRP' as GMRP_1.11.1.zip
* DONE (GMRP)
* installing to library 'C:/Users/biocbuild/bbs-3.9-bioc/R/library'
package 'GMRP' successfully unpacked and MD5 sums checked