| Back to Multiple platform build/check report for BioC 3.9 |
|
This page was generated on 2019-04-09 12:30:10 -0400 (Tue, 09 Apr 2019).
| Package 672/1703 | Hostname | OS / Arch | INSTALL | BUILD | CHECK | BUILD BIN | ||||||
| GISPA 1.7.0 Bhakti Dwivedi
| malbec2 | Linux (Ubuntu 18.04.2 LTS) / x86_64 | OK | OK | OK | |||||||
| tokay2 | Windows Server 2012 R2 Standard / x64 | [ OK ] | OK | OK | OK | |||||||
| celaya2 | OS X 10.11.6 El Capitan / x86_64 | OK | OK | OK | OK | |||||||
| merida2 | OS X 10.11.6 El Capitan / x86_64 | OK | OK | OK | OK |
| Package: GISPA |
| Version: 1.7.0 |
| Command: C:\cygwin\bin\curl.exe -O https://malbec2.bioconductor.org/BBS/3.9/bioc/src/contrib/GISPA_1.7.0.tar.gz && rm -rf GISPA.buildbin-libdir && mkdir GISPA.buildbin-libdir && C:\Users\biocbuild\bbs-3.9-bioc\R\bin\R.exe CMD INSTALL --merge-multiarch --build --library=GISPA.buildbin-libdir GISPA_1.7.0.tar.gz && C:\Users\biocbuild\bbs-3.9-bioc\R\bin\R.exe CMD INSTALL GISPA_1.7.0.zip && rm GISPA_1.7.0.tar.gz GISPA_1.7.0.zip |
| StartedAt: 2019-04-08 19:21:54 -0400 (Mon, 08 Apr 2019) |
| EndedAt: 2019-04-08 19:22:54 -0400 (Mon, 08 Apr 2019) |
| EllapsedTime: 59.6 seconds |
| RetCode: 0 |
| Status: OK |
##############################################################################
##############################################################################
###
### Running command:
###
### C:\cygwin\bin\curl.exe -O https://malbec2.bioconductor.org/BBS/3.9/bioc/src/contrib/GISPA_1.7.0.tar.gz && rm -rf GISPA.buildbin-libdir && mkdir GISPA.buildbin-libdir && C:\Users\biocbuild\bbs-3.9-bioc\R\bin\R.exe CMD INSTALL --merge-multiarch --build --library=GISPA.buildbin-libdir GISPA_1.7.0.tar.gz && C:\Users\biocbuild\bbs-3.9-bioc\R\bin\R.exe CMD INSTALL GISPA_1.7.0.zip && rm GISPA_1.7.0.tar.gz GISPA_1.7.0.zip
###
##############################################################################
##############################################################################
% Total % Received % Xferd Average Speed Time Time Time Current
Dload Upload Total Spent Left Speed
0 0 0 0 0 0 0 0 --:--:-- --:--:-- --:--:-- 0
100 187k 100 187k 0 0 3135k 0 --:--:-- --:--:-- --:--:-- 3538k
install for i386
* installing *source* package 'GISPA' ...
** R
** data
*** moving datasets to lazyload DB
** byte-compile and prepare package for lazy loading
** help
*** installing help indices
converting help for package 'GISPA'
finding HTML links ... done
GISPA html
cnvset html
computePS html
cptModel html
cptPlot html
cptSlopeplot html
exprset html
propBarplot html
stackedBarplot html
varset html
** building package indices
** installing vignettes
** testing if installed package can be loaded from temporary location
** testing if installed package can be loaded from final location
** testing if installed package keeps a record of temporary installation path
install for x64
* installing *source* package 'GISPA' ...
** testing if installed package can be loaded
* MD5 sums
packaged installation of 'GISPA' as GISPA_1.7.0.zip
* DONE (GISPA)
* installing to library 'C:/Users/biocbuild/bbs-3.9-bioc/R/library'
package 'GISPA' successfully unpacked and MD5 sums checked