| Back to Multiple platform build/check report for BioC 3.9 |
|
This page was generated on 2019-04-09 12:41:54 -0400 (Tue, 09 Apr 2019).
| Package 580/1703 | Hostname | OS / Arch | INSTALL | BUILD | CHECK | BUILD BIN | ||||||
| FoldGO 1.1.1 Daniil Wiebe
| malbec2 | Linux (Ubuntu 18.04.2 LTS) / x86_64 | OK | OK | OK | |||||||
| tokay2 | Windows Server 2012 R2 Standard / x64 | OK | OK | OK | [ OK ] | |||||||
| celaya2 | OS X 10.11.6 El Capitan / x86_64 | OK | OK | OK | OK | |||||||
| merida2 | OS X 10.11.6 El Capitan / x86_64 | OK | OK | OK | OK |
| Package: FoldGO |
| Version: 1.1.1 |
| Command: rm -rf FoldGO.buildbin-libdir && mkdir FoldGO.buildbin-libdir && C:\Users\biocbuild\bbs-3.9-bioc\R\bin\R.exe CMD INSTALL --merge-multiarch --build --library=FoldGO.buildbin-libdir FoldGO_1.1.1.tar.gz |
| StartedAt: 2019-04-09 07:56:39 -0400 (Tue, 09 Apr 2019) |
| EndedAt: 2019-04-09 07:57:26 -0400 (Tue, 09 Apr 2019) |
| EllapsedTime: 47.5 seconds |
| RetCode: 0 |
| Status: OK |
| PackageFile: FoldGO_1.1.1.zip |
| PackageFileSize: 2.122 MiB |
##############################################################################
##############################################################################
###
### Running command:
###
### rm -rf FoldGO.buildbin-libdir && mkdir FoldGO.buildbin-libdir && C:\Users\biocbuild\bbs-3.9-bioc\R\bin\R.exe CMD INSTALL --merge-multiarch --build --library=FoldGO.buildbin-libdir FoldGO_1.1.1.tar.gz
###
##############################################################################
##############################################################################
install for i386
* installing *source* package 'FoldGO' ...
** R
** data
*** moving datasets to lazyload DB
** inst
** byte-compile and prepare package for lazy loading
in method for 'getAnnotation' with signature '"MgsaSets"': no definition for class "MgsaSets"
** help
*** installing help indices
converting help for package 'FoldGO'
finding HTML links ... done
examdata_bg html
examdata_degs html
examdata_objs html
fagroupstopgo_class html
foldspectest_class html
gafreader_class html
genegroups_class html
getAnnotation html
getWholeIntName html
plot-FoldSpecTest-ANY-method html
rna_seq_data html
** building package indices
** installing vignettes
** testing if installed package can be loaded from temporary location
** testing if installed package can be loaded from final location
** testing if installed package keeps a record of temporary installation path
install for x64
* installing *source* package 'FoldGO' ...
** testing if installed package can be loaded
* MD5 sums
packaged installation of 'FoldGO' as FoldGO_1.1.1.zip
* DONE (FoldGO)