| Back to Multiple platform build/check report for BioC 3.9 |
|
This page was generated on 2019-04-09 12:29:48 -0400 (Tue, 09 Apr 2019).
| Package 514/1703 | Hostname | OS / Arch | INSTALL | BUILD | CHECK | BUILD BIN | ||||||
| EventPointer 2.1.4 Juan Pablo Romero
| malbec2 | Linux (Ubuntu 18.04.2 LTS) / x86_64 | OK | ERROR | skipped | |||||||
| tokay2 | Windows Server 2012 R2 Standard / x64 | [ OK ] | OK | ERROR | OK | |||||||
| celaya2 | OS X 10.11.6 El Capitan / x86_64 | OK | OK | ERROR | OK | |||||||
| merida2 | OS X 10.11.6 El Capitan / x86_64 | OK | OK | ERROR | OK |
| Package: EventPointer |
| Version: 2.1.4 |
| Command: C:\cygwin\bin\curl.exe -O https://malbec2.bioconductor.org/BBS/3.9/bioc/src/contrib/EventPointer_2.1.4.tar.gz && rm -rf EventPointer.buildbin-libdir && mkdir EventPointer.buildbin-libdir && C:\Users\biocbuild\bbs-3.9-bioc\R\bin\R.exe CMD INSTALL --merge-multiarch --build --library=EventPointer.buildbin-libdir EventPointer_2.1.4.tar.gz && C:\Users\biocbuild\bbs-3.9-bioc\R\bin\R.exe CMD INSTALL EventPointer_2.1.4.zip && rm EventPointer_2.1.4.tar.gz EventPointer_2.1.4.zip |
| StartedAt: 2019-04-08 20:09:16 -0400 (Mon, 08 Apr 2019) |
| EndedAt: 2019-04-08 20:12:38 -0400 (Mon, 08 Apr 2019) |
| EllapsedTime: 202.0 seconds |
| RetCode: 0 |
| Status: OK |
##############################################################################
##############################################################################
###
### Running command:
###
### C:\cygwin\bin\curl.exe -O https://malbec2.bioconductor.org/BBS/3.9/bioc/src/contrib/EventPointer_2.1.4.tar.gz && rm -rf EventPointer.buildbin-libdir && mkdir EventPointer.buildbin-libdir && C:\Users\biocbuild\bbs-3.9-bioc\R\bin\R.exe CMD INSTALL --merge-multiarch --build --library=EventPointer.buildbin-libdir EventPointer_2.1.4.tar.gz && C:\Users\biocbuild\bbs-3.9-bioc\R\bin\R.exe CMD INSTALL EventPointer_2.1.4.zip && rm EventPointer_2.1.4.tar.gz EventPointer_2.1.4.zip
###
##############################################################################
##############################################################################
% Total % Received % Xferd Average Speed Time Time Time Current
Dload Upload Total Spent Left Speed
0 0 0 0 0 0 0 0 --:--:-- --:--:-- --:--:-- 0
100 764k 100 764k 0 0 10.4M 0 --:--:-- --:--:-- --:--:-- 11.4M
install for i386
* installing *source* package 'EventPointer' ...
** R
** data
*** moving datasets to lazyload DB
** inst
** byte-compile and prepare package for lazy loading
** help
*** installing help indices
converting help for package 'EventPointer'
finding HTML links ... done
AllEvents_RNASeq html
AllEvents_RNASeq_MP html
ArrayDatamultipath html
ArraysData html
CDFfromGTF html
CDFfromGTF_Multipath html
EventDetection html
EventDetectionMultipath html
EventPointer html
EventPointer_IGV html
EventPointer_RNASeq html
EventPointer_RNASeq_IGV html
EventPointer_RNASeq_TranRef html
EventXtrans html
EventsGTFfromTrancriptomeGTF html
FindPrimers html
GetPSI_FromTranRef html
InternalFunctions html
MyPrimers html
MyPrimers_taqman html
PSI_Statistic html
PSIss html
PrepareBam_EP html
SG_RNASeq html
getbootstrapkallisto html
** building package indices
** installing vignettes
** testing if installed package can be loaded from temporary location
** testing if installed package can be loaded from final location
** testing if installed package keeps a record of temporary installation path
install for x64
* installing *source* package 'EventPointer' ...
** testing if installed package can be loaded
* MD5 sums
packaged installation of 'EventPointer' as EventPointer_2.1.4.zip
* DONE (EventPointer)
* installing to library 'C:/Users/biocbuild/bbs-3.9-bioc/R/library'
package 'EventPointer' successfully unpacked and MD5 sums checked