| Back to Multiple platform build/check report for BioC 3.9 |
|
This page was generated on 2019-04-09 12:23:56 -0400 (Tue, 09 Apr 2019).
| Package 489/1703 | Hostname | OS / Arch | INSTALL | BUILD | CHECK | BUILD BIN | ||||||
| ENCODExplorer 2.9.0 Charles Joly Beauparlant
| malbec2 | Linux (Ubuntu 18.04.2 LTS) / x86_64 | OK | OK | OK | |||||||
| tokay2 | Windows Server 2012 R2 Standard / x64 | OK | OK | OK | [ OK ] | |||||||
| celaya2 | OS X 10.11.6 El Capitan / x86_64 | OK | OK | OK | OK | |||||||
| merida2 | OS X 10.11.6 El Capitan / x86_64 | OK | OK | OK | OK |
| Package: ENCODExplorer |
| Version: 2.9.0 |
| Command: rm -rf ENCODExplorer.buildbin-libdir && mkdir ENCODExplorer.buildbin-libdir && C:\Users\biocbuild\bbs-3.9-bioc\R\bin\R.exe CMD INSTALL --merge-multiarch --build --library=ENCODExplorer.buildbin-libdir ENCODExplorer_2.9.0.tar.gz |
| StartedAt: 2019-04-09 07:51:10 -0400 (Tue, 09 Apr 2019) |
| EndedAt: 2019-04-09 07:52:09 -0400 (Tue, 09 Apr 2019) |
| EllapsedTime: 59.6 seconds |
| RetCode: 0 |
| Status: OK |
| PackageFile: ENCODExplorer_2.9.0.zip |
| PackageFileSize: 72.61 MiB |
##############################################################################
##############################################################################
###
### Running command:
###
### rm -rf ENCODExplorer.buildbin-libdir && mkdir ENCODExplorer.buildbin-libdir && C:\Users\biocbuild\bbs-3.9-bioc\R\bin\R.exe CMD INSTALL --merge-multiarch --build --library=ENCODExplorer.buildbin-libdir ENCODExplorer_2.9.0.tar.gz
###
##############################################################################
##############################################################################
install for i386
* installing *source* package 'ENCODExplorer' ...
** R
** data
*** moving datasets to lazyload DB
** inst
** byte-compile and prepare package for lazy loading
** help
*** installing help indices
converting help for package 'ENCODExplorer'
finding HTML links ... done
ENCODExplorer html
clean_column html
clean_table html
createDesign html
downloadEncode html
download_dt_file html
download_single_file html
encode_df html
export_ENCODEdb_matrix html
extract_table html
fuzzySearch html
get_encode_types html
get_schemas html
prepare_ENCODEdb html
queryEncode html
searchEncode html
searchToquery html
shinyEncode html
** building package indices
** installing vignettes
** testing if installed package can be loaded from temporary location
** testing if installed package can be loaded from final location
** testing if installed package keeps a record of temporary installation path
install for x64
* installing *source* package 'ENCODExplorer' ...
** testing if installed package can be loaded
* MD5 sums
packaged installation of 'ENCODExplorer' as ENCODExplorer_2.9.0.zip
* DONE (ENCODExplorer)