| Back to Multiple platform build/check report for BioC 3.9 |
|
This page was generated on 2019-04-09 11:59:44 -0400 (Tue, 09 Apr 2019).
| Package 476/1703 | Hostname | OS / Arch | INSTALL | BUILD | CHECK | BUILD BIN | ||||||
| EDASeq 2.17.4 Davide Risso
| malbec2 | Linux (Ubuntu 18.04.2 LTS) / x86_64 | OK | OK | OK | |||||||
| tokay2 | Windows Server 2012 R2 Standard / x64 | OK | OK | OK | [ OK ] | |||||||
| celaya2 | OS X 10.11.6 El Capitan / x86_64 | OK | OK | OK | OK | |||||||
| merida2 | OS X 10.11.6 El Capitan / x86_64 | OK | OK | OK | OK |
| Package: EDASeq |
| Version: 2.17.4 |
| Command: rm -rf EDASeq.buildbin-libdir && mkdir EDASeq.buildbin-libdir && C:\Users\biocbuild\bbs-3.9-bioc\R\bin\R.exe CMD INSTALL --merge-multiarch --build --library=EDASeq.buildbin-libdir EDASeq_2.17.4.tar.gz |
| StartedAt: 2019-04-09 07:50:22 -0400 (Tue, 09 Apr 2019) |
| EndedAt: 2019-04-09 07:51:24 -0400 (Tue, 09 Apr 2019) |
| EllapsedTime: 61.9 seconds |
| RetCode: 0 |
| Status: OK |
| PackageFile: EDASeq_2.17.4.zip |
| PackageFileSize: 1.119 MiB |
##############################################################################
##############################################################################
###
### Running command:
###
### rm -rf EDASeq.buildbin-libdir && mkdir EDASeq.buildbin-libdir && C:\Users\biocbuild\bbs-3.9-bioc\R\bin\R.exe CMD INSTALL --merge-multiarch --build --library=EDASeq.buildbin-libdir EDASeq_2.17.4.tar.gz
###
##############################################################################
##############################################################################
install for i386
* installing *source* package 'EDASeq' ...
** R
** data
** inst
** byte-compile and prepare package for lazy loading
** help
*** installing help indices
converting help for package 'EDASeq'
finding HTML links ... done
EDASeq-package html
finding level-2 HTML links ... done
MDPlot-methods html
SeqExpressionSet-class html
barplot-methods html
betweenLaneNormalization-methods html
biasBoxplot-methods html
biasPlot-methods html
boxplot-methods html
getGeneLengthAndGCContent html
meanVarPlot-methods html
newSeqExpressionSet html
plot-methods html
plotNtFrequency-methods html
plotPCA-methods html
plotQuality-methods html
plotRLE-methods html
withinLaneNormalization-methods html
yeastGC html
yeastLength html
** building package indices
** installing vignettes
** testing if installed package can be loaded from temporary location
** testing if installed package can be loaded from final location
** testing if installed package keeps a record of temporary installation path
install for x64
* installing *source* package 'EDASeq' ...
** testing if installed package can be loaded
* MD5 sums
packaged installation of 'EDASeq' as EDASeq_2.17.4.zip
* DONE (EDASeq)