| Back to Multiple platform build/check report for BioC 3.9 |
|
This page was generated on 2019-04-09 11:53:08 -0400 (Tue, 09 Apr 2019).
| Package 466/1703 | Hostname | OS / Arch | INSTALL | BUILD | CHECK | BUILD BIN | ||||||
| DynDoc 1.61.0 Bioconductor Package Maintainer
| malbec2 | Linux (Ubuntu 18.04.2 LTS) / x86_64 | OK | OK | OK | |||||||
| tokay2 | Windows Server 2012 R2 Standard / x64 | [ OK ] | OK | OK | OK | |||||||
| celaya2 | OS X 10.11.6 El Capitan / x86_64 | OK | OK | OK | OK | |||||||
| merida2 | OS X 10.11.6 El Capitan / x86_64 | OK | OK | OK | OK |
| Package: DynDoc |
| Version: 1.61.0 |
| Command: C:\cygwin\bin\curl.exe -O https://malbec2.bioconductor.org/BBS/3.9/bioc/src/contrib/DynDoc_1.61.0.tar.gz && rm -rf DynDoc.buildbin-libdir && mkdir DynDoc.buildbin-libdir && C:\Users\biocbuild\bbs-3.9-bioc\R\bin\R.exe CMD INSTALL --merge-multiarch --build --library=DynDoc.buildbin-libdir DynDoc_1.61.0.tar.gz && C:\Users\biocbuild\bbs-3.9-bioc\R\bin\R.exe CMD INSTALL DynDoc_1.61.0.zip && rm DynDoc_1.61.0.tar.gz DynDoc_1.61.0.zip |
| StartedAt: 2019-04-08 18:27:35 -0400 (Mon, 08 Apr 2019) |
| EndedAt: 2019-04-08 18:28:11 -0400 (Mon, 08 Apr 2019) |
| EllapsedTime: 35.9 seconds |
| RetCode: 0 |
| Status: OK |
##############################################################################
##############################################################################
###
### Running command:
###
### C:\cygwin\bin\curl.exe -O https://malbec2.bioconductor.org/BBS/3.9/bioc/src/contrib/DynDoc_1.61.0.tar.gz && rm -rf DynDoc.buildbin-libdir && mkdir DynDoc.buildbin-libdir && C:\Users\biocbuild\bbs-3.9-bioc\R\bin\R.exe CMD INSTALL --merge-multiarch --build --library=DynDoc.buildbin-libdir DynDoc_1.61.0.tar.gz && C:\Users\biocbuild\bbs-3.9-bioc\R\bin\R.exe CMD INSTALL DynDoc_1.61.0.zip && rm DynDoc_1.61.0.tar.gz DynDoc_1.61.0.zip
###
##############################################################################
##############################################################################
% Total % Received % Xferd Average Speed Time Time Time Current
Dload Upload Total Spent Left Speed
0 0 0 0 0 0 0 0 --:--:-- --:--:-- --:--:-- 0
100 11208 100 11208 0 0 185k 0 --:--:-- --:--:-- --:--:-- 210k
install for i386
* installing *source* package 'DynDoc' ...
** R
** byte-compile and prepare package for lazy loading
** help
*** installing help indices
converting help for package 'DynDoc'
finding HTML links ... done
DynDoc-class html
SweaveOptions-class html
Vignette-class html
chunkList-class html
codeChunk-class html
getPkgVigList html
getVignette html
getVignetteCode html
getVignetteHeader html
tangleToR html
vignetteCode-class html
** building package indices
** testing if installed package can be loaded from temporary location
** testing if installed package can be loaded from final location
** testing if installed package keeps a record of temporary installation path
install for x64
* installing *source* package 'DynDoc' ...
** testing if installed package can be loaded
* MD5 sums
packaged installation of 'DynDoc' as DynDoc_1.61.0.zip
* DONE (DynDoc)
* installing to library 'C:/Users/biocbuild/bbs-3.9-bioc/R/library'
package 'DynDoc' successfully unpacked and MD5 sums checked