| Back to Multiple platform build/check report for BioC 3.9 |
|
This page was generated on 2019-04-09 11:48:21 -0400 (Tue, 09 Apr 2019).
| Package 288/1703 | Hostname | OS / Arch | INSTALL | BUILD | CHECK | BUILD BIN | ||||||
| ClusterJudge 1.5.0 Adrian Pasculescu
| malbec2 | Linux (Ubuntu 18.04.2 LTS) / x86_64 | OK | OK | [ OK ] | |||||||
| tokay2 | Windows Server 2012 R2 Standard / x64 | OK | OK | OK | OK | |||||||
| celaya2 | OS X 10.11.6 El Capitan / x86_64 | OK | ERROR | skipped | skipped | |||||||
| merida2 | OS X 10.11.6 El Capitan / x86_64 | OK | OK | OK | OK |
| Package: ClusterJudge |
| Version: 1.5.0 |
| Command: /home/biocbuild/bbs-3.9-bioc/R/bin/R CMD check --install=check:ClusterJudge.install-out.txt --library=/home/biocbuild/bbs-3.9-bioc/R/library --no-vignettes --timings ClusterJudge_1.5.0.tar.gz |
| StartedAt: 2019-04-08 23:31:11 -0400 (Mon, 08 Apr 2019) |
| EndedAt: 2019-04-08 23:34:57 -0400 (Mon, 08 Apr 2019) |
| EllapsedTime: 225.8 seconds |
| RetCode: 0 |
| Status: OK |
| CheckDir: ClusterJudge.Rcheck |
| Warnings: 0 |
##############################################################################
##############################################################################
###
### Running command:
###
### /home/biocbuild/bbs-3.9-bioc/R/bin/R CMD check --install=check:ClusterJudge.install-out.txt --library=/home/biocbuild/bbs-3.9-bioc/R/library --no-vignettes --timings ClusterJudge_1.5.0.tar.gz
###
##############################################################################
##############################################################################
* using log directory ‘/home/biocbuild/bbs-3.9-bioc/meat/ClusterJudge.Rcheck’
* using R Under development (unstable) (2019-03-18 r76245)
* using platform: x86_64-pc-linux-gnu (64-bit)
* using session charset: UTF-8
* using option ‘--no-vignettes’
* checking for file ‘ClusterJudge/DESCRIPTION’ ... OK
* checking extension type ... Package
* this is package ‘ClusterJudge’ version ‘1.5.0’
* checking package namespace information ... OK
* checking package dependencies ... OK
* checking if this is a source package ... OK
* checking if there is a namespace ... OK
* checking for hidden files and directories ... OK
* checking for portable file names ... OK
* checking for sufficient/correct file permissions ... OK
* checking whether package ‘ClusterJudge’ can be installed ... OK
* checking installed package size ... OK
* checking package directory ... OK
* checking ‘build’ directory ... OK
* checking DESCRIPTION meta-information ... OK
* checking top-level files ... OK
* checking for left-over files ... OK
* checking index information ... OK
* checking package subdirectories ... OK
* checking R files for non-ASCII characters ... OK
* checking R files for syntax errors ... OK
* checking whether the package can be loaded ... OK
* checking whether the package can be loaded with stated dependencies ... OK
* checking whether the package can be unloaded cleanly ... OK
* checking whether the namespace can be loaded with stated dependencies ... OK
* checking whether the namespace can be unloaded cleanly ... OK
* checking dependencies in R code ... OK
* checking S3 generic/method consistency ... OK
* checking replacement functions ... OK
* checking foreign function calls ... OK
* checking R code for possible problems ... OK
* checking Rd files ... OK
* checking Rd metadata ... OK
* checking Rd cross-references ... OK
* checking for missing documentation entries ... OK
* checking for code/documentation mismatches ... OK
* checking Rd \usage sections ... OK
* checking Rd contents ... OK
* checking for unstated dependencies in examples ... OK
* checking contents of ‘data’ directory ... OK
* checking data for non-ASCII characters ... OK
* checking data for ASCII and uncompressed saves ... OK
* checking files in ‘vignettes’ ... OK
* checking examples ... OK
Examples with CPU or elapsed time > 5s
user system elapsed
consolidate_entity_attribute 70.164 0.427 71.228
clusterJudge 63.147 0.704 63.926
clusterJudge_z_score 45.094 0.348 46.016
convert_Yeast_SGDId_2_systematic 0.175 0.007 5.769
* checking for unstated dependencies in ‘tests’ ... OK
* checking tests ...
Running ‘testthat.R’
OK
* checking for unstated dependencies in vignettes ... OK
* checking package vignettes in ‘inst/doc’ ... OK
* checking running R code from vignettes ... SKIPPED
* checking re-building of vignette outputs ... SKIPPED
* checking PDF version of manual ... OK
* DONE
Status: OK
ClusterJudge.Rcheck/00install.out
############################################################################## ############################################################################## ### ### Running command: ### ### /home/biocbuild/bbs-3.9-bioc/R/bin/R CMD INSTALL ClusterJudge ### ############################################################################## ############################################################################## * installing to library ‘/home/biocbuild/bbs-3.9-bioc/R/library’ * installing *source* package ‘ClusterJudge’ ... ** using staged installation ** R ** data *** moving datasets to lazyload DB ** byte-compile and prepare package for lazy loading ** help *** installing help indices ** building package indices ** installing vignettes ** testing if installed package can be loaded from temporary location ** testing if installed package can be loaded from final location ** testing if installed package keeps a record of temporary installation path * DONE (ClusterJudge)
ClusterJudge.Rcheck/tests/testthat.Rout
R Under development (unstable) (2019-03-18 r76245) -- "Unsuffered Consequences"
Copyright (C) 2019 The R Foundation for Statistical Computing
Platform: x86_64-pc-linux-gnu (64-bit)
R is free software and comes with ABSOLUTELY NO WARRANTY.
You are welcome to redistribute it under certain conditions.
Type 'license()' or 'licence()' for distribution details.
R is a collaborative project with many contributors.
Type 'contributors()' for more information and
'citation()' on how to cite R or R packages in publications.
Type 'demo()' for some demos, 'help()' for on-line help, or
'help.start()' for an HTML browser interface to help.
Type 'q()' to quit R.
> library(testthat)
> library(ClusterJudge)
Loading required package: infotheo
Loading required package: lattice
Loading required package: latticeExtra
Loading required package: RColorBrewer
Loading required package: httr
Loading required package: jsonlite
>
> test_check("ClusterJudge")
══ testthat results ═══════════════════════════════════════════════════════════
OK: 2 SKIPPED: 0 FAILED: 0
>
> proc.time()
user system elapsed
0.625 0.037 0.649
ClusterJudge.Rcheck/ClusterJudge-Ex.timings
| name | user | system | elapsed | |
| Yeast.GO.assocs | 0.041 | 0.003 | 0.045 | |
| attribute_mut_inf | 1.936 | 0.060 | 1.999 | |
| clusterJudge | 63.147 | 0.704 | 63.926 | |
| clusterJudge_z_score | 45.094 | 0.348 | 46.016 | |
| consolidate_entity_attribute | 70.164 | 0.427 | 71.228 | |
| convert_Yeast_SGDId_2_systematic | 0.175 | 0.007 | 5.769 | |
| download_Yeast_GO_mapping | 3.889 | 0.016 | 4.894 | |
| download_Yeast_Go_terms | 0.822 | 0.024 | 2.140 | |
| entities_attribute_stats | 0.145 | 0.000 | 0.145 | |
| mi.GO.Yeast | 0.833 | 0.020 | 0.854 | |
| validate_association | 0.210 | 0.000 | 0.209 | |